BEGIN:VCALENDAR
VERSION:2.0
PRODID:-//Bergkerk Deventer - ECPv6.15.11//NONSGML v1.0//EN
CALSCALE:GREGORIAN
METHOD:PUBLISH
X-WR-CALNAME:Bergkerk Deventer
X-ORIGINAL-URL:https://bergkerkdeventer.nl
X-WR-CALDESC:Evenementen voor Bergkerk Deventer
REFRESH-INTERVAL;VALUE=DURATION:PT1H
X-Robots-Tag:noindex
X-PUBLISHED-TTL:PT1H
BEGIN:VTIMEZONE
TZID:Europe/Amsterdam
BEGIN:DAYLIGHT
TZOFFSETFROM:+0100
TZOFFSETTO:+0200
TZNAME:CEST
DTSTART:20250330T010000
END:DAYLIGHT
BEGIN:STANDARD
TZOFFSETFROM:+0200
TZOFFSETTO:+0100
TZNAME:CET
DTSTART:20251026T010000
END:STANDARD
BEGIN:DAYLIGHT
TZOFFSETFROM:+0100
TZOFFSETTO:+0200
TZNAME:CEST
DTSTART:20260329T010000
END:DAYLIGHT
BEGIN:STANDARD
TZOFFSETFROM:+0200
TZOFFSETTO:+0100
TZNAME:CET
DTSTART:20261025T010000
END:STANDARD
BEGIN:DAYLIGHT
TZOFFSETFROM:+0100
TZOFFSETTO:+0200
TZNAME:CEST
DTSTART:20270328T010000
END:DAYLIGHT
BEGIN:STANDARD
TZOFFSETFROM:+0200
TZOFFSETTO:+0100
TZNAME:CET
DTSTART:20271031T010000
END:STANDARD
END:VTIMEZONE
BEGIN:VEVENT
DTSTART;TZID=Europe/Amsterdam:20260423T200000
DTEND;TZID=Europe/Amsterdam:20260423T213000
DTSTAMP:20260423T122920
CREATED:20251106T174323Z
LAST-MODIFIED:20260218T213146Z
UID:10000287-1776974400-1776979800@bergkerkdeventer.nl
SUMMARY:Concertlezing Christien Brinkgreve & Marcel Worms - 'Beladen huis'
DESCRIPTION:Entree € 10 / 20 / 30  ||  Klik hier voor ticketverkoop\n\n\n\n \n\n\n\nEen bijzondere avond waarin woord en muziek elkaar versterken. Socioloog en schrijver Christien Brinkgreve leest voor uit haar veelbesproken boek Beladen huis\, waarin ze onderzoekt hoe de verhalen en trauma’s van vorige generaties doorwerken in het heden. \n\n\n\nDe lezing wordt afgewisseld en verdiept door bijpassende pianomuziek\, gespeeld door Marcel Worms. Zijn muzikale intermezzo’s van onder anderen Bach\, Brahms\, Janáček\, Liszt\, Mompou en Schumann resoneren met de thematiek van verlies\, overlevering en veerkracht. \n\n\n\nEen bijzondere avond waarin taal en klank elkaar ontmoeten en versterken. \n\n\n\n \n\n\n\nN.B. omdat wij het belangrijk vinden dat onze evenementen voor iedereen toegankelijk zijn bieden wij verschillende tickets aan. Als uw financiële situatie daarom vraagt kunt u gebruik maken van het ‘Smalle beurs ticket’\, dit doen wij op basis van vertrouwen dus u hoeft niets aan te tonen of te overleggen hieromtrent. Voor mensen die een extra bijdrage willen leveren om dit mogelijk te maken is er het ‘Donatie ticket’\, hiermee helpt u ons om dit evenement maximaal toegankelijk te maken voor iedereen. \n\n\n\nBoek Beladen huis\n\n\n\nBeladen huis is het relaas van een vrouw na het overlijden van haar man. Na zijn dood dringt tot haar door dat hun huis overwoekerd is geraakt met spullen en zwaarmoedigheid. Terwijl zij de kamers opruimt\, ontstaat langzaam weer ruimte in haar gevoelens voor hem. Ze wil terugvinden hoe hij ooit was\, hoe zij ooit was en begrijpen waarom hun leven samen is gelopen zoals het is gelopen. Herinneringen komen terug\, de doorwerking van het verleden wordt zichtbaar\, materiële en psychische verwerking gaan hand in hand. Beladen huis is een moedige memoir over de ruimte die je inneemt in een relatie\, in een gezin\, in de maatschappij\, als moeder en als vrouw\, over eenzaamheid\, angst en de keuzes die we maken uit liefde. \n\n\n\nPROGRAMMA CONCERTLEZING  \n\n\n\n1.Leos Janácek (1854 – 1928) \n\n\n\nUit ‘Op een overwoekerd pad’(1908) \n\n\n\n-Onze avonden \n\n\n\n-In tranen \n\n\n\n2.Carl Philipp Emanuel Bach (1714 – 1788) \n\n\n\nUit ‘Die sechs Sammlungen für Kenner und Liebhaber’ \n\n\n\n-Rondo in c kl.t. \n\n\n\n3.Robert Schumann (1810 – 1856) \n\n\n\nUit Waldszenen op.82 (1848/49) \n\n\n\n-Verrufene Stelle \n\n\n\n4.Franz Liszt (1811 – 1886) \n\n\n\n-La lugubre Gondola I \n\n\n\nP A U Z E  \n\n\n\n5.Johannes Brahms (1833 – 1897)  \n\n\n\nUit Klavierstücke op.119 (1892) \n\n\n\n-nr.1: Intermezzo \n\n\n\n6.J.S.Bach (1685 – 1750) \n\n\n\nUit Das Wohltemperierte Klavier boek I \n\n\n\n-Prelude en Fuga in C gr.t. BWV 846 \n\n\n\n7.Robert Schumann   \n\n\n\nUit Waldszenen op.82 \n\n\n\n-Abschied \n\n\n\n8.J.S.Bach \n\n\n\nUit de Goldbergvariaties BWV 988 \n\n\n\n-nr.25: Adagio \n\n\n\n9.Federico Mompou (1893 – 1987) \n\n\n\nUit Impresiones intimas \n\n\n\n-Secreto \n\n\n\n \n\n\n\nDe concertlezing vindt plaats in het kader van de Deventer-maandvandefilosofie 2026 met als landelijk thema ‘ken onszelf’  (www.maandvandefilosofie.nl/thema) en wordt georganiseerd in samenwerking met Filosoferen in Deventer (www.filosoferenindeventer.nl) en boekhandel Praamstra (www.boekhandelpraamstra.nl). \n\n\n\n \n\n\n\nEntree € 10 / 20 / 30  ||  Klik hier voor ticketverkoop\n\n\n\n \n\n\n\nN.B. omdat wij het belangrijk vinden dat onze evenementen voor iedereen toegankelijk zijn bieden wij verschillende tickets aan. Als uw financiële situatie daarom vraagt kunt u gebruik maken van het ‘Smalle beurs ticket’\, dit doen wij op basis van vertrouwen dus u hoeft niets aan te tonen of te overleggen hieromtrent. Voor mensen die een extra bijdrage willen leveren om dit mogelijk te maken is er het ‘Donatie ticket’\, hiermee helpt u ons om dit evenement maximaal toegankelijk te maken voor iedereen.
URL:https://bergkerkdeventer.nl/evenement/christien-brinkgreve-marcel-worms-beladen-huis/
CATEGORIES:Maand van de Filosofie
ATTACH;FMTTYPE=image/png:/wp-content/uploads/2025/11/christienmarcel.png
ORGANIZER;CN="Events dEVENTer | Bergkerk":MAILTO:bergkerk@eventsdeventer.nl
END:VEVENT
END:VCALENDAR