BEGIN:VCALENDAR
VERSION:2.0
PRODID:-//Bergkerk Deventer - ECPv6.15.11//NONSGML v1.0//EN
CALSCALE:GREGORIAN
METHOD:PUBLISH
X-WR-CALNAME:Bergkerk Deventer
X-ORIGINAL-URL:https://bergkerkdeventer.nl
X-WR-CALDESC:Evenementen voor Bergkerk Deventer
REFRESH-INTERVAL;VALUE=DURATION:PT1H
X-Robots-Tag:noindex
X-PUBLISHED-TTL:PT1H
BEGIN:VTIMEZONE
TZID:Europe/Amsterdam
BEGIN:DAYLIGHT
TZOFFSETFROM:+0100
TZOFFSETTO:+0200
TZNAME:CEST
DTSTART:20220327T010000
END:DAYLIGHT
BEGIN:STANDARD
TZOFFSETFROM:+0200
TZOFFSETTO:+0100
TZNAME:CET
DTSTART:20221030T010000
END:STANDARD
BEGIN:DAYLIGHT
TZOFFSETFROM:+0100
TZOFFSETTO:+0200
TZNAME:CEST
DTSTART:20230326T010000
END:DAYLIGHT
BEGIN:STANDARD
TZOFFSETFROM:+0200
TZOFFSETTO:+0100
TZNAME:CET
DTSTART:20231029T010000
END:STANDARD
BEGIN:DAYLIGHT
TZOFFSETFROM:+0100
TZOFFSETTO:+0200
TZNAME:CEST
DTSTART:20240331T010000
END:DAYLIGHT
BEGIN:STANDARD
TZOFFSETFROM:+0200
TZOFFSETTO:+0100
TZNAME:CET
DTSTART:20241027T010000
END:STANDARD
END:VTIMEZONE
BEGIN:VEVENT
DTSTART;TZID=Europe/Amsterdam:20231015T080000
DTEND;TZID=Europe/Amsterdam:20231015T093000
DTSTAMP:20260425T055846
CREATED:20230928T143103Z
LAST-MODIFIED:20231003T143932Z
UID:10000135-1697356800-1697362200@bergkerkdeventer.nl
SUMMARY:Yoga op zondagochtend
DESCRIPTION:Melanie Gerbers van Omikami Yoga verzorgt een Hatha Yoga les op een wel heel bijzondere locatie\, namelijk in de Bergkerk! Hatha Yoga is een traditionele yogastijl die je leert om je lichaam en je ademhaling te beheersen. Ook wisselt inspanning en ontspanning elkaar af. Iedereen is welkom en ervaring is niet nodig. \n\n\n\nVergeet niet jouw Brekkie op een Hanze Plekkie voor na de yoga te reserveren! \n\n\n\nInformatie: \n\n\n\n\n15 oktober\, inloop 8.00 uur\, les van 8.15-9.30 uur\n\n\n\nEntree: gratis\n\n\n\nNeem je eigen yogamatje mee en eventueel een dekentje voor de eindontspanning.\n\n\n\nKom op tijd\, vol=vol!
URL:https://bergkerkdeventer.nl/evenement/yoga-op-zondagochtend/
CATEGORIES:24 uur Hanze
ATTACH;FMTTYPE=image/jpeg:/wp-content/uploads/2023/09/Bergkw-1.jpg
ORGANIZER;CN="Hanzejaar 2023 Deventer":MAILTO:https://www.deventer.info/hanzejaar2023/programma/24uur-hanze/
END:VEVENT
BEGIN:VEVENT
DTSTART;TZID=Europe/Amsterdam:20231014T190000
DTEND;TZID=Europe/Amsterdam:20231014T223000
DTSTAMP:20260425T055846
CREATED:20230925T150025Z
LAST-MODIFIED:20230928T143714Z
UID:10000134-1697310000-1697322600@bergkerkdeventer.nl
SUMMARY:Bergkerk wordt Danskerk!
DESCRIPTION:De Bergkerk\, een prachtige\, Romaanse kruisbasiliek\, is in de bloeitijd van de Hanzestad gesticht en werd aan Sint-Nicolaas gewijd\, de beschermheilige van de schippers. Tijdens de 24-uur Hanze schudt de Bergkerk op haar grondvesten… als ze transformeert tot Danskerk! \n\n\n\n\n\n\n\nLocatie: Bergkerk \n\n\n\n– 19.00-19.30 uur – ABS Jazz Bathmen – Deze dansgroep laat een blokje zien met nummers uit de populaire Barbie-film. De dansen worden met veel plezier uitgevoerd door meiden tussen de 6 en 25 jaar oud.– 19.45-20.00 uur – DanZo Veelzijdig – 3 groepen\, 3 leeftijden\, 3 stijlen\, 3 docenten – Kidsdance / Modern / Hip Hop Van een vrolijke kinderdans naar een indrukwekkende moderne choreografie tot aan stoere hiphop… alles kom je tegen tijdens deze veelzijdige uitvoering!– 20.15-20.45 uur – Base4Dance – Flow – Water vloeit door de negen Hanzesteden\, verbindt verleden en heden\, stroomt in alle richtingen. De groei van Deventer in de Hanzetijd leeft voort. Dansers van Base4Dance brengen deze geschiedenis tot leven in de choreografie ‘Flow\, waarin samenwerking en diversiteit samenkomen.– 21.00-21.30 uur – Sheila’s Buikdanscentrum – Raqs Sharki – Een vrouw zonder buik is als een hemel zonder sterren.– 21.45-22.15 uur – !MPACT – Over Grenzen XS & Bubbels XS – !MPACT is een modern dansgezelschap dat dans betekenisvol maakt. Met dans als taal wil !MPACT vertellen wat in woorden soms moeilijk te vangen is. \n\n\n\nOver Grenzen XS: gedanst door !MPACT Een stukje uit de voorstelling TEGENWIND. Vluchten uit een land waar je niet meer veilig bent. \n\n\n\nBubbels XS: gedanst door junior !MPACT Een stuk uit de voorstelling die gaat over de ‘verbubbeling’ van de samenleving \n\n\n\nInformatie: \n\n\n\n\n14 oktober\, 19.00-22.15 uur\n\n\n\nEntree: gratis
URL:https://bergkerkdeventer.nl/evenement/bergkerk-wordt-danskerk/
CATEGORIES:24 uur Hanze
ATTACH;FMTTYPE=image/jpeg:/wp-content/uploads/2023/09/Bergkerk-scaled.jpg
ORGANIZER;CN="Hanzejaar 2023 Deventer":MAILTO:https://www.deventer.info/hanzejaar2023/programma/24uur-hanze/
END:VEVENT
END:VCALENDAR