BEGIN:VCALENDAR
VERSION:2.0
PRODID:-//Bergkerk Deventer - ECPv6.15.11//NONSGML v1.0//EN
CALSCALE:GREGORIAN
METHOD:PUBLISH
X-WR-CALNAME:Bergkerk Deventer
X-ORIGINAL-URL:https://bergkerkdeventer.nl
X-WR-CALDESC:Evenementen voor Bergkerk Deventer
REFRESH-INTERVAL;VALUE=DURATION:PT1H
X-Robots-Tag:noindex
X-PUBLISHED-TTL:PT1H
BEGIN:VTIMEZONE
TZID:Europe/Amsterdam
BEGIN:DAYLIGHT
TZOFFSETFROM:+0100
TZOFFSETTO:+0200
TZNAME:CEST
DTSTART:20220327T010000
END:DAYLIGHT
BEGIN:STANDARD
TZOFFSETFROM:+0200
TZOFFSETTO:+0100
TZNAME:CET
DTSTART:20221030T010000
END:STANDARD
BEGIN:DAYLIGHT
TZOFFSETFROM:+0100
TZOFFSETTO:+0200
TZNAME:CEST
DTSTART:20230326T010000
END:DAYLIGHT
BEGIN:STANDARD
TZOFFSETFROM:+0200
TZOFFSETTO:+0100
TZNAME:CET
DTSTART:20231029T010000
END:STANDARD
BEGIN:DAYLIGHT
TZOFFSETFROM:+0100
TZOFFSETTO:+0200
TZNAME:CEST
DTSTART:20240331T010000
END:DAYLIGHT
BEGIN:STANDARD
TZOFFSETFROM:+0200
TZOFFSETTO:+0100
TZNAME:CET
DTSTART:20241027T010000
END:STANDARD
END:VTIMEZONE
BEGIN:VEVENT
DTSTART;TZID=Europe/Amsterdam:20230621T213000
DTEND;TZID=Europe/Amsterdam:20230622T073000
DTSTAMP:20260422T032035
CREATED:20230418T141036Z
LAST-MODIFIED:20230616T144415Z
UID:10000103-1687383000-1687419000@bergkerkdeventer.nl
SUMMARY:Beleven van zonsondergang tot zonsopgang
DESCRIPTION:Dit effect is alleen te zien in de hele vroege ochtend. Wil je dat meemaken? \n\n\n\nBeleef dan de BergkerkDeventer van zonsondergang tot zonsopgang. \n\n\n\nLoop begin van de nacht met veel aandacht door de kerk onder begeleiding van Onno Varekamp – Yoga & Meditation. Sta met elkaar stil en zie\, hoor en voel de ziel van de Bergkerk. Val daarna in slaap in de betoverende omgeving van de kerk. Begroet de opkomende dag met een klankconcert door Veronika Simonett en Carla Thierry. Een meditatieve ervaring\, muzikaal omlijst door onder andere kalimba\, ocean drum\, windgongen\, alt-dwarsfluit en stem. \n\n\n\n> Woensdag 21 juni – 21:30 uur tot donderdag 22 juni – 7:30 uur < \n\n\n\n> € 10\,00 (drinken aanwezig\, eten graag zelf meenemen) < \n\n\n\nBijdrage € 10\,00 / Klik hier voor ticketverkoop
URL:https://bergkerkdeventer.nl/evenement/beleven-van-zonsondergang-tot-zonsopgang/
CATEGORIES:Activiteit
ATTACH;FMTTYPE=image/jpeg:/wp-content/uploads/2023/04/ochtendlichtklein.jpg
ORGANIZER;CN="Sibyl Heijnen":MAILTO:info@sibylheijnen.com
END:VEVENT
END:VCALENDAR