BEGIN:VCALENDAR
VERSION:2.0
PRODID:-//Bergkerk Deventer - ECPv6.15.11//NONSGML v1.0//EN
CALSCALE:GREGORIAN
METHOD:PUBLISH
X-ORIGINAL-URL:https://bergkerkdeventer.nl
X-WR-CALDESC:Evenementen voor Bergkerk Deventer
REFRESH-INTERVAL;VALUE=DURATION:PT1H
X-Robots-Tag:noindex
X-PUBLISHED-TTL:PT1H
BEGIN:VTIMEZONE
TZID:Europe/Amsterdam
BEGIN:DAYLIGHT
TZOFFSETFROM:+0100
TZOFFSETTO:+0200
TZNAME:CEST
DTSTART:20250330T010000
END:DAYLIGHT
BEGIN:STANDARD
TZOFFSETFROM:+0200
TZOFFSETTO:+0100
TZNAME:CET
DTSTART:20251026T010000
END:STANDARD
BEGIN:DAYLIGHT
TZOFFSETFROM:+0100
TZOFFSETTO:+0200
TZNAME:CEST
DTSTART:20260329T010000
END:DAYLIGHT
BEGIN:STANDARD
TZOFFSETFROM:+0200
TZOFFSETTO:+0100
TZNAME:CET
DTSTART:20261025T010000
END:STANDARD
BEGIN:DAYLIGHT
TZOFFSETFROM:+0100
TZOFFSETTO:+0200
TZNAME:CEST
DTSTART:20270328T010000
END:DAYLIGHT
BEGIN:STANDARD
TZOFFSETFROM:+0200
TZOFFSETTO:+0100
TZNAME:CET
DTSTART:20271031T010000
END:STANDARD
END:VTIMEZONE
BEGIN:VEVENT
DTSTART;TZID=Europe/Amsterdam:20260131T100000
DTEND;TZID=Europe/Amsterdam:20260131T160000
DTSTAMP:20260425T160642
CREATED:20231003T135240Z
LAST-MODIFIED:20251125T222129Z
UID:10000137-1769853600-1769875200@bergkerkdeventer.nl
SUMMARY:"Boeken in de Bergkerk 2026"
DESCRIPTION:Deventer profileert zich al jaren succesvol als boekenstad. Haar eeuwenlange geschiedenis als stad van boekdrukkers\, uitgevers\, schrijvers en boekverkopers is bij velen bekend. En in moderne tijden zijn de vele boekgerelateerde evenementen niet meer uit de boekenwereld weg te denken: de legendarische boekenmarkt in augustus\, het Woordwaardefestival\, de vele drukbezochte activiteiten rondom de Boekenweek en de Kinderboekenweek en natuurlijk de jaarlijkse boekenbeurs Boeken in de Bergkerk. \n\n\n\nDe eerste boekenbeurs van het seizoen opent het nieuwe boekenjaar met 50 deelnemers uit het hele land\, die hun mooiste\, zeldzaamste of hun meest bijzondere boeken en prenten ter verkoop aanbieden. Uiteraard zijn alle Deventer antiquaren vertegenwoordigd en zijn hun winkels de hele dag voor u open.
URL:https://bergkerkdeventer.nl/evenement/boeken-in-de-bergkerk/
CATEGORIES:Antiquarische boekenmarkt
ATTACH;FMTTYPE=image/png:/wp-content/uploads/2023/10/boeken.png
ORGANIZER;CN="Stichting Deventer Antiquariaten":MAILTO:praastinkwessels@gmail.com
END:VEVENT
END:VCALENDAR