BEGIN:VCALENDAR
VERSION:2.0
PRODID:-//Bergkerk Deventer - ECPv6.15.11//NONSGML v1.0//EN
CALSCALE:GREGORIAN
METHOD:PUBLISH
X-ORIGINAL-URL:https://bergkerkdeventer.nl
X-WR-CALDESC:Evenementen voor Bergkerk Deventer
REFRESH-INTERVAL;VALUE=DURATION:PT1H
X-Robots-Tag:noindex
X-PUBLISHED-TTL:PT1H
BEGIN:VTIMEZONE
TZID:Europe/Amsterdam
BEGIN:DAYLIGHT
TZOFFSETFROM:+0100
TZOFFSETTO:+0200
TZNAME:CEST
DTSTART:20220327T010000
END:DAYLIGHT
BEGIN:STANDARD
TZOFFSETFROM:+0200
TZOFFSETTO:+0100
TZNAME:CET
DTSTART:20221030T010000
END:STANDARD
BEGIN:DAYLIGHT
TZOFFSETFROM:+0100
TZOFFSETTO:+0200
TZNAME:CEST
DTSTART:20230326T010000
END:DAYLIGHT
BEGIN:STANDARD
TZOFFSETFROM:+0200
TZOFFSETTO:+0100
TZNAME:CET
DTSTART:20231029T010000
END:STANDARD
BEGIN:DAYLIGHT
TZOFFSETFROM:+0100
TZOFFSETTO:+0200
TZNAME:CEST
DTSTART:20240331T010000
END:DAYLIGHT
BEGIN:STANDARD
TZOFFSETFROM:+0200
TZOFFSETTO:+0100
TZNAME:CET
DTSTART:20241027T010000
END:STANDARD
END:VTIMEZONE
BEGIN:VEVENT
DTSTART;TZID=Europe/Amsterdam:20231006T200000
DTEND;TZID=Europe/Amsterdam:20231006T210000
DTSTAMP:20260425T045559
CREATED:20230613T142628Z
LAST-MODIFIED:20230721T150739Z
UID:10000110-1696622400-1696626000@bergkerkdeventer.nl
SUMMARY:Mikail Aslan Ensemble
DESCRIPTION:Entree € 15\,00 / Klik hier voor ticketverkoop\n\n\n\n \n\n\n\nMikail Aslan\, geboren in 1972 te Dersim\, is een Koerdische zanger en muzikant uit Turkije. In Turkije heeft hij gewerkt met de meest beroemde Turkse Koerdische muzikanten en heeft hij met zijn muziekgroep zijn eigen liedjes samengesteld. Om politieke redenen vluchtte hij in 1994 uit Turkije en emigreerde naar Duitsland. In Duitsland is Mikail Aslan doorgegaan met zijn activiteiten als muzikant. In 1998 bracht hij in zijn moedertaal Zazaki zijn eerste solo album ‘Agêreyis’ uit. In 2000 richtte hij samen met Dieter Schalzried en Michael Weil de Mikail Aslan Ensemble op. Originele composities en traditionele stukken uit het vaderland van Mikail Aslan vormden de muzikale basis. In 2001 begon Mikail zijn studie instrumentale leraar Gitaar en Saxofoon aan de Peter- Cornelius-Conservatorium in Mainz\, die hij in 2005 voltooide. Een hoogtepunt van zijn werk was een uitgebreide ensemble concert met het Symfonieorkest van de Peter Cornelius Conservatorium in de première van de Symfonie nr.5 ‘Connections’ door Gerhard Fischer-Münster op 20 april 2005. De symfonie was met het stuk ‘Remayisê Munzuri’ (Vlucht van Munzur) van Mikail Aslan samengesteld en combineert traditionele anatolische muziek met de moderne versie van Mikail Aslan Ensembles en de geluiden van Europese symfonieorkesten. Daarnaast componeerde en speelde Mikail Aslan de muziek voor twee documentaire films over Anatolië. Zijn achtste album ‘Venge Royi’ is in mei 2015 uitgebracht. Zowel de muziek als de tekst is afkomstig van de Koerdisch-Nijmeegse dichter / schrejver Kadir Büyükkaya
URL:https://bergkerkdeventer.nl/evenement/bergkerkconcert-mikail-aslan-ensemble-m-m-v-emrah-oguzturk/
CATEGORIES:Bergkerkconcert - Wereldmuziek
ATTACH;FMTTYPE=image/jpeg:/wp-content/uploads/2023/06/aslan.jpg
END:VEVENT
END:VCALENDAR