BEGIN:VCALENDAR
VERSION:2.0
PRODID:-//Bergkerk Deventer - ECPv6.15.11//NONSGML v1.0//EN
CALSCALE:GREGORIAN
METHOD:PUBLISH
X-WR-CALNAME:Bergkerk Deventer
X-ORIGINAL-URL:https://bergkerkdeventer.nl
X-WR-CALDESC:Evenementen voor Bergkerk Deventer
REFRESH-INTERVAL;VALUE=DURATION:PT1H
X-Robots-Tag:noindex
X-PUBLISHED-TTL:PT1H
BEGIN:VTIMEZONE
TZID:Europe/Amsterdam
BEGIN:DAYLIGHT
TZOFFSETFROM:+0100
TZOFFSETTO:+0200
TZNAME:CEST
DTSTART:20220327T010000
END:DAYLIGHT
BEGIN:STANDARD
TZOFFSETFROM:+0200
TZOFFSETTO:+0100
TZNAME:CET
DTSTART:20221030T010000
END:STANDARD
BEGIN:DAYLIGHT
TZOFFSETFROM:+0100
TZOFFSETTO:+0200
TZNAME:CEST
DTSTART:20230326T010000
END:DAYLIGHT
BEGIN:STANDARD
TZOFFSETFROM:+0200
TZOFFSETTO:+0100
TZNAME:CET
DTSTART:20231029T010000
END:STANDARD
BEGIN:DAYLIGHT
TZOFFSETFROM:+0100
TZOFFSETTO:+0200
TZNAME:CEST
DTSTART:20240331T010000
END:DAYLIGHT
BEGIN:STANDARD
TZOFFSETFROM:+0200
TZOFFSETTO:+0100
TZNAME:CET
DTSTART:20241027T010000
END:STANDARD
END:VTIMEZONE
BEGIN:VEVENT
DTSTART;TZID=Europe/Amsterdam:20231104T153000
DTEND;TZID=Europe/Amsterdam:20231104T193000
DTSTAMP:20260425T044850
CREATED:20230915T090934Z
LAST-MODIFIED:20231013T103423Z
UID:10000131-1699111800-1699126200@bergkerkdeventer.nl
SUMMARY:Vocal Group No Romeo’s
DESCRIPTION:Entree € 15\,00 / Klik hier voor ticketverkoop\n\n\n\nNergens klinkt close harmony mooier! Vocal Group No Romeo’s laat van zich horen in de Bergkerk in Deventer. Op deze historische locatie komen zuivere klanken tot leven. No Romeo’s is een vocal group van 19 vrouwen met een passie voor close harmony. We zingen gospel\, pop\, jazz en ook klassiek. \n\n\n\nIn de Bergkerk zingt No Romeo’s veel nieuwe nummers en ook enkele toppers uit ons repertoire. Versterkt door de sfeer en akoestiek van de Bergkerk is ons geluid vernieuwend. Een unieke ervaring die je niet snel zult vergeten. \n\n\n\nNa de voorstelling staat er voor iedereen gratis een drankje klaar. We verkopen er wat lekkers bij en sparen hiermee voor onze buitenlandreis in 2024.  \n\n\n\nMuzikale leiding \n\n\n\nVocal group No Romeo’s staat onder muzikale leiding van Christoph Mac-Carty. Hij brengt No Romeo´s naar een hoger niveau door te werken aan intonatie\, ritme en groove\, blending en interpretatie. Christoph is ook dirigent van ‘Dekoor Close Harmony’ uit Utrecht. In 2023 wonnen zij voor de derde keer de ‘World Choir Games´ in de categorieën jazz en gospel.
URL:https://bergkerkdeventer.nl/evenement/no-romeos-i/
LOCATION:Bergkerk\, Bergkerkplein 14\, 7411 EN Deventer\, Deventer\, Netherlands
CATEGORIES:Concert Close Harmony
ATTACH;FMTTYPE=image/png:/wp-content/uploads/2023/09/noromeos.png
END:VEVENT
END:VCALENDAR