BEGIN:VCALENDAR
VERSION:2.0
PRODID:-//Bergkerk Deventer - ECPv6.15.11//NONSGML v1.0//EN
CALSCALE:GREGORIAN
METHOD:PUBLISH
X-ORIGINAL-URL:https://bergkerkdeventer.nl
X-WR-CALDESC:Evenementen voor Bergkerk Deventer
REFRESH-INTERVAL;VALUE=DURATION:PT1H
X-Robots-Tag:noindex
X-PUBLISHED-TTL:PT1H
BEGIN:VTIMEZONE
TZID:Europe/Amsterdam
BEGIN:DAYLIGHT
TZOFFSETFROM:+0100
TZOFFSETTO:+0200
TZNAME:CEST
DTSTART:20250330T010000
END:DAYLIGHT
BEGIN:STANDARD
TZOFFSETFROM:+0200
TZOFFSETTO:+0100
TZNAME:CET
DTSTART:20251026T010000
END:STANDARD
BEGIN:DAYLIGHT
TZOFFSETFROM:+0100
TZOFFSETTO:+0200
TZNAME:CEST
DTSTART:20260329T010000
END:DAYLIGHT
BEGIN:STANDARD
TZOFFSETFROM:+0200
TZOFFSETTO:+0100
TZNAME:CET
DTSTART:20261025T010000
END:STANDARD
BEGIN:DAYLIGHT
TZOFFSETFROM:+0100
TZOFFSETTO:+0200
TZNAME:CEST
DTSTART:20270328T010000
END:DAYLIGHT
BEGIN:STANDARD
TZOFFSETFROM:+0200
TZOFFSETTO:+0100
TZNAME:CET
DTSTART:20271031T010000
END:STANDARD
END:VTIMEZONE
BEGIN:VEVENT
DTSTART;TZID=Europe/Amsterdam:20260426T150000
DTEND;TZID=Europe/Amsterdam:20260426T173000
DTSTAMP:20260425T180349
CREATED:20251107T223324Z
LAST-MODIFIED:20251107T223325Z
UID:10000292-1777215600-1777224600@bergkerkdeventer.nl
SUMMARY:Euterpe Toonkunstkoor - 'Missa Brevis' & Misatango
DESCRIPTION:Klik hier voor ticketverkoop\n\n\n\n \n\n\n\nMissa Brevis in D-mineur van Wolfgang Amadeus Mozart (KV65)Misatango van de de Argentijnse componist Martin Palmeri  \n\n\n\nNadere informatie volgt
URL:https://bergkerkdeventer.nl/evenement/euterpe-toonkunstkoor-missa-brevis-misatango/
CATEGORIES:Concert Klassieke Muziek
ATTACH;FMTTYPE=image/png:/wp-content/uploads/2025/11/Schermafbeelding-2025-11-07-232926.png
END:VEVENT
END:VCALENDAR