BEGIN:VCALENDAR
VERSION:2.0
PRODID:-//Bergkerk Deventer - ECPv6.15.11//NONSGML v1.0//EN
CALSCALE:GREGORIAN
METHOD:PUBLISH
X-WR-CALNAME:Bergkerk Deventer
X-ORIGINAL-URL:https://bergkerkdeventer.nl
X-WR-CALDESC:Evenementen voor Bergkerk Deventer
REFRESH-INTERVAL;VALUE=DURATION:PT1H
X-Robots-Tag:noindex
X-PUBLISHED-TTL:PT1H
BEGIN:VTIMEZONE
TZID:Europe/Amsterdam
BEGIN:DAYLIGHT
TZOFFSETFROM:+0100
TZOFFSETTO:+0200
TZNAME:CEST
DTSTART:20230326T010000
END:DAYLIGHT
BEGIN:STANDARD
TZOFFSETFROM:+0200
TZOFFSETTO:+0100
TZNAME:CET
DTSTART:20231029T010000
END:STANDARD
BEGIN:DAYLIGHT
TZOFFSETFROM:+0100
TZOFFSETTO:+0200
TZNAME:CEST
DTSTART:20240331T010000
END:DAYLIGHT
BEGIN:STANDARD
TZOFFSETFROM:+0200
TZOFFSETTO:+0100
TZNAME:CET
DTSTART:20241027T010000
END:STANDARD
BEGIN:DAYLIGHT
TZOFFSETFROM:+0100
TZOFFSETTO:+0200
TZNAME:CEST
DTSTART:20250330T010000
END:DAYLIGHT
BEGIN:STANDARD
TZOFFSETFROM:+0200
TZOFFSETTO:+0100
TZNAME:CET
DTSTART:20251026T010000
END:STANDARD
BEGIN:DAYLIGHT
TZOFFSETFROM:+0100
TZOFFSETTO:+0200
TZNAME:CEST
DTSTART:20260329T010000
END:DAYLIGHT
BEGIN:STANDARD
TZOFFSETFROM:+0200
TZOFFSETTO:+0100
TZNAME:CET
DTSTART:20261025T010000
END:STANDARD
END:VTIMEZONE
BEGIN:VEVENT
DTSTART;TZID=Europe/Amsterdam:20251123T150000
DTEND;TZID=Europe/Amsterdam:20251123T173000
DTSTAMP:20260424T225406
CREATED:20250509T220705Z
LAST-MODIFIED:20251120T203739Z
UID:10000254-1763910000-1763919000@bergkerkdeventer.nl
SUMMARY:Euterpe Toonkunstkoor - 'Messiah'
DESCRIPTION:UITVERKOCHT \n\n\n\nHonderden mensen staan te dringen voor The Great Music Hall in Dublin. Het is 13 april 1742 en Messiah van Georg Friedrich Händel staat op het punt in première te gaan. De 700 aanwezigen hebben hun hoepelrokken en zwaarden thuis moeten laten om allemaal in de zaal te kunnen passen. Kortom: Messiah is een groot succes. Maar dit kwam niet bepaald vanzelf: voor Händel was Messiah niets minder dan zijn wedergeboorte. \n\n\n\nHändel was tijdens zijn leven al razend populair. In Engeland\, bijvoorbeeld\, waren zijn vele Italiaanse opera’s enorm geliefd. De in Halle geboren Händel kon zijn succes zelfs achterna reizen en zich in Londen vestigen. In 1727 nam hij de Britse nationaliteit aan en verengelste zijn naam tot George Frideric Handel. Het ging hem voor de wind in zijn nieuwe thuisland. \n\n\n\nMaar op een gegeven moment had het publiek genoeg van Händels opera’s. Italiaanse opera raakte uit de mode en werd zelfs belachelijk gemaakt in Engelstalige opera’s. Zo werd Händels succes zijn val. Toen de componist in 1737 ook nog eens een beroerte kreeg\, was het hek van de dam. \n\n\n\nZijn redding kwam in de vorm van zijn vriend en librettoschrijver Charles Jennens. Hij stuurde Händel een libretto met teksten uit de Bijbel. Het onderwerp: de Messias. “Ik hoop dat Händel zijn volledige genialiteit en bekwaamheid erop toepast”\, schreef Jennens over het libretto aan een vriend\, “en dat de compositie al zijn voorgaande composities mag overtreffen\, aangezien het onderwerp elk ander onderwerp overtreft.” Zijn wens kwam uit: het was de weg omhoog uit Händels dal. Wonder boven wonder ging hij vol inspiratie aan de slag. In slechts 24 dagen componeerde hij dat wat zijn grootste meesterwerk zou worden: Messiah. \n\n\n\nZoals de titel van Händels meesterwerk al aangeeft\, gaat het stuk over Jezus als Messias\, degene die de mensheid zal verlossen van haar zonden en lijden. Maar in plaats van nadruk te leggen op de lijdensweg die Jezus hiervoor moet afleggen\, zoals Bach in zijn Matthäus-Passion doet\, staat juist de hoopvolle verlossing centraal in Messiah. De toon is dan ook licht en vlot. Hoewel Messiah niet voor de kerk\, maar voor uitvoering in het theater is gecomponeerd\, staat het niet ver van de Passie-traditie af. Daarom is Messiah vooral bekend geworden als religieus oratorium\, en niet als theaterstuk. \n\n\n\nHet verhaal van Jezus’ geboorte\, dood en wederopstanding wordt in drie delen verteld. Elk deel is opgedeeld in scènes\, en die zijn weer verdeeld in recitatieven\, aria’s en koren. De voorspelling van de komst van de Messias\, de zwangerschap van Maria en de boodschap van Jezus’ geboorte aan de herders beslaan het eerste deel. Het tweede deel gaat over het lijdensverhaal\, de dood en de wederopstanding van Christus. Dit deel eindigt met het bekende Hallelujah\, waarin God wordt geprezen. Het derde deel gaat over de aankondiging van de Dag des Oordeels en hoe Jezus in de hemel wordt opgenomen. \n\n\n\nSarah Konig sopraanEmilie Wijers altJasper Dijkstra tenorJouke Wijmenga basOrkest: Camerata UtriciaMuzikale leiding: Jurriaan Poesse.
URL:https://bergkerkdeventer.nl/evenement/messiah-euterpe-toonkunstkoor/
CATEGORIES:Concert koor en orkest
ATTACH;FMTTYPE=image/png:/wp-content/uploads/2025/05/handel.png
END:VEVENT
BEGIN:VEVENT
DTSTART;TZID=Europe/Amsterdam:20251102T160000
DTEND;TZID=Europe/Amsterdam:20251102T173000
DTSTAMP:20260424T225406
CREATED:20250701T123208Z
LAST-MODIFIED:20250722T123347Z
UID:10000265-1762099200-1762104600@bergkerkdeventer.nl
SUMMARY:Deventer Vocaal Ensemble - 'Requiem van Verdi'
DESCRIPTION:Guiseppe Verdi was een groot bewonderaar van de Italiaanse dichter en filosoof Alessandro Manzoni. Na zijn overlijden in 1873 schreef Verdi daarom het ‘Manzoni requiem’\, in zijn nagedachtenis. Dit stuk is later bekend komen te staan als het ‘Requiem van Verdi’. Het werd in 1874 in Milaan voor het eerst opgevoerd door een groot orkest\, solisten en een dubbel koor. \n\n\n\nOp 2 november brengen we dit stuk naar Deventer. U hoort een versie die geschikt is gemaakt voor een kleiner orkest en koor. \n\n\n\n \n\n\n\n\n\n\n\n\n\n\n\nOverige concerten\n\n\n\nVoorjaar 2026 – Concert tijdens tentoonstelling “Alsof er niets is gebeurd” van Rob Ruimers in de Bergkek met o.a. ”Hedera” van Kate Moore \n\n\n\n13-14 December 2025 – Dickens Festijn\, Bergkwartier Deventer \n\n\n\n20 December 2025 – Festival of Lessons and Carols\, Bergkerk Deventer \n\n\n\nMaart 2026 – 20 jaar Matthäus Passion in de Bergkerk: workshops\, lezing\, mini uitvoering\, Bergkerk\, Deventer \n\n\n\n1-3 April 2026 – Matthäus Passion Deventer\, Bergkerk
URL:https://bergkerkdeventer.nl/evenement/deventer-vocaal-ensemble-requiem-van-verdi/
CATEGORIES:Concert koor en orkest
ATTACH;FMTTYPE=image/png:/wp-content/uploads/2025/07/verdi.png
ORGANIZER;CN="Deventer Vocaal Ensemble":MAILTO:info@deventervocaalensemble.nl
END:VEVENT
BEGIN:VEVENT
DTSTART;TZID=Europe/Amsterdam:20241117T150000
DTEND;TZID=Europe/Amsterdam:20241117T170000
DTSTAMP:20260424T225406
CREATED:20240524T171833Z
LAST-MODIFIED:20241016T083945Z
UID:10000183-1731855600-1731862800@bergkerkdeventer.nl
SUMMARY:"Da nobis pacem" - Deventer Symfonisch Orkest i.s.m. Euterpe toonkunstkoor
DESCRIPTION:Voorverkoop € 18\,50 jongeren tot 18 € 10 / Klik hier voor ticketverkoop\n\n\n\n \n\n\n\nOp zondag 17 november is iedereen weer van harte uitgenodigd voor ons concert. Ditmaal samen met koor Euterpe in de Bergkerk te Deventer. Samen met Euterpe voeren we van Mendelssohn Psalm 42 en Verleih uns Frieden uit. En wij spelen ook nog de Londense symfonie van Haydn. Dit concert wordt mede mogelijk gemaakt door een bijdrage van Gemeente Deventer.Psalm 42 van MendelssohnPsalm 42 is een psalm in Psalmen uit de Hebreeuwse Bijbel. Volgens het opschrift van de psalm is deze geschreven door de Korachieten\, Israëlitische zangers in de Joodse tempel\, afstammelingen van Korach\, uit de stam Levi. De psalmen zijn liederen. Het bijbelboek bevat volgens de Masoretische Tekst 150 psalmen.Het boek Psalmen is een van de geschriften\, die naast de Thora en de profeten het derde onderdeel van de Hebreeuwse Bijbel vormen. Psalmen is Bijbelse poëzie\, zoals meer dan een derde van de Hebreeuwse Bijbel poëzie is.De eerste regel van deze psalm – in de psalmberijming van 1773: “‘t Hijgend hert\, der jacht ontkomen” – is erg bekend. De eerste strofe van deze psalm bezingt hoe de psalmist (zoals een hert\, dat smacht naar de waterbron) smacht naar God.De psalm is door verschillende componisten op muziek gezet.Psalm 42 \, Op. 42 ( MWV A 15) van Felix Mendelssohn \, is een stuk geschreven voor gemengd koor \, solostemmen en orkest. Het werd gecomponeerd ter gelegenheid van de huwelijksreis in maart 1837 van de componist\, als geschenk aan zijn nieuwe vrouw\, Cécile Jean Renaud\, dochter van een pastoor. De versie zoals uitgevoerd door Euterpe en het Deventer Symfonisch Orkest werd voor het eerst uitgevoerd op 8 februari 1838.De tekst van de psalm is in het Duits geschreven\, maar Mendelssohn heeft ook een Engelse versie gemaakt. Het werk is gestructureerd in zeven delen\, elk met een of meer verzen uit de psalm. \n\n\n\nVerleih uns Frieden/Da nobis pacem van MendelssohnVerleih uns Frieden/Da nobis pacem (Geef ons vrede) is een koraalcantate van Felix Mendelssohn\, waarin een gebed voor de vrede van Maarten Luther staat. Mendelssohn componeerde het korte werk in één beweging voor gemengd koor en orkest in 1831. Het staat ook bekend als Verleih uns Frieden Gnädelig. \n\n\n\nDe Londense Symfonie van HaydnDe Symfonie nr. 104 in D majeur (H. 1/104) is de laatste symfonie van Joseph Haydn. Het is de laatste van de twaalf Londense symfonieën en staat (enigszins willekeurig\, gezien het bestaan ​​van elf andere) bekend als de London Symphony. In Duitsland staat het algemeen bekend als de Salomon-symfonie\, naar Johann Peter Salomon\, die Haydns twee tournees door Londen regelde\, ook al is het een van de drie van de laatste twaalf symfonieën die voor Viotti’s Operaconcerten zijn geschreven\, in plaats van voor Salomon.Het werk werd in 1795 gecomponeerd terwijl Haydn in Londen woonde\, en ging daar in première in het King’s Theatre op 4 mei 1795\, tijdens een concert met uitsluitend Haydns eigen composities en geregisseerd door de componist. De première was een succes; Haydn schreef in zijn dagboek: “Het hele gezelschap was zeer tevreden en ik ook. Ik verdiende vanavond 4.000 Habsburgse florijnen: zoiets is alleen mogelijk in Engeland.”
URL:https://bergkerkdeventer.nl/evenement/da-nobis-pacem-deventer-symphonisch-orkest-i-s-m-euterpe-toonkunstkoor/
CATEGORIES:Concert koor en orkest
ATTACH;FMTTYPE=image/png:/wp-content/uploads/2024/05/dso1.png
ORGANIZER;CN="Deventer Symphonisch Orkest":MAILTO:info@dso-deventer.nl
END:VEVENT
END:VCALENDAR