BEGIN:VCALENDAR
VERSION:2.0
PRODID:-//Bergkerk Deventer - ECPv6.15.11//NONSGML v1.0//EN
CALSCALE:GREGORIAN
METHOD:PUBLISH
X-ORIGINAL-URL:https://bergkerkdeventer.nl
X-WR-CALDESC:Evenementen voor Bergkerk Deventer
REFRESH-INTERVAL;VALUE=DURATION:PT1H
X-Robots-Tag:noindex
X-PUBLISHED-TTL:PT1H
BEGIN:VTIMEZONE
TZID:Europe/Amsterdam
BEGIN:DAYLIGHT
TZOFFSETFROM:+0100
TZOFFSETTO:+0200
TZNAME:CEST
DTSTART:20240331T010000
END:DAYLIGHT
BEGIN:STANDARD
TZOFFSETFROM:+0200
TZOFFSETTO:+0100
TZNAME:CET
DTSTART:20241027T010000
END:STANDARD
BEGIN:DAYLIGHT
TZOFFSETFROM:+0100
TZOFFSETTO:+0200
TZNAME:CEST
DTSTART:20250330T010000
END:DAYLIGHT
BEGIN:STANDARD
TZOFFSETFROM:+0200
TZOFFSETTO:+0100
TZNAME:CET
DTSTART:20251026T010000
END:STANDARD
BEGIN:DAYLIGHT
TZOFFSETFROM:+0100
TZOFFSETTO:+0200
TZNAME:CEST
DTSTART:20260329T010000
END:DAYLIGHT
BEGIN:STANDARD
TZOFFSETFROM:+0200
TZOFFSETTO:+0100
TZNAME:CET
DTSTART:20261025T010000
END:STANDARD
END:VTIMEZONE
BEGIN:VEVENT
DTSTART;TZID=Europe/Amsterdam:20250525T153000
DTEND;TZID=Europe/Amsterdam:20250525T170000
DTSTAMP:20260425T135925
CREATED:20250516T143220Z
LAST-MODIFIED:20250516T144338Z
UID:10000255-1748187000-1748192400@bergkerkdeventer.nl
SUMMARY:Trajecti Voces - 'Totentanz'
DESCRIPTION:Entree € 20 ||  Klik hier voor ticketverkoop\n\n\n\n \n\n\n\nIn het project Totentanz komt de a cappella koorcyclus Totentanz van Hugo Distler centraal te staan.  Dit stuk is gebaseerd op de Lübeckse Totentanz\, een cyclus van teksten en bijbehorende schilderijen in de Mariakerk in Lübeck uit 1463 (in 1701 vervangen door een nieuwe versie).  De teksten waren geschreven door Angelus Silesius in het Midden-Nederduits bij een lange schildering waarop de Dood met iedereen danst om ze mee te nemen; van Keizer\, Edelman\, handwerker\, soldaat tot pasgeborene\, niemand ontkomt eraan. De schildering gingen in 1942 verloren bij een bombardement op de kerk. De tekst van Silesius stelt dat het leven een kort intermezzo is voordat het eeuwige begint. In dit leven moet je je voorbereiden op het hiernamaals. Hoewel de Dood zijn danspartners niet vertelt waar ze heen gaan\, behalve wanneer het heel duidelijk de hemel is\, zoals in het geval van de Kluizenaar\, de Boer en het Kind\, geeft hij in vrijwel iedere reactie op de jammerklacht van degene die hij komt halen aan hoe die\, en dus ook het publiek\, zich had kunnen voorbereiden op zijn komst. Aan de andere kant sluit de tekst zeker aan bij de Ars Moriendi: de dood komt voor vrijwel alle personages vroeger dan gehoopt. \n\n\n\nBlokfluitist Emile ter Schegget speelt de fluit-intermezzi en een Ricercare van eigen hand. Verteller Gottfrid van Eck werkt mee als spreker. \n\n\n\nHet programma wordt aangevuld met drie motetten van Schütz (Unser keiner lebet ihm selber SWV 374\, Tröstet\, tröstet mein Volk SWV 382 en Selig sind die Toten SWV 391)\, het motet Wenn wir in höchsten Nöten sein van Brahms en Da Pacem van Pärt. \n\n\n\nOp zaterdagavond 24 mei 20:00 uur is het eerste concert in de Oud-Katholieke Gertrudiskathedraal in Utrecht. Het tweede is op zondagmiddag 25 mei 15:30 in de Bergkerk in Deventer. \n\n\n\nFeatured \n\n\n\nTrajecti Voces\n\n\n\nHet Utrechtse vocaal ensemble Trajecti Voces is opgericht in 1989 en staat sinds 1990 onder leiding van dirigent Dirkjan Horringa. Het voert vooral oude maar ook nieuwe muziek uit. Er is een vaste kern\, bestaande uit ongeveer zestien geschoolde zangers. Afhankelijk van het gekozen repertoire wordt per project bekeken in hoeverre deze kern wordt uitgebreid met projectzangers. Het ensemble repeteert wekelijks op de dinsdagavond in Utrecht. \n\n\n\nRead more: Trajecti Voces \n\n\n\nFeatured \n\n\n\nWerkwijze projecten\n\n\n\n\n\n\n\nTrajecti Voces werkt in projecten met een van tevoren vaststaand programma en data die van de eerste repetitie tot en met het laatste concert vastliggen. Daardoor weten zangers waar ze aan toe zijn als ze zich opgeven. Trajecti werkt met heldere repetitieroosters\, goed verzorgde bladmuziek met paginanummers e.d. en heldere afspraken over voorbereiden\, op tijd beginnen en aanwezig zijn op de repetities. Daardoor wordt er geen tijd verbeuzeld tijdens de repetities en meteen muziek gemaakt. En dat alles in een ontspannen sfeer waarin de zangers elkaar stimuleren om het beste te geven. O ja\, en minstens één keer per maand gaan we naar de kroeg.
URL:https://bergkerkdeventer.nl/evenement/totentanz-trajecti-voces/
CATEGORIES:Concert koormuziek
ATTACH;FMTTYPE=image/png:/wp-content/uploads/2025/05/totentanz2.png
END:VEVENT
END:VCALENDAR