BEGIN:VCALENDAR
VERSION:2.0
PRODID:-//Bergkerk Deventer - ECPv6.15.11//NONSGML v1.0//EN
CALSCALE:GREGORIAN
METHOD:PUBLISH
X-WR-CALNAME:Bergkerk Deventer
X-ORIGINAL-URL:https://bergkerkdeventer.nl
X-WR-CALDESC:Evenementen voor Bergkerk Deventer
REFRESH-INTERVAL;VALUE=DURATION:PT1H
X-Robots-Tag:noindex
X-PUBLISHED-TTL:PT1H
BEGIN:VTIMEZONE
TZID:Europe/Amsterdam
BEGIN:DAYLIGHT
TZOFFSETFROM:+0100
TZOFFSETTO:+0200
TZNAME:CEST
DTSTART:20230326T010000
END:DAYLIGHT
BEGIN:STANDARD
TZOFFSETFROM:+0200
TZOFFSETTO:+0100
TZNAME:CET
DTSTART:20231029T010000
END:STANDARD
BEGIN:DAYLIGHT
TZOFFSETFROM:+0100
TZOFFSETTO:+0200
TZNAME:CEST
DTSTART:20240331T010000
END:DAYLIGHT
BEGIN:STANDARD
TZOFFSETFROM:+0200
TZOFFSETTO:+0100
TZNAME:CET
DTSTART:20241027T010000
END:STANDARD
BEGIN:DAYLIGHT
TZOFFSETFROM:+0100
TZOFFSETTO:+0200
TZNAME:CEST
DTSTART:20250330T010000
END:DAYLIGHT
BEGIN:STANDARD
TZOFFSETFROM:+0200
TZOFFSETTO:+0100
TZNAME:CET
DTSTART:20251026T010000
END:STANDARD
END:VTIMEZONE
BEGIN:VEVENT
DTSTART;TZID=Europe/Amsterdam:20241009T200000
DTEND;TZID=Europe/Amsterdam:20241009T210000
DTSTAMP:20260426T034458
CREATED:20240821T163902Z
LAST-MODIFIED:20240905T093943Z
UID:10000195-1728504000-1728507600@bergkerkdeventer.nl
SUMMARY:"1+1 concert" - Liza Weald
DESCRIPTION:€ 25 |  Klik hier voor tickets\n\n\n\n \n\n\n\n\n\n\n\n \n\n\n\nLiza Weald schrijft spirituele folkpop. Bewuste liedjes over zelfliefde\, persoonlijke groei en de eindeloze magie van het leven. “It’s time for our souls to be free”\, luidt haar diepste wens. Met haar muziek neemt Liza je mee op een innerlijke reis naar jouw diepste kern\, daar waar onvoorwaardelijke liefde gaat stromen en jouw intuïtie spreekt. Een luisterervaring die zorgt voor diepe ontspanning en je tegelijkertijd prikkelt en in beweging zet. In juni 2024 verscheen haar eerste album “1:1”\, waarmee ze nu het hele land verovert. “Ze klinkt in haar eentje krachtiger dan de zussen van First Aid Kit.” – DA Music. Voor fans van The Wanderer en Bon Iver.
URL:https://bergkerkdeventer.nl/evenement/11-concert-liza-weald/
CATEGORIES:Concert singer-songwriter
ATTACH;FMTTYPE=image/png:/wp-content/uploads/2024/08/liza.png
ORGANIZER;CN="Liza Weald":MAILTO:info@lizaweald.nl
END:VEVENT
END:VCALENDAR