BEGIN:VCALENDAR
VERSION:2.0
PRODID:-//Bergkerk Deventer - ECPv6.15.11//NONSGML v1.0//EN
CALSCALE:GREGORIAN
METHOD:PUBLISH
X-ORIGINAL-URL:https://bergkerkdeventer.nl
X-WR-CALDESC:Evenementen voor Bergkerk Deventer
REFRESH-INTERVAL;VALUE=DURATION:PT1H
X-Robots-Tag:noindex
X-PUBLISHED-TTL:PT1H
BEGIN:VTIMEZONE
TZID:Europe/Amsterdam
BEGIN:DAYLIGHT
TZOFFSETFROM:+0100
TZOFFSETTO:+0200
TZNAME:CEST
DTSTART:20250330T010000
END:DAYLIGHT
BEGIN:STANDARD
TZOFFSETFROM:+0200
TZOFFSETTO:+0100
TZNAME:CET
DTSTART:20251026T010000
END:STANDARD
BEGIN:DAYLIGHT
TZOFFSETFROM:+0100
TZOFFSETTO:+0200
TZNAME:CEST
DTSTART:20260329T010000
END:DAYLIGHT
BEGIN:STANDARD
TZOFFSETFROM:+0200
TZOFFSETTO:+0100
TZNAME:CET
DTSTART:20261025T010000
END:STANDARD
BEGIN:DAYLIGHT
TZOFFSETFROM:+0100
TZOFFSETTO:+0200
TZNAME:CEST
DTSTART:20270328T010000
END:DAYLIGHT
BEGIN:STANDARD
TZOFFSETFROM:+0200
TZOFFSETTO:+0100
TZNAME:CET
DTSTART:20271031T010000
END:STANDARD
END:VTIMEZONE
BEGIN:VEVENT
DTSTART;TZID=Europe/Amsterdam:20261112T200000
DTEND;TZID=Europe/Amsterdam:20261112T220000
DTSTAMP:20260425T141723
CREATED:20260328T213934Z
LAST-MODIFIED:20260328T214251Z
UID:10000313-1794513600-1794520800@bergkerkdeventer.nl
SUMMARY:Leonie Bos in concert
DESCRIPTION:Entree € 35\,00   ||   Klik hier voor ticketverkoop\n\n\n\n \n\n\n\nSinger-songwriter Leonie Bos brengt pure emotie en helderheid naar het podium. Met haar warme\, kristalheldere stem en diep gegronde aanwezigheid opent ze harten en nodigt ze uit tot een hernieuwde verbinding met jezelf en met elkaar. \n\n\n\nHet veld dat ontstaat is helend en transformerend\, en creëert ruimte voor alles wat zich in het moment wil laten voelen en zien.Samenkomen in deze gedeelde verbinding geeft een gevoel van thuiskomen in jezelf. \n\n\n\nEen mix van singer-songwriter en indie\, verweven met mantra\, waarbij het publiek vaak wordt uitgenodigd om mee te chanten. \n\n\n\nIn haar aankomende album\, Medicine of the Muse\, onthult ze het volledige spectrum van haar klank en intentie: een zachte en tegelijk krachtige uitnodiging om in je waarheid te gaan staan en je stem te laten klinken. \n\n\n\n🙋🏼‍♀️ Meer info over Leonie: leoniebosmusic.com \n\n\n\nInstagram: https://www.instagram.com/leoniebosmusic \n\n\n\nSpotify: https://open.spotify.com/artist/0Tle3jlSlrQOFjb8xAuqjW?si=MU-yzDwxTbWqoAuxSUq0Wg \n\n\n\nYoutube: https://www.youtube.com/@LeonieBosMusic
URL:https://bergkerkdeventer.nl/evenement/leonie-bos-in-concert/
CATEGORIES:Concert singer-songwriter
ATTACH;FMTTYPE=image/png:/wp-content/uploads/2026/03/Schermafbeelding-2026-03-28-223854.png
END:VEVENT
END:VCALENDAR