BEGIN:VCALENDAR
VERSION:2.0
PRODID:-//Bergkerk Deventer - ECPv6.15.11//NONSGML v1.0//EN
CALSCALE:GREGORIAN
METHOD:PUBLISH
X-WR-CALNAME:Bergkerk Deventer
X-ORIGINAL-URL:https://bergkerkdeventer.nl
X-WR-CALDESC:Evenementen voor Bergkerk Deventer
REFRESH-INTERVAL;VALUE=DURATION:PT1H
X-Robots-Tag:noindex
X-PUBLISHED-TTL:PT1H
BEGIN:VTIMEZONE
TZID:Europe/Amsterdam
BEGIN:DAYLIGHT
TZOFFSETFROM:+0100
TZOFFSETTO:+0200
TZNAME:CEST
DTSTART:20240331T010000
END:DAYLIGHT
BEGIN:STANDARD
TZOFFSETFROM:+0200
TZOFFSETTO:+0100
TZNAME:CET
DTSTART:20241027T010000
END:STANDARD
BEGIN:DAYLIGHT
TZOFFSETFROM:+0100
TZOFFSETTO:+0200
TZNAME:CEST
DTSTART:20250330T010000
END:DAYLIGHT
BEGIN:STANDARD
TZOFFSETFROM:+0200
TZOFFSETTO:+0100
TZNAME:CET
DTSTART:20251026T010000
END:STANDARD
BEGIN:DAYLIGHT
TZOFFSETFROM:+0100
TZOFFSETTO:+0200
TZNAME:CEST
DTSTART:20260329T010000
END:DAYLIGHT
BEGIN:STANDARD
TZOFFSETFROM:+0200
TZOFFSETTO:+0100
TZNAME:CET
DTSTART:20261025T010000
END:STANDARD
END:VTIMEZONE
BEGIN:VEVENT
DTSTART;TZID=Europe/Amsterdam:20250314T193000
DTEND;TZID=Europe/Amsterdam:20250314T213000
DTSTAMP:20260425T220956
CREATED:20250124T193734Z
LAST-MODIFIED:20250125T153001Z
UID:10000228-1741980600-1741987800@bergkerkdeventer.nl
SUMMARY:THUIS (editie 2) - Maringo Bérénos & friends
DESCRIPTION:€ 12 / 17 / 22 | Klik hier voor ticketverkoop\n\n\n\n \n\n\n\n(English below) \n\n\n\nTHUIS editie 2: Een muzikale reis die je vasthoudt\, opzweept én thuisbrengtNa de betovering van de eerste editie nodigen we je uit voor een tweede ontmoeting op vrijdagavond 14 maart in de Bergkerk Deventer. THUIS is geen standaard concert maar een muzikale beleving waarin vrede\, vreugde en verbinding centraal staan. Met muziek dat voorbij tijd en ruimte gaat\, omarmen we de kracht van diversiteit en vieren we de schoonheid van samen zijn!Met zijn muzikale vrienden neemt Maringo Bérénos je mee op reis over de wereld onderweg naar thuis. Ze brengen een mix van eigen composities met o.a. Nederlandse teksten en traditionele muziek uit verschillende culturen. Maringo’s composities zijn een weerspiegeling van de wereld zelf: levendig\, soms ingetogen\, onverwachts\, en verwonderlijk.Wat kun je verwachten?– Een kopje thee bij aankomst– Een reis van klanken en verhalen die spreken van andere werelden– Een avond voor verbinding en saamhorigheid– Een beleving uit het dagelijks leven naar vreugde en verdieping.– Activatie\, en verstillingTHUIS is niet de plek\, het is het gevoel en de gemoedstoestand. En jij bent uitgenodigd om samen met ons jouw unieke plek van thuis te ontdekken en te delen.19:30 welkom20:00 start concert \n\n\n\nTickets : \n\n\n\n€ 12 budget€ 17 normaal€ 22 support———THUIS Edition 2: A musical journey that will hold you\, uplift you\, and bring you back homeAfter an enchanting first edition\, we invite you to a second gathering on Friday evening\, March 14\, at the Bergkerk in Deventer!THUIS (Home) is not a standard concert but a musical experience where peace\, joy\, and connection are at the heart of everything. With music that transcends time and space\, we embrace the power of diversity and celebrate the beauty of togetherness.Together with his musical friends\, Maringo Bérénos will take you on a journey across the world\, heading towards home. They will perform a mix of original compositions with a.o. Dutch lyrics and traditional music from various cultures. Maringo’s compositions are a reflection of the world itself: vibrant\, subtle\, unexpected\, and full of wonder.What can you expect? – A cup of tea upon arrival – A journey of sounds and stories that speak from other worlds – An evening for connection and unity – An experience that takes you from the everyday to a place of joy and depth – Activation and stillnessTHUIS is not a place\, it is a feeling and a state of mind. And you are invited to join us in discovering and sharing your unique meaning of home.19:30 Welcome20:00 Concert starts \n\n\n\nTickets: \n\n\n\n€ 12 budget€ 17 normaal€ 22 support \n\n\n\n \n\n\n\n€ 12 / 17 / 22 | Klik hier voor ticketverkoop
URL:https://bergkerkdeventer.nl/evenement/thuis-editie-2/
CATEGORIES:Concert wereldmuziek
ATTACH;FMTTYPE=image/png:/wp-content/uploads/2025/01/thuis.png
END:VEVENT
END:VCALENDAR