BEGIN:VCALENDAR
VERSION:2.0
PRODID:-//Bergkerk Deventer - ECPv6.15.11//NONSGML v1.0//EN
CALSCALE:GREGORIAN
METHOD:PUBLISH
X-WR-CALNAME:Bergkerk Deventer
X-ORIGINAL-URL:https://bergkerkdeventer.nl
X-WR-CALDESC:Evenementen voor Bergkerk Deventer
REFRESH-INTERVAL;VALUE=DURATION:PT1H
X-Robots-Tag:noindex
X-PUBLISHED-TTL:PT1H
BEGIN:VTIMEZONE
TZID:Europe/Amsterdam
BEGIN:DAYLIGHT
TZOFFSETFROM:+0100
TZOFFSETTO:+0200
TZNAME:CEST
DTSTART:20240331T010000
END:DAYLIGHT
BEGIN:STANDARD
TZOFFSETFROM:+0200
TZOFFSETTO:+0100
TZNAME:CET
DTSTART:20241027T010000
END:STANDARD
BEGIN:DAYLIGHT
TZOFFSETFROM:+0100
TZOFFSETTO:+0200
TZNAME:CEST
DTSTART:20250330T010000
END:DAYLIGHT
BEGIN:STANDARD
TZOFFSETFROM:+0200
TZOFFSETTO:+0100
TZNAME:CET
DTSTART:20251026T010000
END:STANDARD
BEGIN:DAYLIGHT
TZOFFSETFROM:+0100
TZOFFSETTO:+0200
TZNAME:CEST
DTSTART:20260329T010000
END:DAYLIGHT
BEGIN:STANDARD
TZOFFSETFROM:+0200
TZOFFSETTO:+0100
TZNAME:CET
DTSTART:20261025T010000
END:STANDARD
END:VTIMEZONE
BEGIN:VEVENT
DTSTART;TZID=Europe/Amsterdam:20250601T150000
DTEND;TZID=Europe/Amsterdam:20250601T163000
DTSTAMP:20260425T173053
CREATED:20250314T104906Z
LAST-MODIFIED:20250509T221529Z
UID:10000236-1748790000-1748795400@bergkerkdeventer.nl
SUMMARY:Wereldvrouwenkoor De Sista's - 'Sistahood'
DESCRIPTION:Entree € 13\,50 //  Klik hier voor ticketverkoop\n\n\n\n \n\n\n\nIn deze muzikale voorstelling gaat WereldVrouwenkoor De Sista’s uit Enschede o.l.v. Janina Stopperka de vrouwelijke energie vieren en laten de vrouwen uit zien en horen hoe ze intens voelen transformeren naar levensvreugde en verbinding van hart tot hart. \n\n\n\nEr worden passievolle Romaliederen gezongen\, de vrouwelijke Framedrumgroep Mare Nuin o.l.v. Irmgard Cottaar is te gast\, in een gesprek met Irmgard Cottaar wordt gekeken welke plaats vrouwelijke energie in het Middenoosten had en er wordt aan de Holocaust van de Roma’s en aan de slachtoffers van de heksenvervolging herinnert. \n\n\n\nMuzikaal worden De Sista’s begeleid door Anneke Frankenberg (viool) uit Arnhem en Uli Wentzlaff-Eggebert (contrabass) uit Ahaus/DE. \n\n\n\nHet publiek is uitgenodigd om bij sommige liederen mee te zingen en zich met het koor op deze manier te verbinden. De teksten worden in de bevestingsmail van je ticketaankoop als bijlage toegevoegd. Deze graag zelf uitprinten en meenemen.Als je geen bevestigingsmail ziet\, check je spambox. \n\n\n\nJe naam is je entreebewijs\, dat betekent dat we een gastenlijst hebben waar de kopers van een ticket op vermeld staan plus het aantal kaarten. \n\n\n\nTickets kunnen niet terug worden gegeven\, ze kunnen wel doorverkocht worden.
URL:https://bergkerkdeventer.nl/evenement/sistahood-wereldvrouwenkoor/
CATEGORIES:Concert wereldmuziek
ATTACH;FMTTYPE=image/png:/wp-content/uploads/2025/03/sistahood.png
END:VEVENT
END:VCALENDAR