BEGIN:VCALENDAR
VERSION:2.0
PRODID:-//Bergkerk Deventer - ECPv6.15.11//NONSGML v1.0//EN
CALSCALE:GREGORIAN
METHOD:PUBLISH
X-ORIGINAL-URL:https://bergkerkdeventer.nl
X-WR-CALDESC:Evenementen voor Bergkerk Deventer
REFRESH-INTERVAL;VALUE=DURATION:PT1H
X-Robots-Tag:noindex
X-PUBLISHED-TTL:PT1H
BEGIN:VTIMEZONE
TZID:Europe/Amsterdam
BEGIN:DAYLIGHT
TZOFFSETFROM:+0100
TZOFFSETTO:+0200
TZNAME:CEST
DTSTART:20240331T010000
END:DAYLIGHT
BEGIN:STANDARD
TZOFFSETFROM:+0200
TZOFFSETTO:+0100
TZNAME:CET
DTSTART:20241027T010000
END:STANDARD
BEGIN:DAYLIGHT
TZOFFSETFROM:+0100
TZOFFSETTO:+0200
TZNAME:CEST
DTSTART:20250330T010000
END:DAYLIGHT
BEGIN:STANDARD
TZOFFSETFROM:+0200
TZOFFSETTO:+0100
TZNAME:CET
DTSTART:20251026T010000
END:STANDARD
BEGIN:DAYLIGHT
TZOFFSETFROM:+0100
TZOFFSETTO:+0200
TZNAME:CEST
DTSTART:20260329T010000
END:DAYLIGHT
BEGIN:STANDARD
TZOFFSETFROM:+0200
TZOFFSETTO:+0100
TZNAME:CET
DTSTART:20261025T010000
END:STANDARD
BEGIN:DAYLIGHT
TZOFFSETFROM:+0100
TZOFFSETTO:+0200
TZNAME:CEST
DTSTART:20270328T010000
END:DAYLIGHT
BEGIN:STANDARD
TZOFFSETFROM:+0200
TZOFFSETTO:+0100
TZNAME:CET
DTSTART:20271031T010000
END:STANDARD
END:VTIMEZONE
BEGIN:VEVENT
DTSTART;TZID=Europe/Amsterdam:20250429T200000
DTEND;TZID=Europe/Amsterdam:20250429T210000
DTSTAMP:20260425T181030
CREATED:20250226T181918Z
LAST-MODIFIED:20250314T142931Z
UID:10000234-1745956800-1745960400@bergkerkdeventer.nl
SUMMARY:Elena Tierra - 'Ancestral calling'
DESCRIPTION:Entree € 20  //  Klik hier voor ticketverkoop\n\n\n\n \n\n\n\n(ENGLISH BELOW)  \n\n\n\nElena Tierra is een moderne mysticus en toegewijde muzikant met een stem die rechtstreeks uit de bron van de aarde komt. Ze laat het goddelijke haar buitengewone talent leiden om een ruimte te doordrenken met pure ziel. Haar instrumenten – cello\, gitaar en drum – laat ze op magische wijze samensmelten met haar stem via haar loopstation. Een prachtige\, intieme relatie tussen deze aardse resonanties. Met haar brede meesterschap\, variërend van jazz tot tribale klanken\, dringen zowel haar gecomponeerde nummers als haar muzikale improvisaties diep door in je ziel\, raken ze je hart en verheffen ze je geest. Voor dit optreden wordt ze vergezeld door een volledige band en twee dansers. \n\n\n\n‘Ancestral Calling’ is haar eerste album\, dat ze creëerde na de geboorte van haar zoon. Dit album is een reis van zelfontdekking en herverbinding met haar voorouders. Tijdens het maakproces verloor ze al haar vier grootouders. Dit bracht haar in een zeer intieme en nieuwe verbinding met het rijk van de dood. Hun spirit doordrenkte haar met muziek\, en door deze nummers kon ze delen van zichzelf en haar familielijn helen. Maar niet alleen dat – het gaf haar ook een nieuw begrip van wie ze is en welk pad ze kiest te bewandelen. \n\n\n\nDoor middel van dans en muziek brengen zij verhalen en gevoelens over in een visual en sonic experience. Dit optreden is een viering van haar werk uit liefde\, en ze kan niet wachten om je mee te nemen op deze reis. \n\n\n\n“Ik hoop dat dit optreden mensen samenbrengt\, zodat we ons kunnen herinneren\, helen en onze verhalen kunnen eren.” \n\n\n\nENGLISH \n\n\n\nElena Tierra is a modern mystic and devoted musician with a voice straight from the soil of source. She let the divine guide her extraordinary talent to infuse a space with pure soul. Her instruments are cello\, guitar\, and drum that she let magically intertwine with her voice on her loop station. A beautiful intimate relationship between this earthly resonances. With her wide range mastery from jazz to tribal\, both her composed songs and her musical extemporisation pierce through your soul\, touch your heart and elevate your spirit. ‘Ancestral Calling’ is her first album that she created after giving birth to her son. This album is a journey of self-discovery and reconnection with her ancestors. As she created it\, she lost all four of her grandparents. This brought her into a very intimate and new connection with the realm death. Their spirit infused her with music\, and through these songs\, she was able to heal parts of herself and her lineage. And not only that\, it gave her a new understanding of who she is and which path she chooses to walk. Through dance and music\, she and her team of musicians and dancers\, will transport stories and feelings into a visionary and sonic experience. This performance is a celebration of her labor of love and she can’t wait to take you with on that journey. With this performance her dream comes closer to tour and share her music in different churches of different cities around the Netherland and her home country Switzerland. “I wish this performance to bring people together\, so we can remember\, heal and honour our stories. “
URL:https://bergkerkdeventer.nl/evenement/elena-tierra-ancestral-calling/
CATEGORIES:Concert
ATTACH;FMTTYPE=image/jpeg:/wp-content/uploads/2025/02/elena2-1-scaled.jpg
ORGANIZER;CN="Elena Tierra":MAILTO:music@elenatierra.com
END:VEVENT
BEGIN:VEVENT
DTSTART;TZID=Europe/Amsterdam:20250516T200000
DTEND;TZID=Europe/Amsterdam:20250516T213000
DTSTAMP:20260425T181030
CREATED:20250320T082747Z
LAST-MODIFIED:20250409T141935Z
UID:10000238-1747425600-1747431000@bergkerkdeventer.nl
SUMMARY:DAGKOOR DEVENTER - Jubileumconcert
DESCRIPTION:Het Dagkoor Deventer bestaat dit jaar 10 jaar en dat wordt gevierd met een spetterend concert vol met swingende wereldmuziek\, popsongs en ook een blokje klassiek wordt niet geschuwd. Het koor bestaat uit circa 60 leden en staat onder leiding van Karel Tadema. \n\n\n\nMet gastoptredens van het Salonorkest Deventer en Vocal Swing Machine\, zij laten hun beste nummers horen en zien Het concert wordt afgesloten met een gezamenlijk optreden van Dagkoor Deventer\, Salonorkest Deventer en Vocal Swing Machine.   \n\n\n\nEntree €12\,50 kaartverkoop : dagkoordeventerconcert@gmail.com en aan de deur het concert. 
URL:https://bergkerkdeventer.nl/evenement/deventer-dagkoor/
CATEGORIES:Concert
ATTACH;FMTTYPE=image/jpeg:/wp-content/uploads/2025/03/Dagkoor.jpeg
ORGANIZER;CN="Dagkoor Deventer":MAILTO:dagkoordeventerconcert@gmail.com
END:VEVENT
BEGIN:VEVENT
DTSTART;TZID=Europe/Amsterdam:20251115T200000
DTEND;TZID=Europe/Amsterdam:20251115T210000
DTSTAMP:20260425T181030
CREATED:20251012T221027Z
LAST-MODIFIED:20251012T221246Z
UID:10000283-1763236800-1763240400@bergkerkdeventer.nl
SUMMARY:Dékoor - 'Music\, when soft voices die'
DESCRIPTION:‘Music\, when soft voices die‘ \n\n\n\nIn dit concert laat Dékoor de rijkdom van de Engelse koormuziek horen\, van de verstilde spiritualiteit van de renaissance tot de lyrische volksliedbewerkingen van de twintigste eeuw. De titel ‘Music\, when soft voices die’ verwijst naar de kracht van muziek om onzekerheid en kwetsbaarheid te dragen. In een tijd waarin zachtheid soms verloren lijkt te gaan\, klinken in deze muziek juist troost\, hoop en schoonheid door. Samen vormen deze werken een muzikale reis door verlies en herinnering\, maar ook door verlangen\, dromen en hoop. Muziek die ons eraan herinnert dat zachte stemmen niet verdwijnen\, maar blijven resoneren – in ons hart\, en in de stilte die volgt.
URL:https://bergkerkdeventer.nl/evenement/dekoor-music-when-soft-voices-die/
CATEGORIES:Concert
ATTACH;FMTTYPE=image/png:/wp-content/uploads/2025/10/dekoor.png
END:VEVENT
BEGIN:VEVENT
DTSTART;TZID=Europe/Amsterdam:20251119T200000
DTEND;TZID=Europe/Amsterdam:20251119T213000
DTSTAMP:20260425T181030
CREATED:20250921T190005Z
LAST-MODIFIED:20251007T151436Z
UID:10000281-1763582400-1763587800@bergkerkdeventer.nl
SUMMARY:Liza Weald - '1 + 1 concert'
DESCRIPTION:Entree € 33 (2 tickets) ||  Klik hier voor ticketverkoop\n\n\n\n \n\n\n\nWelkom lieve jij\, bij dit bijzondere Liza Weald concert in de Bergkerk Deventer \n\n\n\nDit is een 1+1 concert. Wat betekent dat? Het eerste kaartje koop je zelf\, de tweede krijg je van ons! \n\n\n\nEen 1\,5 uur durende reis naar binnen\, begeleid door mijn diepgaande liedjes en stemimprovisatie van Liza Weald\, en met Dagmar Terpstra op viool. De concerten zullen door haar een extra diepe\, dromerige laag krijgen. Haar vioolspel is prachtig\, raakt het diepste puntje van je ziel en geeft een bijzondere extra dimensie aan de Liza Weald liedjes. De reis wordt ondersteund door geluidseffecten. \n\n\n\nOok is er een speciale gastmuzikant bij: Marcel Verheugd. Meester op zijn gitaar\, een prachtige mannelijke stem en energie in de Liza Weald liedjes. Ik vind het een eer dat hij ons concert in de Bergkerk komt verrijken. \n\n\n\nIk kijk er naar uit om weer samen te komen met jullie\, op deze bijzondere plek.  \n\n\n\nOm samen weer te verzachten\, in een wereld die soms zo hard voelt.  \n\n\n\nOm samen weer thuis te komen. \n\n\n\nMet heel mijn hart\, \n\n\n\nLiza Weald
URL:https://bergkerkdeventer.nl/evenement/liza-weald-1-1-concert/
CATEGORIES:Concert
ATTACH;FMTTYPE=image/jpeg:/wp-content/uploads/2025/09/Liza-Weald-liggend-scaled-e1758481189500.jpg
ORGANIZER;CN="Liza Weald":MAILTO:info@lizaweald.nl
END:VEVENT
BEGIN:VEVENT
DTSTART;TZID=Europe/Amsterdam:20251228T150000
DTEND;TZID=Europe/Amsterdam:20251228T163000
DTSTAMP:20260425T181030
CREATED:20251222T220725Z
LAST-MODIFIED:20251222T220726Z
UID:10000303-1766934000-1766939400@bergkerkdeventer.nl
SUMMARY:'Winterconcert' - Salon Orkest Deventer
DESCRIPTION:Het Salonorkest Deventer geeft altijd één keer per jaar (meestal in de herfst) een concert speciaal voor onze eigen fans\, familie\, vrienden en donateurs.Het eerstvolgende concert is op 28 december 2025 in de Bergkerk te Deventer.Entree is gratis. Een vrije gift na afloop wordt zeer op prijs gesteld.
URL:https://bergkerkdeventer.nl/evenement/winterconcert-salon-orkest-deventer/
CATEGORIES:Concert
ATTACH;FMTTYPE=image/png:/wp-content/uploads/2025/12/Schermafbeelding-2025-12-22-230402.png
END:VEVENT
BEGIN:VEVENT
DTSTART;TZID=Europe/Amsterdam:20260521T200000
DTEND;TZID=Europe/Amsterdam:20260521T213000
DTSTAMP:20260425T181030
CREATED:20260303T113226Z
LAST-MODIFIED:20260303T114307Z
UID:10000312-1779393600-1779399000@bergkerkdeventer.nl
SUMMARY:Gyo Kretz - Live in Deventer
DESCRIPTION:Entree € 25 ||  Klik hier voor ticketverkoop\n\n\n\n \n\n\n\n\n\n\n\nGyo Kretz brings his most intimate solo performance to the Bergkerk (St. Nicholas Church) in Deventer. \n\n\n\nAs part of The Candlelight Tour\, Gyo Kretz brings his most intimate solo performance to Deventer. \n\n\n\nFor one special night\, de Bergkerk (a church that is also known for its atmospheric music events) becomes the setting for an intimate evening\, bathed in the soft glow of multiple candlelights.Completely solo\, Gyo invites you into a deeply personal musical journey. Through music and lyrics\, he reflects on life in all its vulnerability. Pure\, romantic with a touch of spirituality. \n\n\n\nExpect an evening where stories unfold gently\, emotions resonate freely\, and the sacred atmosphere of the church amplifies every word and melody. \n\n\n\nPlease note: this is a tiny-capacity event. Tickets are limited\, so be sure to secure yours early to avoid disappointment. \n\n\n\nhttps://www.youtube.com/embed/sixuUDnWBBg
URL:https://bergkerkdeventer.nl/evenement/gyo-kretz-live-in-deventer/
CATEGORIES:Concert
ATTACH;FMTTYPE=image/png:/wp-content/uploads/2026/03/Schermafbeelding-2026-03-03-122615.png
END:VEVENT
BEGIN:VEVENT
DTSTART;TZID=Europe/Amsterdam:20260627T103000
DTEND;TZID=Europe/Amsterdam:20260628T213000
DTSTAMP:20260425T181030
CREATED:20250325T164941Z
LAST-MODIFIED:20251125T220511Z
UID:10000239-1782556200-1782682200@bergkerkdeventer.nl
SUMMARY:IJsselvilla Muziekdagen 2026
DESCRIPTION:In het laatste weekend van juni treden In de Bergkerk muzikanten op die in de IJsselvilla pianoles hebben of in een koor zingen en kan iedereen die dat leuk vindt ook zelf mee komen zingen.De toegang is vrij en je kunt op ieder moment naar binnen lopen.De laatste updates over het programma zijn te vinden via deze link.
URL:https://bergkerkdeventer.nl/evenement/ijsselvilla-muziekdagen-2025/
CATEGORIES:Concert
ATTACH;FMTTYPE=image/png:/wp-content/uploads/2025/03/Schermafbeelding-2025-11-25-225800.png
END:VEVENT
BEGIN:VEVENT
DTSTART;TZID=Europe/Amsterdam:20261128T150000
DTEND;TZID=Europe/Amsterdam:20261128T163000
DTSTAMP:20260425T181030
CREATED:20250606T095801Z
LAST-MODIFIED:20260409T104912Z
UID:10000256-1795878000-1795883400@bergkerkdeventer.nl
SUMMARY:Misa Criolla - Kamerkoor Stampij m.m.v. Javier Rodriguez & Nicolas Diez
DESCRIPTION:Entree € 30 / 25  ||  Klik hier voor ticketverkoop\n\n\n\n \n\n\n\nMisa Criolla van Ariel Ramírez in Nederland:Kamerkoor Stampij brengt legendarisch werk in twee voorstellingen naar Deventer \n\n\n\nKomende november brengt het gerenommeerde Kamerkoor Stampij\, onder leiding van dirigent Hans Tijssen\, de wereldberoemde Misa Criolla van Ariel Ramírez naar Nederland. Zeven uitvoeringen waarvan er twee op zaterdag 28 november in de Bergkerk plaatsvinden. \n\n\n\nDe Misa Criolla\, gecomponeerd door de Argentijnse muzieklegende Ariel Ramírez\, bestaat dit jaar 62 jaar en heeft sinds de première wereldwijd zijn plaats veroverd als een geliefd en iconisch muziekstuk. Het werk wordt nog steeds vaak uitgevoerd en is geliefd bij een breed publiek. Het Kamerkoor Stampij voegt hier een extra dimensie aan toe door deze mis te combineren met Navidad Nuestra\, een ander meesterwerk van Ramírez. Daarnaast zijn het koor en de Argentijnen te horen in solistische bijdragen. \n\n\n\nDe uitvoeringen worden begeleid door de Argentijnse musici Nicolas Diez en Javier Rodríguez\, die samen al jarenlang verantwoordelijk zijn voor authentieke vertolkingen van Ramírez’ muziek. Ramírez zelf beschouwde Rodríguez’ stem als zijn favoriete voor uitvoeringen van de Misa Criolla. De samenwerking van Stampij en de Argentijnen staat garant voor een onvergetelijke ervaring\, waarin klassieke muziek en Argentijnse folklore op sublieme wijze samenkomen. \n\n\n\nConcerten \n\n\n\n\nZaterdag 28 november\, 15.00 uur – Matinee in de Bergkerk\, Deventer\n\n\n\nZaterdag 28 november\, 20.00 uur – Avondvoorstelling Bergkerk\, Deventer\n\n\n\n\nTickets en meer informatie zijn beschikbaar via www.huygensmusic.nl. \n\n\n\nOver Kamerkoor Stampij \n\n\n\nKamerkoor Stampij is een ensemble van semiprofessionele zangers\, gevestigd in Zwolle. Het koor staat bekend om zijn veelzijdigheid\, hoge artistieke kwaliteit en avontuurlijke muziekproducties waarin beleving centraal staat. Door te kiezen voor passende locaties en prikkelend repertoire\, maakt Stampij van koormuziek een meeslepende ervaring die een breed publiek weet te raken.
URL:https://bergkerkdeventer.nl/evenement/misa-criolla-kamerkoor-stampij-m-m-v-javier-rodriguez-nicolas-diez/
CATEGORIES:Concert
ATTACH;FMTTYPE=image/jpeg:/wp-content/uploads/2025/06/foto-website-bergkerk-klein-1.jpg
END:VEVENT
BEGIN:VEVENT
DTSTART;TZID=Europe/Amsterdam:20261128T200000
DTEND;TZID=Europe/Amsterdam:20261128T213000
DTSTAMP:20260425T181030
CREATED:20260409T104819Z
LAST-MODIFIED:20260409T104820Z
UID:10000315-1795896000-1795901400@bergkerkdeventer.nl
SUMMARY:Misa Criolla - Kamerkoor Stampij m.m.v. Javier Rodriguez & Nicolas Diez
DESCRIPTION:Entree € 30 / 25  ||  Klik hier voor ticketverkoop\n\n\n\n \n\n\n\nMisa Criolla van Ariel Ramírez in Nederland:Kamerkoor Stampij brengt legendarisch werk in twee voorstellingen naar Deventer \n\n\n\nKomende november brengt het gerenommeerde Kamerkoor Stampij\, onder leiding van dirigent Hans Tijssen\, de wereldberoemde Misa Criolla van Ariel Ramírez naar Nederland. Zeven uitvoeringen waarvan er twee op zaterdag 28 november in de Bergkerk plaatsvinden. \n\n\n\nDe Misa Criolla\, gecomponeerd door de Argentijnse muzieklegende Ariel Ramírez\, bestaat dit jaar 62 jaar en heeft sinds de première wereldwijd zijn plaats veroverd als een geliefd en iconisch muziekstuk. Het werk wordt nog steeds vaak uitgevoerd en is geliefd bij een breed publiek. Het Kamerkoor Stampij voegt hier een extra dimensie aan toe door deze mis te combineren met Navidad Nuestra\, een ander meesterwerk van Ramírez. Daarnaast zijn het koor en de Argentijnen te horen in solistische bijdragen. \n\n\n\nDe uitvoeringen worden begeleid door de Argentijnse musici Nicolas Diez en Javier Rodríguez\, die samen al jarenlang verantwoordelijk zijn voor authentieke vertolkingen van Ramírez’ muziek. Ramírez zelf beschouwde Rodríguez’ stem als zijn favoriete voor uitvoeringen van de Misa Criolla. De samenwerking van Stampij en de Argentijnen staat garant voor een onvergetelijke ervaring\, waarin klassieke muziek en Argentijnse folklore op sublieme wijze samenkomen. \n\n\n\nConcerten \n\n\n\n\nZaterdag 28 november\, 15.00 uur – Matinee in de Bergkerk\, Deventer\n\n\n\nZaterdag 28 november\, 20.00 uur – Avondvoorstelling Bergkerk\, Deventer\n\n\n\n\nTickets en meer informatie zijn beschikbaar via www.huygensmusic.nl. \n\n\n\nOver Kamerkoor Stampij \n\n\n\nKamerkoor Stampij is een ensemble van semiprofessionele zangers\, gevestigd in Zwolle. Het koor staat bekend om zijn veelzijdigheid\, hoge artistieke kwaliteit en avontuurlijke muziekproducties waarin beleving centraal staat. Door te kiezen voor passende locaties en prikkelend repertoire\, maakt Stampij van koormuziek een meeslepende ervaring die een breed publiek weet te raken.
URL:https://bergkerkdeventer.nl/evenement/misa-criolla-kamerkoor-stampij-m-m-v-javier-rodriguez-nicolas-diez-2/
CATEGORIES:Concert
ATTACH;FMTTYPE=image/jpeg:/wp-content/uploads/2025/06/foto-website-bergkerk-klein-1.jpg
END:VEVENT
END:VCALENDAR