BEGIN:VCALENDAR
VERSION:2.0
PRODID:-//Bergkerk Deventer - ECPv6.15.11//NONSGML v1.0//EN
CALSCALE:GREGORIAN
METHOD:PUBLISH
X-WR-CALNAME:Bergkerk Deventer
X-ORIGINAL-URL:https://bergkerkdeventer.nl
X-WR-CALDESC:Evenementen voor Bergkerk Deventer
REFRESH-INTERVAL;VALUE=DURATION:PT1H
X-Robots-Tag:noindex
X-PUBLISHED-TTL:PT1H
BEGIN:VTIMEZONE
TZID:Europe/Amsterdam
BEGIN:DAYLIGHT
TZOFFSETFROM:+0100
TZOFFSETTO:+0200
TZNAME:CEST
DTSTART:20220327T010000
END:DAYLIGHT
BEGIN:STANDARD
TZOFFSETFROM:+0200
TZOFFSETTO:+0100
TZNAME:CET
DTSTART:20221030T010000
END:STANDARD
BEGIN:DAYLIGHT
TZOFFSETFROM:+0100
TZOFFSETTO:+0200
TZNAME:CEST
DTSTART:20230326T010000
END:DAYLIGHT
BEGIN:STANDARD
TZOFFSETFROM:+0200
TZOFFSETTO:+0100
TZNAME:CET
DTSTART:20231029T010000
END:STANDARD
BEGIN:DAYLIGHT
TZOFFSETFROM:+0100
TZOFFSETTO:+0200
TZNAME:CEST
DTSTART:20240331T010000
END:DAYLIGHT
BEGIN:STANDARD
TZOFFSETFROM:+0200
TZOFFSETTO:+0100
TZNAME:CET
DTSTART:20241027T010000
END:STANDARD
END:VTIMEZONE
BEGIN:VEVENT
DTSTART;TZID=Europe/Amsterdam:20230205T140000
DTEND;TZID=Europe/Amsterdam:20230205T150000
DTSTAMP:20260424T225027
CREATED:20230126T183939Z
LAST-MODIFIED:20230126T210728Z
UID:10000084-1675605600-1675609200@bergkerkdeventer.nl
SUMMARY:Pianorecital "Reduced Musical Landscapes" - Bastiaan Brink
DESCRIPTION:Op zondag 5 februari geeft pianist Bastiaan Brink om 14.00 een pianorecital in de Bergkerk van Deventer tijdens de opening van de foto-expositie ‘Iceland – Reduced Landscapes’ van Jürgen Wieser. \n\n\n\nDe keuze van de gespeelde werken is geïnspireerd op de minimalistische en verstilde fotografie van de expositie. Er zullen pianowerken gespeeld worden van Arvo Pärt\, Maurice Ravel\, Douwe Eisenga\, Bastiaan Brink\, Simeon ten Holt\, Claude Debussy\, Ludwig van Beethoven\, Galina Ustvolskaya en Johann Sebastian Bach. \n\n\n\nU bent van harte uitgenodigd tijdens het concert aanwezig te zijn en nadien de expositie te bekijken. \n\n\n\nVoor meer informatie http://www.bastiaanbrink.com en http://www.shadowgraphy.de
URL:https://bergkerkdeventer.nl/evenement/pianorecital-reduced-musical-landscapes-bastiaan-brink/
CATEGORIES:Concert
ATTACH;FMTTYPE=image/png:/wp-content/uploads/2023/01/Schermafbeelding-2023-01-26-om-20.29.21.png
END:VEVENT
BEGIN:VEVENT
DTSTART;TZID=Europe/Amsterdam:20230121T150000
DTEND;TZID=Europe/Amsterdam:20230121T160000
DTSTAMP:20260424T225027
CREATED:20221201T131849Z
LAST-MODIFIED:20230104T123509Z
UID:10000082-1674313200-1674316800@bergkerkdeventer.nl
SUMMARY:Benefietconcert voor Oekraïne
DESCRIPTION:Benefietconcert door accordeonist Oleg Lysenko voor een ambulance in zijn geboortedorp in Oekraïne.
URL:https://bergkerkdeventer.nl/evenement/benefietconcert-voor-oekraine/
LOCATION:Bergkerk\, Bergkerkplein 14\, 7411 EN Deventer\, Deventer\, Netherlands
CATEGORIES:Concert
ATTACH;FMTTYPE=image/jpeg:/wp-content/uploads/2022/12/Schermafbeelding-2022-12-01-134239.jpg
ORGANIZER;CN="Oleg Lysenko":MAILTO:info@oleglysenko.com
END:VEVENT
BEGIN:VEVENT
DTSTART;TZID=Europe/Amsterdam:20230107T150000
DTEND;TZID=Europe/Amsterdam:20230107T160000
DTSTAMP:20260424T225027
CREATED:20221101T153618Z
LAST-MODIFIED:20230104T093457Z
UID:10000059-1673103600-1673107200@bergkerkdeventer.nl
SUMMARY:Zaterdagmiddagconcert door Sweelinck Koper Kwintet
DESCRIPTION:Het Sweelinck Koperkwintet bestaat uit koperblazers van maar liefst vijf conservatoria en richt zich op de uitvoering van orgelrepertoire.Wat maakt het Sweelinck Koperkwintet dan zo bijzonder? Eigenlijk is dit eenvoudig te verklaren aan de hand van de naam: die is niet zomaar gekozen\, maar staat voor twee belangrijke kenmerken van het ensemble. Dat eerste kenmerk is repertoirekeuze. Dit ensemble is opgericht om orgelmuziek\, letterlijk\, nieuw leven in te blazen. Het kwintet treedt dus altijd op in combinatie met orgel en slagwerk. Voor deze unieke bezetting bestaat geen bladmuziek en derhalve schrijven de leden van het kwintet al hun arrangementen zelf. \nHet andere aspect is leeftijd. Met een gemiddelde leeftijd van 24 jaar is dit ensemble nog erg jong. In de diverse jeugdorkesten van Nederland leerden de muzikanten elkaar kennen wat de unieke situatie veroorzaakt dat de leden afkomstig zijn van de conservatoria van Amsterdam\, Den Haag\, Utrecht\, Groningen en Maastricht. En dan die naam? Nederlands grootste componist én organist is tevens naamgever van het enige orkest waarin alle kwintetleden daadwerkelijk tegelijkertijd in hebben gespeeld: UvA-Orkest J.Pzn Sweelinck. \nDe line-up zal zijn:Sebastiaan Haverkate TrompetSander Beens TrompetHugo Pieters HoornNiels Jacobs TromboneCoen van den Bos Tuba \nJarick Bruinsma Pauken/slagwerkMaarten Wilmink Orgel
URL:https://bergkerkdeventer.nl/evenement/zaterdagmiddagconcert/
LOCATION:Bergkerk\, Bergkerkplein 14\, 7411 EN Deventer\, Deventer\, Netherlands
CATEGORIES:Concert
ATTACH;FMTTYPE=image/jpeg:/wp-content/uploads/2022/11/Schermafbeelding-2022-12-01-132000.jpg
ORGANIZER;CN="Stichting Zaterdagmiddagconcerten Deventer":MAILTO:info@zaterdagmiddagconcertendeventer.nl
END:VEVENT
END:VCALENDAR