BEGIN:VCALENDAR
VERSION:2.0
PRODID:-//Bergkerk Deventer - ECPv6.15.11//NONSGML v1.0//EN
CALSCALE:GREGORIAN
METHOD:PUBLISH
X-ORIGINAL-URL:https://bergkerkdeventer.nl
X-WR-CALDESC:Evenementen voor Bergkerk Deventer
REFRESH-INTERVAL;VALUE=DURATION:PT1H
X-Robots-Tag:noindex
X-PUBLISHED-TTL:PT1H
BEGIN:VTIMEZONE
TZID:Europe/Amsterdam
BEGIN:DAYLIGHT
TZOFFSETFROM:+0100
TZOFFSETTO:+0200
TZNAME:CEST
DTSTART:20230326T010000
END:DAYLIGHT
BEGIN:STANDARD
TZOFFSETFROM:+0200
TZOFFSETTO:+0100
TZNAME:CET
DTSTART:20231029T010000
END:STANDARD
BEGIN:DAYLIGHT
TZOFFSETFROM:+0100
TZOFFSETTO:+0200
TZNAME:CEST
DTSTART:20240331T010000
END:DAYLIGHT
BEGIN:STANDARD
TZOFFSETFROM:+0200
TZOFFSETTO:+0100
TZNAME:CET
DTSTART:20241027T010000
END:STANDARD
BEGIN:DAYLIGHT
TZOFFSETFROM:+0100
TZOFFSETTO:+0200
TZNAME:CEST
DTSTART:20250330T010000
END:DAYLIGHT
BEGIN:STANDARD
TZOFFSETFROM:+0200
TZOFFSETTO:+0100
TZNAME:CET
DTSTART:20251026T010000
END:STANDARD
BEGIN:DAYLIGHT
TZOFFSETFROM:+0100
TZOFFSETTO:+0200
TZNAME:CEST
DTSTART:20260329T010000
END:DAYLIGHT
BEGIN:STANDARD
TZOFFSETFROM:+0200
TZOFFSETTO:+0100
TZNAME:CET
DTSTART:20261025T010000
END:STANDARD
END:VTIMEZONE
BEGIN:VEVENT
DTSTART;TZID=Europe/Amsterdam:20250914T120000
DTEND;TZID=Europe/Amsterdam:20250914T153000
DTSTAMP:20260425T014729
CREATED:20250828T121640Z
LAST-MODIFIED:20250910T102057Z
UID:10000275-1757851200-1757863800@bergkerkdeventer.nl
SUMMARY:!mpact - HOOFDZAKEN
DESCRIPTION:Een modern dansgezelschap dat dans betekenisvol maakt. \n\n\n\nVoorstelling: HOOFDZAKENZondag: 12.00\, 13.00\, 14.00 en 15.00 uurTijdsduur: 30 min.Locatie: Bergkerk\, Bergkerkplein 1Toegang: Gratis \n\n\n\n!MPACT is een modern dansgezelschap dat dans betekenisvol maakt. \n\n\n\nMet dans als taal wil !MPACT vertellen wat in woorden soms moeilijk te vangen is. !MPACT bestaat uit 9 semi professionele dansers en een kweekvijver; !MPACT Junior\, waarbinnen 8 talentvolle jonge dansers de ruimte krijgen om hun talent te ontplooien.In de nieuwe voorstelling HOOFDZAKEN neemt dansgezelschap !MPACT je mee op reis door de kronkels van onze gedachten en de mysterieuze wereld van het brein. \n\n\n\nOver BOVENKAMERS !MPACT JuniorIn BOVENKAMERS van choreografe Annemieke van Barneveld zoeken de dansers hun weg door het brein. Van de rationele cortex naar de verborgen underground van het onderbewuste en weer terug. Langs rauwe emoties\, primaire behoeften en verwarrende gedachten. Hoe beweegt een gedachte? Hoe stroomt een emotie door ons lichaam? Hoe wordt onze binnenwereld beïnvloed door de ander?BOVENKAMERS is een dansante vertaling van de fascinerende connecties in ons hoofd die bepalen wat we denken\, voelen en doen. \n\n\n\nOver VERRASSEND VEELZIJDIG !MPACTIn VERRASSEND VEELZIJDIG stelt Marion van Veen de vraag hoe inclusief onze maatschappij werkelijk is. Hoe mooi zou het zijn als we de diversiteit van mensen juist inzetten als kracht? Mensen met ontwikkelingsverschillen zoals ADHD\, autisme en dyslexie voelen zich vaak niet begrepen. Ze vallen buiten de groep en voelen zich tot last. Maar wat als we elkaars kwaliteiten écht gaan benutten?Samen zijn wij Verrassend Veelzijdig.
URL:https://bergkerkdeventer.nl/evenement/mpact-hoofdzaken/
CATEGORIES:Dans
ATTACH;FMTTYPE=image/jpeg:/wp-content/uploads/2025/05/danzo-scaled.jpg
END:VEVENT
BEGIN:VEVENT
DTSTART;TZID=Europe/Amsterdam:20250913T110000
DTEND;TZID=Europe/Amsterdam:20250913T133000
DTSTAMP:20260425T014729
CREATED:20250509T213252Z
LAST-MODIFIED:20250910T102229Z
UID:10000251-1757761200-1757770200@bergkerkdeventer.nl
SUMMARY:Studio Danzo
DESCRIPTION:Een meeslepende\, spetterende danspresentatie. \n\n\n\nZaterdag: 11.00\, 12.00 en 13.00 uurTijdsduur: 30 min.Locatie: Bergkerk\, Bergkerkplein 1Toegang: Gratis \n\n\n\nStudio DanZo brengt de prachtige Bergkerk tot leven met een spetterende danspresentatie. Geniet van de grote diversiteit die de dansschool te bieden heeft\, van jonge talenten tot ervaren dansers en van moderne choreografieën tot energieke Hip Hop. \n\n\n\nOver Studio DanzoIn een afwisselend en meeslepend halfuur nemen dansers van alle leeftijden je mee in hun passie. Laat je verrassen door het talent dat wekelijks traint bij DanZo\, voel de kracht van expressieve bewegingen en ontdek hoe dans een boodschap overbrengt.
URL:https://bergkerkdeventer.nl/evenement/impact-studio-danzo-dansdemonstratie/
CATEGORIES:Dans
ATTACH;FMTTYPE=image/png:/wp-content/uploads/2025/05/studiodanzo.png
END:VEVENT
BEGIN:VEVENT
DTSTART;TZID=Europe/Amsterdam:20240914T200000
DTEND;TZID=Europe/Amsterdam:20240914T223000
DTSTAMP:20260425T014729
CREATED:20240821T185141Z
LAST-MODIFIED:20240821T185812Z
UID:10000197-1726344000-1726353000@bergkerkdeventer.nl
SUMMARY:"Nacht van Goud" - Studio Danzo
DESCRIPTION:Open Monumentendag heeft op zaterdagavond een gouden randje. Dan start voor de elfde keer Nacht van Goud\, een avond vol exclusieve voorstellingen met dans\, verhalen\, muziek en theater. \n\n\n\nIeder half uur (20.30\, 21.00\, 21.30 en 22.00 uur) start een 15 minuten durende voorstelling op prachtige locaties. Wees er op tijd bij want vol=vol. De toegang is gratis. In de Bergkerk zijn optredens van Studio DanZo.  Laat je inspireren en ontroeren en krijg volop energie van dit moderne dansgezelschap.
URL:https://bergkerkdeventer.nl/evenement/nacht-van-goud-studio-danzo/
CATEGORIES:Dans
ATTACH;FMTTYPE=image/png:/wp-content/uploads/2024/08/impact.png
ORGANIZER;CN="Stichting Deventer Verhaal":MAILTO:info@deventerverhaal.nl
END:VEVENT
END:VCALENDAR