BEGIN:VCALENDAR
VERSION:2.0
PRODID:-//Bergkerk Deventer - ECPv6.15.11//NONSGML v1.0//EN
CALSCALE:GREGORIAN
METHOD:PUBLISH
X-WR-CALNAME:Bergkerk Deventer
X-ORIGINAL-URL:https://bergkerkdeventer.nl
X-WR-CALDESC:Evenementen voor Bergkerk Deventer
REFRESH-INTERVAL;VALUE=DURATION:PT1H
X-Robots-Tag:noindex
X-PUBLISHED-TTL:PT1H
BEGIN:VTIMEZONE
TZID:Europe/Amsterdam
BEGIN:DAYLIGHT
TZOFFSETFROM:+0100
TZOFFSETTO:+0200
TZNAME:CEST
DTSTART:20220327T010000
END:DAYLIGHT
BEGIN:STANDARD
TZOFFSETFROM:+0200
TZOFFSETTO:+0100
TZNAME:CET
DTSTART:20221030T010000
END:STANDARD
BEGIN:DAYLIGHT
TZOFFSETFROM:+0100
TZOFFSETTO:+0200
TZNAME:CEST
DTSTART:20230326T010000
END:DAYLIGHT
BEGIN:STANDARD
TZOFFSETFROM:+0200
TZOFFSETTO:+0100
TZNAME:CET
DTSTART:20231029T010000
END:STANDARD
BEGIN:DAYLIGHT
TZOFFSETFROM:+0100
TZOFFSETTO:+0200
TZNAME:CEST
DTSTART:20240331T010000
END:DAYLIGHT
BEGIN:STANDARD
TZOFFSETFROM:+0200
TZOFFSETTO:+0100
TZNAME:CET
DTSTART:20241027T010000
END:STANDARD
END:VTIMEZONE
BEGIN:VEVENT
DTSTART;TZID=Europe/Amsterdam:20231210T140000
DTEND;TZID=Europe/Amsterdam:20231210T160000
DTSTAMP:20260425T055744
CREATED:20231114T151705Z
LAST-MODIFIED:20231114T151705Z
UID:10000149-1702216800-1702224000@bergkerkdeventer.nl
SUMMARY:Deventer humanisten\, vrijdenkers en 75 jaar mensenrechten
DESCRIPTION:Op 10 december is het 75 jaar geleden dat de Universele Verklaring van de Rechten van de Mens aangenomen is door de VN. Deze verklaring is helaas nog steeds actueel in deze tijd van wereldwijde oorlogen en geweld. Ook in Nederland worden mensenrechten geschonden. Daarom wordt ook dit jaar in Deventer de Week van de Mensenrechten georganiseerd. \n\n\n\nDe afdeling Deventer van het Humanistisch Verbond nodigt je uit stil te staan bij dit moment. Vele generaties humanisten en vrijdenkers hebben gestreden voor geloofsvrijheid en vrijheid van meningsuiting. Zij eigenden zich de vrijheid toe die binnen hun omstandigheden mogelijk was. Ze gingen tegen de stroom van dogma’s en tradities in\, en verlegden de grens van wat toegestaan was en wat niet. \n\n\n\n\n\n\n\nSprekers\n\n\n\nClemens Hogenstijn\, auteur van vele werken over Deventer Denkers\, vertelt over het Deventerse klimaat van humanisme en vrijdenken\, met in het hart de Latijnse School\, die internationaal beroemd was en die denkers als Erasmus en Descartes aantrokken. Clemens zal inzoomen op enkele gedurfde denkers\, en wat hun invloed is geweest. \n\n\n\nDaarna neemt Judith Koelemeijer\, auteur van de biografie over Etty Hillesum\, ons mee in Etty’s radicale poging om zelf een antwoord te vormen op de vraag wat een goed leven is. Ondanks de verschrikkingen van WO2\, die ze als joodse aan den lijve ondervond\, bleef ze vrij en onafhankelijk nadenken en handelen. Haar onverwoestbare en ongelooflijk koppige optimisme hebben honderdduizenden lezers geïnspireerd hun leven op eigen\, vrije wijze\, vorm te geven\, tegen conventies in. Judith zal onderzoeken wat wij vandaag de dag kunnen met haar voorbeeld. \n\n\n\nMardjan Seighali\, voorzitter van het Humanistisch Verbond\, sluit het deel voor de pauze af en vertelt over humanisme\, strijd voor mensenrechten en individuele vrijheid\, ook vanuit haar persoonlijke ervaringen. \n\n\n\nProgramma\n\n\n\nDichteres en muzikant Johanneke ter Stege zal dagvoorzitter zijn\, de sprekers inleiden en hen na de pauze interviewen over hun eigen ervaringen en ideeën over vrijheid én onvrijheid. De lezingen worden afgewisseld met muziek. \n\n\n\nVan 14.00 – 16.00 uurLocatie: Bergkerk Deventer\, Bergkerkplein 1. De Bergkerk wordt voorzien van voldoende geluidsversterking in verband met de akoestiek.Toegang is gratis\, aanmelden is niet nodig.
URL:https://bergkerkdeventer.nl/evenement/deventer-humanisten-vrijdenkers-en-75-jaar-mensenrechten/
CATEGORIES:Diversen
ATTACH;FMTTYPE=image/png:/wp-content/uploads/2023/11/humverb.png
END:VEVENT
END:VCALENDAR