BEGIN:VCALENDAR
VERSION:2.0
PRODID:-//Bergkerk Deventer - ECPv6.15.11//NONSGML v1.0//EN
CALSCALE:GREGORIAN
METHOD:PUBLISH
X-WR-CALNAME:Bergkerk Deventer
X-ORIGINAL-URL:https://bergkerkdeventer.nl
X-WR-CALDESC:Evenementen voor Bergkerk Deventer
REFRESH-INTERVAL;VALUE=DURATION:PT1H
X-Robots-Tag:noindex
X-PUBLISHED-TTL:PT1H
BEGIN:VTIMEZONE
TZID:Europe/Amsterdam
BEGIN:DAYLIGHT
TZOFFSETFROM:+0100
TZOFFSETTO:+0200
TZNAME:CEST
DTSTART:20220327T010000
END:DAYLIGHT
BEGIN:STANDARD
TZOFFSETFROM:+0200
TZOFFSETTO:+0100
TZNAME:CET
DTSTART:20221030T010000
END:STANDARD
BEGIN:DAYLIGHT
TZOFFSETFROM:+0100
TZOFFSETTO:+0200
TZNAME:CEST
DTSTART:20230326T010000
END:DAYLIGHT
BEGIN:STANDARD
TZOFFSETFROM:+0200
TZOFFSETTO:+0100
TZNAME:CET
DTSTART:20231029T010000
END:STANDARD
BEGIN:DAYLIGHT
TZOFFSETFROM:+0100
TZOFFSETTO:+0200
TZNAME:CEST
DTSTART:20240331T010000
END:DAYLIGHT
BEGIN:STANDARD
TZOFFSETFROM:+0200
TZOFFSETTO:+0100
TZNAME:CET
DTSTART:20241027T010000
END:STANDARD
END:VTIMEZONE
BEGIN:VEVENT
DTSTART;TZID=Europe/Amsterdam:20230923T190000
DTEND;TZID=Europe/Amsterdam:20230923T220000
DTSTAMP:20260425T044849
CREATED:20230905T104653Z
LAST-MODIFIED:20230905T104959Z
UID:10000129-1695495600-1695506400@bergkerkdeventer.nl
SUMMARY:UW DANSPARTNERS IN TIJDEN VAN NOOD!  II
DESCRIPTION:Na het succes van Radio tijden van Nood zijn Uw Danspartners In Tijden Van Nood terug! Ook deze avond draaien ze de meest rare mix die je kan voorstellen. Of het nu balkan\, soul\, funk\, breakbeat\, afro\, classics\, jungle of alt-country is\, het maakt deze mannen geen reet uit. Heupwiegen zal je! \n\n\n\n \n\n\n\nEntree € 9\,00 volwassenen vanaf 16 jaar / Klik hier voor kaartverkoop
URL:https://bergkerkdeventer.nl/evenement/uw-danspartners-in-tijden-van-nood-2/
CATEGORIES:DJ live & avondopenstelling "The Fly"
ATTACH;FMTTYPE=image/png:/wp-content/uploads/2023/07/intijdenvannood.png
ORGANIZER;CN="Organisatie %3A Joost Carlier - 'The Fly'":MAILTO:marcelwendrich@xs4all.nl
END:VEVENT
BEGIN:VEVENT
DTSTART;TZID=Europe/Amsterdam:20230916T190000
DTEND;TZID=Europe/Amsterdam:20230916T220000
DTSTAMP:20260425T044849
CREATED:20230721T140817Z
LAST-MODIFIED:20230905T104938Z
UID:10000116-1694890800-1694901600@bergkerkdeventer.nl
SUMMARY:UW DANSPARTNERS IN TIJDEN VAN NOOD!  I
DESCRIPTION:Na het succes van Radio tijden van Nood zijn Uw Danspartners In Tijden Van Nood terug! Ook deze avond draaien ze de meest rare mix die je kan voorstellen. Of het nu balkan\, soul\, funk\, breakbeat\, afro\, classics\, jungle of alt-country is\, het maakt deze mannen geen reet uit. Heupwiegen zal je! \n\n\n\n \n\n\n\nEntree € 9\,00 volwassenen vanaf 16 jaar / Klik hier voor kaartverkoop
URL:https://bergkerkdeventer.nl/evenement/uw-danspartners-in-tijden-van-nood/
CATEGORIES:DJ live & avondopenstelling "The Fly"
ATTACH;FMTTYPE=image/png:/wp-content/uploads/2023/07/intijdenvannood.png
ORGANIZER;CN="Organisatie %3A Joost Carlier - 'The Fly'":MAILTO:marcelwendrich@xs4all.nl
END:VEVENT
BEGIN:VEVENT
DTSTART;TZID=Europe/Amsterdam:20230909T190000
DTEND;TZID=Europe/Amsterdam:20230909T220000
DTSTAMP:20260425T044849
CREATED:20230721T135703Z
LAST-MODIFIED:20230830T133800Z
UID:10000115-1694286000-1694296800@bergkerkdeventer.nl
SUMMARY:DONKEY TONK
DESCRIPTION:Donkey Tonk is een vintage dj-installatie bestaande uit ezel met huifkar. In stijl van een ouderwetse schillenboer met vleugjes gypsy\, Mexico en het platteland van de V.S. zorgt Donkey Tonk voor een sfeervol decor met bijbehorende muziek. Blues\, Country\, Gypsy\, Hawaiian\, Jazz\, Exotica\, Rock&Roll\, Bluegrass en Singer-Songwriter\, het komt allemaal voorbij. Uitsluitend op vinyl uiteraard. \n\n\n\nEntree € 9\,00 volwassenen vanaf 16 jaar / Klik hier voor kaartverkoop
URL:https://bergkerkdeventer.nl/evenement/donkey-tonk/
CATEGORIES:DJ live & avondopenstelling "The Fly"
ATTACH;FMTTYPE=image/png:/wp-content/uploads/2023/07/donkeytonk3.png
ORGANIZER;CN="Organisatie %3A Joost Carlier - 'The Fly'":MAILTO:marcelwendrich@xs4all.nl
END:VEVENT
BEGIN:VEVENT
DTSTART;TZID=Europe/Amsterdam:20230902T190000
DTEND;TZID=Europe/Amsterdam:20230902T220000
DTSTAMP:20260425T044849
CREATED:20230721T135036Z
LAST-MODIFIED:20230802T175745Z
UID:10000114-1693681200-1693692000@bergkerkdeventer.nl
SUMMARY:"GROOVY SWING" - DEEJAY TIN WISH TIN
DESCRIPTION:In het kader van de tentoonstelling “The Fly” van Jan M. Verburg. Op zijn Groovy Swing Nights draait hij naast ska\, soul en rhythm & blues ook funk\, jazz\, latin\, mambo en rock ‘n’ roll. Heerlijk dansen op de hits van vroeger maar ook zeer dansbare nummers die niet zo bekend zijn geworden. Clubs in Berlijn\, New York\, Winchester en festivals als Lowlands en MadNes hebben al genoten van Groovy Swing. Verwacht koffers vol met vinyl met voornamelijk plaatjes uit de jaren 40 tot en met 70. \n\n\n\n \n\n\n\nEntree € 9\,00 volwassenen vanaf 16 jaar / Klik hier voor kaartverkoop
URL:https://bergkerkdeventer.nl/evenement/deejaytin-wish-tin-groovy-swing/
CATEGORIES:DJ live & avondopenstelling "The Fly"
ATTACH;FMTTYPE=image/png:/wp-content/uploads/2023/07/wishtin2.png
ORGANIZER;CN="Organisatie %3A Joost Carlier - 'The Fly'":MAILTO:marcelwendrich@xs4all.nl
END:VEVENT
END:VCALENDAR