BEGIN:VCALENDAR
VERSION:2.0
PRODID:-//Bergkerk Deventer - ECPv6.15.11//NONSGML v1.0//EN
CALSCALE:GREGORIAN
METHOD:PUBLISH
X-ORIGINAL-URL:https://bergkerkdeventer.nl
X-WR-CALDESC:Evenementen voor Bergkerk Deventer
REFRESH-INTERVAL;VALUE=DURATION:PT1H
X-Robots-Tag:noindex
X-PUBLISHED-TTL:PT1H
BEGIN:VTIMEZONE
TZID:Europe/Amsterdam
BEGIN:DAYLIGHT
TZOFFSETFROM:+0100
TZOFFSETTO:+0200
TZNAME:CEST
DTSTART:20220327T010000
END:DAYLIGHT
BEGIN:STANDARD
TZOFFSETFROM:+0200
TZOFFSETTO:+0100
TZNAME:CET
DTSTART:20221030T010000
END:STANDARD
BEGIN:DAYLIGHT
TZOFFSETFROM:+0100
TZOFFSETTO:+0200
TZNAME:CEST
DTSTART:20230326T010000
END:DAYLIGHT
BEGIN:STANDARD
TZOFFSETFROM:+0200
TZOFFSETTO:+0100
TZNAME:CET
DTSTART:20231029T010000
END:STANDARD
BEGIN:DAYLIGHT
TZOFFSETFROM:+0100
TZOFFSETTO:+0200
TZNAME:CEST
DTSTART:20240331T010000
END:DAYLIGHT
BEGIN:STANDARD
TZOFFSETFROM:+0200
TZOFFSETTO:+0100
TZNAME:CET
DTSTART:20241027T010000
END:STANDARD
END:VTIMEZONE
BEGIN:VEVENT
DTSTART;TZID=Europe/Amsterdam:20230324T200000
DTEND;TZID=Europe/Amsterdam:20230324T230000
DTSTAMP:20260425T044428
CREATED:20230308T210118Z
LAST-MODIFIED:20230308T214556Z
UID:10000091-1679688000-1679698800@bergkerkdeventer.nl
SUMMARY:Ongewenste ambient | Bastian Benjamin x Milio (live)
DESCRIPTION:Tijdens Neo Visionair vindt op 24 maar Ongewenste Ambient plaats. Bastian Benjamin en Milio kwamen afgelopen jaar samen door de liefde van avontuurlijke live elektronica. Dit resulteerde in een 3-uur lange live jam met een grote hoeveelheid synthesizers. Deze manier van spelen heeft geleid tot de ambient improvisatie die zij 24 maart\, geproduceerd door BRUT\, in de Bergkerk zullen spelen. Hierin gaan ze gebruik maken van de kerk galm en laten ze zich inspireren door de expositie. Alles is geïmproviseerd en ter plekke gemaakt. Uiteraard net zo spannend voor het publiek als voor de artiesten zelf. Je zult de muziek horen voor de allereerste en laatste keer. \n\n\n\nMilio \n\n\n\nMilio is altijd op zoek naar de puurste vorm van elektronische muziek. Dat komt duidelijk naar voren bij het horen van zijn psychedelische sound en mysterieuze melodieën. “Mijn muziek komt diep uit mij. Het vertegenwoordigt wie ik ben\, en dat is duidelijk te zien. ik maak niet muziek om van te houden.” Maar deze man is ongetwijfeld geliefd! Top DJ’s zoals Dixon\, &ME\, Solomun en vele anderen hebben dat bewezen door Milio’s muziek te draaien. In 2021 bracht hij zijn debuutalbum ‘Nachtzon’ uit op het Atomnation-label. \n\n\n\nBastian Benjamin \n\n\n\nDe uit deventer afkomstige artiest Bastian Benjamin heeft als doel om de luisteraar te verrassen en dat gene te laten voelen wat niet te omschrijven is. Zijn muziek is een afwisseling tussen hypnotiserende soundscapes en grove drums met zware basses. Geïnspireerd door dans en cinematografie\, combineert hij in zijn muziek analoge synths met organische texturen. In 2020 bracht hij zijn album ‘Two Truth’ uit op zijn eigen label ‘Passage’. Dit album heeft geleid tot meerdere producties voor theater en dans zoals ‘EXIT’ van Piet van Dycke die in 2022 op Oerol in première ging.
URL:https://bergkerkdeventer.nl/evenement/ongewenste-ambient-bastian-benjamin-x-milio-live/
CATEGORIES:Elektronische muziek
ATTACH;FMTTYPE=image/png:/wp-content/uploads/2023/03/Schermafbeelding-2023-03-08-om-21.46.41.png
END:VEVENT
END:VCALENDAR