BEGIN:VCALENDAR
VERSION:2.0
PRODID:-//Bergkerk Deventer - ECPv6.15.11//NONSGML v1.0//EN
CALSCALE:GREGORIAN
METHOD:PUBLISH
X-ORIGINAL-URL:https://bergkerkdeventer.nl
X-WR-CALDESC:Evenementen voor Bergkerk Deventer
REFRESH-INTERVAL;VALUE=DURATION:PT1H
X-Robots-Tag:noindex
X-PUBLISHED-TTL:PT1H
BEGIN:VTIMEZONE
TZID:Europe/Amsterdam
BEGIN:DAYLIGHT
TZOFFSETFROM:+0100
TZOFFSETTO:+0200
TZNAME:CEST
DTSTART:20250330T010000
END:DAYLIGHT
BEGIN:STANDARD
TZOFFSETFROM:+0200
TZOFFSETTO:+0100
TZNAME:CET
DTSTART:20251026T010000
END:STANDARD
BEGIN:DAYLIGHT
TZOFFSETFROM:+0100
TZOFFSETTO:+0200
TZNAME:CEST
DTSTART:20260329T010000
END:DAYLIGHT
BEGIN:STANDARD
TZOFFSETFROM:+0200
TZOFFSETTO:+0100
TZNAME:CET
DTSTART:20261025T010000
END:STANDARD
BEGIN:DAYLIGHT
TZOFFSETFROM:+0100
TZOFFSETTO:+0200
TZNAME:CEST
DTSTART:20270328T010000
END:DAYLIGHT
BEGIN:STANDARD
TZOFFSETFROM:+0200
TZOFFSETTO:+0100
TZNAME:CET
DTSTART:20271031T010000
END:STANDARD
END:VTIMEZONE
BEGIN:VEVENT
DTSTART;TZID=Europe/Amsterdam:20260208T110000
DTEND;TZID=Europe/Amsterdam:20260322T170000
DTSTAMP:20260425T003107
CREATED:20251125T202931Z
LAST-MODIFIED:20260220T154109Z
UID:10000294-1770548400-1774198800@bergkerkdeventer.nl
SUMMARY:"Doorzicht" - over transparantie in de kunst
DESCRIPTION:(N.B. de expositie kan op sommige dagen niet – of beperkt toegankelijk zijn i.v.m. concerten\, raadpleeg onze agenda voor actuele informatie.) \n\n\n\nIn deze tentoonstelling worden beelden\, schilderijen\, tekeningen en reliëfs samengebracht waar je in kijkt of door het materiaal heen\, het licht speelt eromheen\, er is sprake van werkelijke of gesuggereerde diepte. De tentoonstelling verwijst overal naar de wereld om ons heen en hoe we die waarnemen. Naar licht\, ruimte\, architectuur\, landschap. En naar de Bergkerk waar licht en transparantie zo’n belangrijke rol spelen in het ervaren van de ruimte. Bij alle  werken\, hoe verschillend in uiterlijk ook\, stel je je de vraag hoe je jezelf fysiek verhoudt tot de ruimte die daar ontstaat. \n\n\n\nVan de elf deelnemende kunstenaars zijn er twee beeldhouwers: Eduard Wind en Niko de Wit. Twee tekenaars: Kris van Dessel en Marc Nagtzaam. Vier schilders: Jurriaan Molenaar\, José Heerkens\, Frank Oude Weernink en Benjamin Roth. Frank Halmans maakt collages en vrijstaande beelden\, Krijn de Koning toont modellen voor grote werken en Robbert de Goede maakt een ruimtelijke draadsculptuur. \n\n\n\nDe opening van deze expositie vindt plaats op zondag 8 februari vanaf 14.00 uur\, u wordt van harte uitgenodigd om hierbij aanwezig te zijn! \n\n\n\nDeze tentoonstelling wordt mede mogelijk gemaakt door:
URL:https://bergkerkdeventer.nl/evenement/doorkijk-expositie-over-transparantie-in-de-kunst/
CATEGORIES:Expositie Bergkerk Variaties
ATTACH;FMTTYPE=image/jpeg:/wp-content/uploads/2025/11/doorkijk.jpg
ORGANIZER;CN="Events dEVENTer | Bergkerk":MAILTO:bergkerk@eventsdeventer.nl
END:VEVENT
END:VCALENDAR