BEGIN:VCALENDAR
VERSION:2.0
PRODID:-//Bergkerk Deventer - ECPv6.15.11//NONSGML v1.0//EN
CALSCALE:GREGORIAN
METHOD:PUBLISH
X-ORIGINAL-URL:https://bergkerkdeventer.nl
X-WR-CALDESC:Evenementen voor Bergkerk Deventer
REFRESH-INTERVAL;VALUE=DURATION:PT1H
X-Robots-Tag:noindex
X-PUBLISHED-TTL:PT1H
BEGIN:VTIMEZONE
TZID:Europe/Amsterdam
BEGIN:DAYLIGHT
TZOFFSETFROM:+0100
TZOFFSETTO:+0200
TZNAME:CEST
DTSTART:20250330T010000
END:DAYLIGHT
BEGIN:STANDARD
TZOFFSETFROM:+0200
TZOFFSETTO:+0100
TZNAME:CET
DTSTART:20251026T010000
END:STANDARD
BEGIN:DAYLIGHT
TZOFFSETFROM:+0100
TZOFFSETTO:+0200
TZNAME:CEST
DTSTART:20260329T010000
END:DAYLIGHT
BEGIN:STANDARD
TZOFFSETFROM:+0200
TZOFFSETTO:+0100
TZNAME:CET
DTSTART:20261025T010000
END:STANDARD
BEGIN:DAYLIGHT
TZOFFSETFROM:+0100
TZOFFSETTO:+0200
TZNAME:CEST
DTSTART:20270328T010000
END:DAYLIGHT
BEGIN:STANDARD
TZOFFSETFROM:+0200
TZOFFSETTO:+0100
TZNAME:CET
DTSTART:20271031T010000
END:STANDARD
END:VTIMEZONE
BEGIN:VEVENT
DTSTART;TZID=Europe/Amsterdam:20260103T110000
DTEND;TZID=Europe/Amsterdam:20260125T170000
DTSTAMP:20260425T050342
CREATED:20251125T201550Z
LAST-MODIFIED:20251205T191330Z
UID:10000293-1767438000-1769360400@bergkerkdeventer.nl
SUMMARY:Henk van der Ven en Constance Visser - “STILTE IN STILTE”
DESCRIPTION:Van3 t/m 25 januari 2026 vindt in de Bergkerk in Deventer de expositie ‘Stilte in Stilte’ plaats\, van de Deventer beeldend kunstenaars Henk van der Ven en Constance Visser.   \n\n\n\nDe tentoonstelling wordt geopend op 4 januari 2026 om 15.00 uur. Bij de opening zal componist en pianist Bastiaan Brink een optreden verzorgen met muziek van o.a. Arvo Pärt. \n\n\n\nDe tentoonstelling bestaat uit een aantal grote houtskooltekeningen op papier van ca. 280 x 150 cm\,  schilderijen en ander werk op papier. In dit project onderzoeken de beide kunstenaars twee aspecten van de wereld om ons heen\, enerzijds het actieve en drukke\, waaraan voor velen grote behoefte bestaat\, en anderzijds de rust en de stilte waaraan duidelijk minstens zo’n grote behoefte bestaat. Hoe kan met beeldende middelen aan beide aspecten uitdrukking worden geven\, en wat leert ons dat hierover?   \n\n\n\nIn de grote tekeningen hebben Visser en Van der Ven beurtelings het actieve en het stille weergegeven\, zoals zij dat voor zich zagen. In de tentoonstelling plaatsen ze deze tekeningen in een ronde opstelling op het koor van de kerk. Door deze tekeningen steeds twee aan twee met de rug tegen elkaar op te hangen\, ontstaat een ‘stille’ binnenruimte in contrast met de ‘actieve’ buitenkant. De toeschouwer kan er zowel omheen lopen\, als de binnenruimte betreden en zo zelf de uitwerking van deze werken te ondergaan. \n\n\n\nInspiratie \n\n\n\nEén van hun inspiratiebronnen bij dit thema is de muziek van componist Arvo Pärt\, onder andere  zijn compositie “Spiegel im Spiegel”\, vanwege de verstilling die daaruit spreekt. Die speelde een grote rol bij de totstandkoming van de expositie. \n\n\n\nDaarnaast vonden ze in de Bergkerk een mooie aanvullende inspiratiebron\, onder andere in de vorm van de (graf)stenen in de vloer. De afdrukken hiervan\, de zg. ‘rubbings’ (wrijfprenten)\, komen naast andere werken\, zoals olieverfschilderijen en tekeningen in de tentoonstelling te hangen. Ook hierbij wordt stilte naast activiteit gezet\, als overweging bij de ontmoeting van beide. \n\n\n\nDe kunstenaars \n\n\n\nHenk van der Ven en Constance Visser werken sinds 1998 samen. Zij delen o.a. een atelier in Deventer\, genaamd IJsseldam\, waar ze op meerdere terreinen werkzaam zijn. Het bijzondere aan hun samenwerking is\, dat ze gezamenlijk aan hetzelfde kunstwerk werken\, en die ook beiden ondertekenen. De grote tekeningen in de tentoonstelling zijn op deze manier tot stand gekomen. \n\n\n\nDaarnaast maken ze ieder apart schilderijen en tekeningen\, en geven ze teken- en schilderlessen. \n\n\n\nOp hun website is alle informatie te vinden. \n\n\n\nOndersteuning \n\n\n\nDeze tentoonstelling wordt mede mogelijk gemaakt door: \n\n\n\n\n\n\n\n\n\n\n\n\n\n\n\n\n\n\n\n\n\n\n\n\n\n\n\nJeanette Hollaarfonds
URL:https://bergkerkdeventer.nl/evenement/stilte-in-stilte-henk-van-der-ven-en-constance-visser/
CATEGORIES:Expositie
ATTACH;FMTTYPE=image/jpeg:/wp-content/uploads/2025/11/stilte2.jpg
END:VEVENT
BEGIN:VEVENT
DTSTART;TZID=Europe/Amsterdam:20260408T110000
DTEND;TZID=Europe/Amsterdam:20260422T170000
DTSTAMP:20260425T050342
CREATED:20260117T212106Z
LAST-MODIFIED:20260218T212713Z
UID:10000306-1775646000-1776877200@bergkerkdeventer.nl
SUMMARY:Nomadisch Monument voor Gaza
DESCRIPTION:Het Nomadisch Monument voor Gaza zal van 8 t/m 22 April 2026 een plek krijgen in de Bergkerk te Deventer onder het motto “Hoop voor Gaza”. Het Nomadisch Monument voor Gaza is een reizende kunstinstallatie die herdenkt\, bewust maakt en aanzet tot gesprek. Het monument brengt het aantal slachtoffers in Gaza in beeld en nodigt uit tot reflectie. Het is een monument voor medemenselijkheid.  \n\n\n\nNomadisch Monument voor Gaza\n\n\n\nDoor een hekwerk van vilten pilaren kunnen bezoekers als het ware Gaza binnenstappen en daar de beklemming voelen van het opgesloten zijn. Aan de binnenzijde van de pilaren is met eenvoudige streepjes het grote aantal slachtoffers te zien\, een indringende ervaring. De zachte vloer en het geluiddempende vilt versterken de verstilling. Op het vloerkleed is de plattegrond van Den Haag op schaal te zien\, de internationale stad van vrede en recht. Zo wordt zichtbaar hoe klein en kwetsbaar Gaza eigenlijk is. \n\n\n\nInnerlijke kracht\n\n\n\nDe expositie Hoop voor Gaza gaat over de innerlijke kracht om ergens voor te werken\, niet omdat het een voorspelling betreft of getuigt van optimisme\, maar omdat de innerlijke kracht vanuit de ziel en het hart komt in de overtuiging dat “iets doen” zinvol is.Zo ondersteunt Hoop voor Gaza ook moeders en kinderen uit Gaza om weer een weg te vinden naar een betere toekomst. Met behulp van artistieke activiteiten (schilderen\, glastechniek\, dans) en psychosociale begeleiding wordt de verbinding tussen moeder en kind versterkt. Op deze wijze krijgen moeder en kind de kans om weer positieve herinneringen op te bouwen. Resultaten zullen te zien zijn tijdens deze expositie. \n\n\n\n\n\n\n\nDaarnaast is er een verdiepend randprogramma van kinderkunst uit Deventer\, literatuur en muziek. Dit randprogramma is een open uitnodiging voor elke bezoeker om stil te staan bij wat er gebeurt in de wereld. Op zoek naar de (sprankjes) hoop die de wereld een klein beetje beter kunnen maken. Het programma wordt binnenkort bekend gemaakt. \n\n\n\nZie ook de website van Monument voor Gaza voor meer informatie:  https://monumentforgaza.org/nl \n\n\n\nDit project komt tot stand met medewerking van de Hope Foundation en Events dEVENTer
URL:https://bergkerkdeventer.nl/evenement/nomadisch-monument-voor-gaza/
CATEGORIES:Expositie
ATTACH;FMTTYPE=image/png:/wp-content/uploads/2026/01/nm.png
END:VEVENT
BEGIN:VEVENT
DTSTART;TZID=Europe/Amsterdam:20260927T110000
DTEND;TZID=Europe/Amsterdam:20261115T170000
DTSTAMP:20260425T050342
CREATED:20251125T205338Z
LAST-MODIFIED:20260326T153058Z
UID:10000296-1790506800-1794762000@bergkerkdeventer.nl
SUMMARY:Frans Stelling - Overzichtstentoonstelling
DESCRIPTION:Frans Stelling (geboren in Utrecht\, 1936\, woont in Deventer) geeft in de Bergkerk voor het eerst in zijn leven een overzicht van zijn veelzijdige oeuvre als schilder\, tekenaar en beeldhouwer. Naast zijn vrije kunstenaarschap was hij academiedocent\, etaleur\, tentoonstellingsvormgever en medewerker aan de films van zijn jongere broer Jos Stelling. Hij heeft een bijzondere band met Deventer\, de stad die hij ontdekte toen hij na zijn pensionering de IJsselsteden ging tekenen. Hij woont er nu al zestien jaar en tekent er op de Brink\, in parken en op begraafplaatsen. Bij de expositie verschijnt een publicatie over zijn leven en werk. \n\n\n\n\n\n\n\nDeze tentoonstelling wordt mede mogelijk gemaakt door:
URL:https://bergkerkdeventer.nl/evenement/frans-stelling-overzichtstentoonstelling/
CATEGORIES:Expositie
ATTACH;FMTTYPE=image/jpeg:/wp-content/uploads/2025/11/stelling.jpg
ORGANIZER;CN="Events dEVENTer | Bergkerk":MAILTO:bergkerk@eventsdeventer.nl
END:VEVENT
END:VCALENDAR