BEGIN:VCALENDAR
VERSION:2.0
PRODID:-//Bergkerk Deventer - ECPv6.15.11//NONSGML v1.0//EN
CALSCALE:GREGORIAN
METHOD:PUBLISH
X-WR-CALNAME:Bergkerk Deventer
X-ORIGINAL-URL:https://bergkerkdeventer.nl
X-WR-CALDESC:Evenementen voor Bergkerk Deventer
REFRESH-INTERVAL;VALUE=DURATION:PT1H
X-Robots-Tag:noindex
X-PUBLISHED-TTL:PT1H
BEGIN:VTIMEZONE
TZID:Europe/Amsterdam
BEGIN:DAYLIGHT
TZOFFSETFROM:+0100
TZOFFSETTO:+0200
TZNAME:CEST
DTSTART:20210328T010000
END:DAYLIGHT
BEGIN:STANDARD
TZOFFSETFROM:+0200
TZOFFSETTO:+0100
TZNAME:CET
DTSTART:20211031T010000
END:STANDARD
BEGIN:DAYLIGHT
TZOFFSETFROM:+0100
TZOFFSETTO:+0200
TZNAME:CEST
DTSTART:20220327T010000
END:DAYLIGHT
BEGIN:STANDARD
TZOFFSETFROM:+0200
TZOFFSETTO:+0100
TZNAME:CET
DTSTART:20221030T010000
END:STANDARD
BEGIN:DAYLIGHT
TZOFFSETFROM:+0100
TZOFFSETTO:+0200
TZNAME:CEST
DTSTART:20230326T010000
END:DAYLIGHT
BEGIN:STANDARD
TZOFFSETFROM:+0200
TZOFFSETTO:+0100
TZNAME:CET
DTSTART:20231029T010000
END:STANDARD
BEGIN:DAYLIGHT
TZOFFSETFROM:+0100
TZOFFSETTO:+0200
TZNAME:CEST
DTSTART:20240331T010000
END:DAYLIGHT
BEGIN:STANDARD
TZOFFSETFROM:+0200
TZOFFSETTO:+0100
TZNAME:CET
DTSTART:20241027T010000
END:STANDARD
END:VTIMEZONE
BEGIN:VEVENT
DTSTART;TZID=Europe/Amsterdam:20230514T140000
DTEND;TZID=Europe/Amsterdam:20230514T150000
DTSTAMP:20260425T002133
CREATED:20230418T135247Z
LAST-MODIFIED:20230418T143131Z
UID:10000100-1684072800-1684076400@bergkerkdeventer.nl
SUMMARY:Meet & Greet met Sibyl Heijnen
DESCRIPTION:Kom samen in de Bergkerk\, waar Sibyl Heijnen een korte rondleiding geeft. Daarna is er mogelijkheid samen naar haar expositie te gaan in galerie KunstApart.
URL:https://bergkerkdeventer.nl/evenement/meet-greet-met-sibyl-heijnen/
CATEGORIES:Expositie
ATTACH;FMTTYPE=image/jpeg:/wp-content/uploads/2023/04/huid.jpg
END:VEVENT
BEGIN:VEVENT
DTSTART;TZID=Europe/Amsterdam:20230423T140000
DTEND;TZID=Europe/Amsterdam:20230423T150000
DTSTAMP:20260425T002133
CREATED:20230418T131656Z
LAST-MODIFIED:20230419T110614Z
UID:10000098-1682258400-1682262000@bergkerkdeventer.nl
SUMMARY:Rondleiding door Sibyl Heijnen
DESCRIPTION:Kom samen in de Bergkerk\, waar Sibyl Heijnen een korte rondleiding geeft. Daarna is er mogelijkheid samen naar de opening van haar expositie te gaan in galerie KunstApart.
URL:https://bergkerkdeventer.nl/evenement/rondleiding-door-sybil-heijnen/
CATEGORIES:Expositie
ATTACH;FMTTYPE=image/jpeg:/wp-content/uploads/2023/04/binnenkomst-scaled.jpg
END:VEVENT
BEGIN:VEVENT
DTSTART;TZID=Europe/Amsterdam:20230415T110000
DTEND;TZID=Europe/Amsterdam:20230630T170000
DTSTAMP:20260425T002133
CREATED:20230308T213632Z
LAST-MODIFIED:20230524T143534Z
UID:10000094-1681556400-1688144400@bergkerkdeventer.nl
SUMMARY:Sibyl Heijnen - "Zien\, horen\, voelen : zoeken naar de ziel van de Bergkerk"
DESCRIPTION:Zien\, horen\, voelen: zoeken naar de ziel van de BergkerkEen interdisciplinaire samenwerking met o.a. beeldend kunstenaar Sibyl Heijnen en componist Nicholas Robert Thayer\, waarbij de verschillende kunstvormen een zintuiglijke totaalbeleving vormen. Het kijken en luisteren verrassen continu. Door de diversiteit aan gebruikte materialen zoals perkament\, kunstgras\, rubber en bladgoud. En door de muziek die permanent hoorbaar is\, via sensoren die reageren op de lichtinval en lichtintensiteit. \n\n\n\nCheck regelmatig deze site of de QR code voor meer informatie en live events tijdens zonsopgang en zonsondergang!
URL:https://bergkerkdeventer.nl/evenement/sibyl-heijnen-zien-horen-voelen-zoeken-naar-de-ziel-van-de-bergkerk/
CATEGORIES:Expositie
ATTACH;FMTTYPE=image/png:/wp-content/uploads/2023/03/Schermafbeelding-2023-03-08-om-22.32.51.png
ORGANIZER;CN="Sibyl Heijnen":MAILTO:info@sibylheijnen.com
END:VEVENT
BEGIN:VEVENT
DTSTART;TZID=Europe/Amsterdam:20230309T110000
DTEND;TZID=Europe/Amsterdam:20230330T170000
DTSTAMP:20260425T002133
CREATED:20221101T154221Z
LAST-MODIFIED:20230308T210418Z
UID:10000061-1678359600-1680195600@bergkerkdeventer.nl
SUMMARY:Neovisionair - "Sorry dat ik besta."
DESCRIPTION:Van 10 t/m 29 Maart zullen zeven Deventerse kunstenaars Exposeren in de Bergkerk Deventer onder het thema ‘ Sorry dat ik besta’. Een tijdelijke plek waar dat ieder zijn abnormaliteit als normaal kan voelen. Waar dat mensen in een open ruimte\, geprikkeld door kunst open gesprekken kunnen voeren. Ben je erbij? Voor meer info zie neovisionair.art
URL:https://bergkerkdeventer.nl/evenement/sorry-dat-ik-besta-expositie-door-neovisionair/
LOCATION:Bergkerk\, Bergkerkplein 14\, 7411 EN Deventer\, Deventer\, Netherlands
CATEGORIES:Expositie
ATTACH;FMTTYPE=image/jpeg:/wp-content/uploads/2022/11/neo.jpg
ORGANIZER;CN="Kunstenaarscollectief Neovisionair":MAILTO:info@neovisionair.art
END:VEVENT
BEGIN:VEVENT
DTSTART;TZID=Europe/Amsterdam:20230203T110000
DTEND;TZID=Europe/Amsterdam:20230305T170000
DTSTAMP:20260425T002133
CREATED:20221101T154627Z
LAST-MODIFIED:20230106T183800Z
UID:10000062-1675422000-1678035600@bergkerkdeventer.nl
SUMMARY:"Iceland - Reduced landscapes" - fotografie door Jürgen Wieser
DESCRIPTION:Opening op zondag 5 februari 14.00 uur met een pianorecital door Bastiaan Brink. U wordt van harte uitgenodigd om hier bij te zijn! \nIJsland – land van vuur\, stoom en ijs\, steen en mossen\, kegelvormige bergen en zwarte woestijnen\, doorsneden door een filigraan van kristalheldere rivieren. De oerlandschappen zijn volledig anders dan wat we in de rest van Europa kennen. Zelfs vandaag\, terwijl IJsland toegankelijker is geworden voor reizigers\, zien slechts weinig mensen het binnenland en in de winter zijn de hooglanden kaal en verlaten. De fototentoonstelling ‘IJsland – Gereduceerde Landschappen’ in de Bergkerk in Deventer toont landschapsfotografie van Jürgen Wieser van het wilde binnenland van IJsland. Het is onderverdeeld in drie secties. Bergen en woestijnen zijn het hoofdonderwerp van de eerste\, met een focus op het noorderlicht\, dat hun contouren vormt tot een bijna onwerkelijk landschap. In het tweede deel wordt de kijker dicht bij de oppervlaktestructuren van ijs\, as en vulkanisch gesteente gebracht\, waardoor het landschap wordt teruggebracht tot zijn basiselementen. De foto’s in het derde deel zijn voornamelijk gefotografeerd in winterse omstandigheden. Op het eerste gezicht lijken deze foto’s zelfs niet op foto’s\, ze zijn de laatste reductie van de IJslandse winter in zijn eenvoudigste vormen. De pure en sobere sfeer van de Bergkerk is bijzonder geschikt voor een dergelijke tentoonstelling van fotografie\, ook wel shadowgraphy genoemd. Vanaf het begin van zijn loopbaan als fotograaf in de jaren tachtig trok Jürgen Wieser door de bossen en bergketens van zijn woonplaats in Hessen in het midden van Duitsland\, waar winterlandschappen zijn favoriete fotografische object werden. Speciale lichtomstandigheden bij onaangenaam weer trok hem het meest aan en de bijzondere sfeer\, contrasten en grijstinten van zwart en wit fotografie ondersteunden deze voorkeuren perfect. In 1987 bezocht hij IJsland voor het eerst en was meteen gefascineerd. Al reisde hij ook veel naar andere landen\, in de loop der jaren keerde hij steeds weer terug naar IJsland. De hooglanden in hun verschillende\, extreme weers- en lichtomstandigheden werden een onuitputtelijke inspiratiebron\, en hetzelfde goldt voor de geometrische vormen en structuren die hij in dat pure landschap aantrof. Terugkijkend op zijn ontwikkeling als fotograaf\, veranderde zijn kijk op landschappen met de tijd. Beginnend met majestueuze landschappen in klassieke zin\, toont zijn fotografie tegenwoordig een neiging om het landschap te reduceren tot zijn minimalistische essentie. Voor traditionele landschapsfotografie zijn tonaliteit en details essentieel en dus werd daarbij veelvuldig gebruik gemaakt van grootformaat analoge camera’s. De recentere foto’s zijn veelal digitaal. De foto’s worden afgedrukt op hoogwaardig fine art papier met behulp van Ultrachrome K3 inkten. \nDe feestelijke opening van deze tentoonstelling zal plaatsvinden op zondag 5 februari vanaf 14.00 uur. U wordt van harte uitgenodigd om hierbij te zijn! Tijdens de opening zal er een pianorecital\, geïnspireerd op de minimalistische en verstilde fotografie van Jürgen Wieser\, worden uitgevoerd door Bastiaan Brink met werken van Arvo Pärt\, Simeon ten Holt\, Douwe IJsenga\, Bastiaan Brink\, Claude Debussy\, Maurice Ravel\, Erik Satie\, Ludwig van Beethoven en Johann Sebastian Bach. \nVoor meer informatie over Jürgen Wieser zie shadowgraphy.de
URL:https://bergkerkdeventer.nl/evenement/foto-expositie-ijsland-door-jurgen-wieser-d/
LOCATION:Bergkerk\, Bergkerkplein 14\, 7411 EN Deventer\, Deventer\, Netherlands
CATEGORIES:Expositie
ATTACH;FMTTYPE=image/jpeg:/wp-content/uploads/2022/11/Iceland-Bergkerk-3-scaled.jpg
ORGANIZER;CN="Events dEVENTer | Deventer op Stelten":MAILTO:info@eventsdeventer.nl
END:VEVENT
BEGIN:VEVENT
DTSTART;TZID=Europe/Amsterdam:20221230T110000
DTEND;TZID=Europe/Amsterdam:20230129T170000
DTSTAMP:20260425T002133
CREATED:20221101T151005Z
LAST-MODIFIED:20230126T193248Z
UID:10000054-1672398000-1675011600@bergkerkdeventer.nl
SUMMARY:Expositie Hans Klein Hofmeijer - "The Blue Drawings."
DESCRIPTION:Van 30 december 2022 t/m 29 januari 2023 zal de tentoonstelling “The Blue Drawings” plaatsvinden in de prachtige\, monumentale Bergkerk in het centrum van Deventer.  \nTijdens de tentoonstelling zal op zondag 8 januari om 14.00 uur in deze bijzondere setting tevens een nieuwe publicatie betreffende The Blue Drawings feestelijk ten doop worden gehouden. \nNadat zijn vorige omvangrijke uitgave ‘Artefact’ nr. 953 – Gapingen van mijn geest in 2018  in het De Pont Museum te Tilburg het levenslicht zag\, ontstond het plan de series blauwe tekeningen uit 2019-2021 samen  te brengen in een tentoonstelling en een publicatie. Het laatgotische karakter van de Bergkerk in Deventer tilt het werk  van Klein Hofmeijer verder op en blijkt  een unieke contemplatieve omgeving die het aanschouwen van de tekeningen verrijkt en meer dan aangenaam maakt. \nVanaf 2001 vervaardigt Hans Klein Hofmeijer kunstwerken waarin hij\, naast andere kleuren\, blauw specifiek verwerkt. In de loop der jaren verdwijnt en verschijnt het coloriet meermaals om dan in de  periode 2019-2021 een hoofdrol te gaan vertolken. De kunstenaar maakt in deze jaren\, in afzondering aan de rand van het land – in Zeeland – uitsluitend in de kleur blauw\, in totaal 21 werken op papier in vier onderscheidende series. Hij noemt deze tekeningen – in gemengde technieken én inkt op papier – toepasselijk The Blue Drawings. Al deze werken op papier zijn bijeen gebracht in een weloverwogen presentatie waarin ook door middel van sfeerbeelden op groot formaat een indruk voelbaar is van de ontstaanslocatie. In de uitgave The Blue Drawings worden de sequenties “Overeind  gehouden denken”\, “Aan de rafelranden van mijn denken”\, “Artist ’s Trees” én “Wit bloedend blauw”\, afgedrukt en toegelicht. De auteurs Annelies Vanbelle [ be ] en RickVercauteren [ nl ] gaan in twee sterk beschouwende en elkaar inhoudelijk aanvullende artikelen nader in op de filosofische\, kunsthistorische en spirituele aspecten van het  mysterieuze coloriet blauw in het oeuvre van Hans Klein Hofmeijer. Blauw\, zo betogen zij separaat op treffende\,  analytische wijze\, dient niet louter als coloriet te worden opgevat. Blauw fungeert in de expressief ogende\, gelaagde  werken van Hans Klein Hofmeijer tevens als attitude\, bron\, denk-materiaal\, energie\, inkt\, mensbeeld\, schrijfmateriaal\,  symbool en zinnebeeld.  \nIn de bijzonder fraaie uitgave– die 41 bij 31 centimeter meet en 54 pagina’s telt – zijn ook vijf foto’s in zwartwit én tweeënveertig grote en kleinere kleurenafbeeldingen van de kunst van Klein Hofmeijer opgenomen. Vormgever Mark van den Eijnden uit Nederweert heeft een waarlijk schitterend omslag ontworpen. De rafelige randen van het zware handgeschepte papier\, Zaansch Bord geheten\, lopen subtiel synchroon met de artistiek gevoelvol uitgebeelde rafelranden in het denken van de immer gedreven kunstenaar. De realisatie van de ongemeen rijke publicatie is mede tot stand gekomen door genereuze\, financiële gestes van particulieren die anoniem wensen te blijven. De publicatie is uitgegeven door Hans Klein Hofmeijer en wordt gedistribueerd door Motta Art  Books in Eindhoven (isbn 978-90-8128-900-9) en is te bestellen via: www.kleinhofmeijer.nl en www.mottakunstboeken.nl
URL:https://bergkerkdeventer.nl/evenement/hans-klein-hofmeijer/
LOCATION:Bergkerk\, Bergkerkplein 14\, 7411 EN Deventer\, Deventer\, Netherlands
CATEGORIES:Expositie
ATTACH;FMTTYPE=image/jpeg:/wp-content/uploads/2022/11/1012-2021_bewerkt_01-02-scaled.jpg
ORGANIZER;CN="Events dEVENTer | Deventer op Stelten":MAILTO:info@eventsdeventer.nl
END:VEVENT
BEGIN:VEVENT
DTSTART;TZID=Europe/Amsterdam:20221103T110000
DTEND;TZID=Europe/Amsterdam:20221130T170000
DTSTAMP:20260425T002133
CREATED:20221031T093913Z
LAST-MODIFIED:20221121T174938Z
UID:10000047-1667473200-1669827600@bergkerkdeventer.nl
SUMMARY:Portret - Frans Rentink
DESCRIPTION:Van de 3 t/m 30 november 2022 krijgt de fotograaf Frans Rentink de gelegenheid een ruime keuze uit zijn werk te laten zien in de Bergkerk te Deventer. Het thema van de expositie is: Portret. Als typische mensenfotograaf heeft Frans Rentink een bijzondere band opgebouwd met de stad Deventer. Daarnaast heeft hij altijd veel over de wereld gereisd. In zijn werk zien we die twee kanten naast elkaar: de mensen die hij goed kent of heeft gekend\, die een naam krijgen en van wie het gezicht vaak terugkeert\, en de anonieme wereldburgers op straat\, in een kerk of een kroeg. \n\nFrans Rentink is geboren in 1947 te Amsterdam. Hij woont sinds zijn elfde jaar in Deventer of omgeving. Hij werkte lang in het bedrijfsleven waarvoor hij veel reisde\, onder meer naar China. Het fotograferen van mensen\, steden en landschappen werd zijn tweede natuur. Tegenwoordig besteedt hij zijn tijd volledig aan de fotografie. In 2013 werd zijn woning getroffen door een brand\, waarbij een groot deel van zijn oeuvre\, zowel analoog als digitaal\, verloren is gegaan. Een aantal foto’s die elders werden bewaard\, worden nu geëxposeerd\, samen met series uit de jaren daarna.\n\nZijn kwaliteiten komen het sterkst naar voren in het portret. Rentink weet het vertrouwen te winnen van mensen in alledaagse en bijzondere omstandigheden. Hij verbleef eens dagen- en nachtenlang in een buurtcafé in Antwerpen en mocht de stamgasten volgen in hun lief en leed. In de afgelopen jaren heeft Rentink van een aantal Deventenaren series portretten gemaakt die het resultaat zijn van een dikwijls jarenlang durend intensief contact. Een overeenkomst tussen de geportretteerden is hun bijzondere levensloop waarin geluk en tragiek elkaar afwisselen\, en hun geloof in schoonheid als remedie. Enkelen van hen naderden het einde van hun leven. Alles bij elkaar vormt dit een indringend ensemble binnen het gevarieerde werk van Frans Rentink. Deze portretten vormen dan ook de hoofdmoot van de expositie in de Bergkerk.\n\nBij de expositie verschijnt een eenmalig magazine met een representatieve keuze uit de tentoongestelde foto’s.\n\nTijdens de tentoonstelling wordt een boek gepresenteerd dat Frans Rentink samenstelde over Johan\, een karakteristieke verschijning in de straten van Deventer\, een man met duizend gezichten.
URL:https://bergkerkdeventer.nl/evenement/portret-frans-rentink-bergkerk-expositie/
LOCATION:Bergkerk\, Bergkerkplein 14\, 7411 EN Deventer\, Deventer\, Netherlands
CATEGORIES:Expositie
ATTACH;FMTTYPE=image/jpeg:/wp-content/uploads/2022/10/Frans-Rentink-1-scaled.jpg
ORGANIZER;CN="Events dEVENTer | Bergkerkconcerten":MAILTO:bergkerk@eventsdeventer.nl
END:VEVENT
END:VCALENDAR