BEGIN:VCALENDAR
VERSION:2.0
PRODID:-//Bergkerk Deventer - ECPv6.15.11//NONSGML v1.0//EN
CALSCALE:GREGORIAN
METHOD:PUBLISH
X-ORIGINAL-URL:https://bergkerkdeventer.nl
X-WR-CALDESC:Evenementen voor Bergkerk Deventer
REFRESH-INTERVAL;VALUE=DURATION:PT1H
X-Robots-Tag:noindex
X-PUBLISHED-TTL:PT1H
BEGIN:VTIMEZONE
TZID:Europe/Amsterdam
BEGIN:DAYLIGHT
TZOFFSETFROM:+0100
TZOFFSETTO:+0200
TZNAME:CEST
DTSTART:20240331T010000
END:DAYLIGHT
BEGIN:STANDARD
TZOFFSETFROM:+0200
TZOFFSETTO:+0100
TZNAME:CET
DTSTART:20241027T010000
END:STANDARD
BEGIN:DAYLIGHT
TZOFFSETFROM:+0100
TZOFFSETTO:+0200
TZNAME:CEST
DTSTART:20250330T010000
END:DAYLIGHT
BEGIN:STANDARD
TZOFFSETFROM:+0200
TZOFFSETTO:+0100
TZNAME:CET
DTSTART:20251026T010000
END:STANDARD
BEGIN:DAYLIGHT
TZOFFSETFROM:+0100
TZOFFSETTO:+0200
TZNAME:CEST
DTSTART:20260329T010000
END:DAYLIGHT
BEGIN:STANDARD
TZOFFSETFROM:+0200
TZOFFSETTO:+0100
TZNAME:CET
DTSTART:20261025T010000
END:STANDARD
END:VTIMEZONE
BEGIN:VEVENT
DTSTART;TZID=Europe/Amsterdam:20251213T110000
DTEND;TZID=Europe/Amsterdam:20251213T170000
DTSTAMP:20260425T160338
CREATED:20251104T173824Z
LAST-MODIFIED:20251104T174041Z
UID:10000285-1765623600-1765645200@bergkerkdeventer.nl
SUMMARY:Dickens Festijn 2025
DESCRIPTION:Straattheaterfestival\, voor meer informatie zie www.dickensfestijn.nl
URL:https://bergkerkdeventer.nl/evenement/dickens-festijn-2025/
CATEGORIES:Historisch straattheater festival
ATTACH;FMTTYPE=image/png:/wp-content/uploads/2023/09/dickens.png
ORGANIZER;CN="Events dEVENTer | Bergkerk":MAILTO:bergkerk@eventsdeventer.nl
END:VEVENT
BEGIN:VEVENT
DTSTART;TZID=Europe/Amsterdam:20251214T110000
DTEND;TZID=Europe/Amsterdam:20251214T170000
DTSTAMP:20260425T160338
CREATED:20251104T174011Z
LAST-MODIFIED:20251104T180635Z
UID:10000286-1765710000-1765731600@bergkerkdeventer.nl
SUMMARY:Dickens Festijn 2025
DESCRIPTION:Straattheaterfestival\, voor meer informatie zie www.dickensfestijn.nl
URL:https://bergkerkdeventer.nl/evenement/dickens-festijn-2025-2/
CATEGORIES:Historisch straattheater festival
ATTACH;FMTTYPE=image/jpeg:/wp-content/uploads/2025/11/dickens-scaled.jpg
ORGANIZER;CN="Events dEVENTer | Bergkerk":MAILTO:bergkerk@eventsdeventer.nl
END:VEVENT
END:VCALENDAR