BEGIN:VCALENDAR
VERSION:2.0
PRODID:-//Bergkerk Deventer - ECPv6.15.11//NONSGML v1.0//EN
CALSCALE:GREGORIAN
METHOD:PUBLISH
X-WR-CALNAME:Bergkerk Deventer
X-ORIGINAL-URL:https://bergkerkdeventer.nl
X-WR-CALDESC:Evenementen voor Bergkerk Deventer
REFRESH-INTERVAL;VALUE=DURATION:PT1H
X-Robots-Tag:noindex
X-PUBLISHED-TTL:PT1H
BEGIN:VTIMEZONE
TZID:Europe/Amsterdam
BEGIN:DAYLIGHT
TZOFFSETFROM:+0100
TZOFFSETTO:+0200
TZNAME:CEST
DTSTART:20240331T010000
END:DAYLIGHT
BEGIN:STANDARD
TZOFFSETFROM:+0200
TZOFFSETTO:+0100
TZNAME:CET
DTSTART:20241027T010000
END:STANDARD
BEGIN:DAYLIGHT
TZOFFSETFROM:+0100
TZOFFSETTO:+0200
TZNAME:CEST
DTSTART:20250330T010000
END:DAYLIGHT
BEGIN:STANDARD
TZOFFSETFROM:+0200
TZOFFSETTO:+0100
TZNAME:CET
DTSTART:20251026T010000
END:STANDARD
BEGIN:DAYLIGHT
TZOFFSETFROM:+0100
TZOFFSETTO:+0200
TZNAME:CEST
DTSTART:20260329T010000
END:DAYLIGHT
BEGIN:STANDARD
TZOFFSETFROM:+0200
TZOFFSETTO:+0100
TZNAME:CET
DTSTART:20261025T010000
END:STANDARD
END:VTIMEZONE
BEGIN:VEVENT
DTSTART;TZID=Europe/Amsterdam:20250127T190000
DTEND;TZID=Europe/Amsterdam:20250127T220000
DTSTAMP:20260426T023041
CREATED:20250115T120816Z
LAST-MODIFIED:20250116T132100Z
UID:10000225-1738004400-1738015200@bergkerkdeventer.nl
SUMMARY:"Namen lezen"
DESCRIPTION:Op maandagavond 27 januari 2025 worden in de Bergkerk alle namen voorgelezen van de meer dan 400 omgekomen Deventer Joden tijdens de tweede wereldoorlog. Er worden van ruim de helft van de mensen ook foto’s getoond. \n\n\n\nHet Jiddisch koor Lechayim uit Deventer treed op met enkele liederen. \n\n\n\nOp 27 januari is het Internationale Holocaust Herdenkingsdag. Op die dag in 1945 werd het kamp Auschwitz bevrijd door de Russen. Op 27 januari 2025 is dit precies 80 jaar geleden. \n\n\n\nHerinneringscentrum kamp Westerbork heeft inmiddels een traditie om\, eens in de vijf jaar\,  op en rond die dag vijf dagen en vijf nachten lang aan-één-stuk alle namen te lezen voor de meer dan 102.000 vermoorde Nederlandse Joden en 500 Roma en Sinti. Deze is live te volgen op de website van het Herinneringscentrum. \n\n\n\nHet Etty Hillesum Centrum is in 2015 en 2020 aangesloten bij deze traditie. Ook op 27 januari 2025 zullen de Namen klinken\, dit keer in de Bergkerk\, zodat meer mensen aanwezig kunnen zijn. \n\n\n\nAan een 20-tal mensen\, o.a. nabestaanden en anderen uit de Deventer samenleving\, zal gevraagd worden om deze namen te lezen. De commissaris van de Koning Overijssel\, Andries Heidema\, zal de eerste namen lezen. Ook burgemeester Ron Konig is aanwezig en één van de namenlezers. \n\n\n\nEntree is gratis. \n\n\n\nHet programma begint om 19.00uur en de inloop is vanaf 18.30uur \n\n\n\nIn het Etty Hillesum Centrum is vanaf 11 januari een tentoonstelling te zien met alle 400 foto’s en namen. \n\n\n\nMeer info: \n\n\n\nLex RutgersEtty Hillesum Centrum06-51203495 \n\n\n\nlexxxxrt@gmail.com
URL:https://bergkerkdeventer.nl/evenement/als-je-naam-klinkt-ben-je-niet-vergeten/
CATEGORIES:Holocaust Herdenking
ATTACH;FMTTYPE=image/png:/wp-content/uploads/2025/01/ehc-1.png
END:VEVENT
END:VCALENDAR