BEGIN:VCALENDAR
VERSION:2.0
PRODID:-//Bergkerk Deventer - ECPv6.15.11//NONSGML v1.0//EN
CALSCALE:GREGORIAN
METHOD:PUBLISH
X-ORIGINAL-URL:https://bergkerkdeventer.nl
X-WR-CALDESC:Evenementen voor Bergkerk Deventer
REFRESH-INTERVAL;VALUE=DURATION:PT1H
X-Robots-Tag:noindex
X-PUBLISHED-TTL:PT1H
BEGIN:VTIMEZONE
TZID:Europe/Amsterdam
BEGIN:DAYLIGHT
TZOFFSETFROM:+0100
TZOFFSETTO:+0200
TZNAME:CEST
DTSTART:20230326T010000
END:DAYLIGHT
BEGIN:STANDARD
TZOFFSETFROM:+0200
TZOFFSETTO:+0100
TZNAME:CET
DTSTART:20231029T010000
END:STANDARD
BEGIN:DAYLIGHT
TZOFFSETFROM:+0100
TZOFFSETTO:+0200
TZNAME:CEST
DTSTART:20240331T010000
END:DAYLIGHT
BEGIN:STANDARD
TZOFFSETFROM:+0200
TZOFFSETTO:+0100
TZNAME:CET
DTSTART:20241027T010000
END:STANDARD
BEGIN:DAYLIGHT
TZOFFSETFROM:+0100
TZOFFSETTO:+0200
TZNAME:CEST
DTSTART:20250330T010000
END:DAYLIGHT
BEGIN:STANDARD
TZOFFSETFROM:+0200
TZOFFSETTO:+0100
TZNAME:CET
DTSTART:20251026T010000
END:STANDARD
BEGIN:DAYLIGHT
TZOFFSETFROM:+0100
TZOFFSETTO:+0200
TZNAME:CEST
DTSTART:20260329T010000
END:DAYLIGHT
BEGIN:STANDARD
TZOFFSETFROM:+0200
TZOFFSETTO:+0100
TZNAME:CET
DTSTART:20261025T010000
END:STANDARD
END:VTIMEZONE
BEGIN:VEVENT
DTSTART;TZID=Europe/Amsterdam:20241108T200000
DTEND;TZID=Europe/Amsterdam:20241108T210000
DTSTAMP:20260426T063346
CREATED:20240531T202354Z
LAST-MODIFIED:20241003T120215Z
UID:10000186-1731096000-1731099600@bergkerkdeventer.nl
SUMMARY:Leerlingen orgelconcert
DESCRIPTION:In de nieuwe serie orgelconcerten getiteld “Kaarslichtconcerten” is dit het derde concert in een reeks orgelconcerten in het najaar van 2024. Het concert zal deze keer worden verzorgd door een aantal leerlingen uit de lespraktijk van onze titulair-organist Maurits Bunt i.c.m. een studenten-ensemble die verschillende instrumenten bespelen.
URL:https://bergkerkdeventer.nl/evenement/kaarslichtconcert-iii/
CATEGORIES:Kaarslichtconcert
ATTACH;FMTTYPE=image/jpeg:/wp-content/uploads/2024/05/holtgraveorgelbergkerk-scaled.jpg
ORGANIZER;CN="Events dEVENTer | Bergkerk":MAILTO:bergkerk@eventsdeventer.nl
END:VEVENT
BEGIN:VEVENT
DTSTART;TZID=Europe/Amsterdam:20241115T200000
DTEND;TZID=Europe/Amsterdam:20241115T210000
DTSTAMP:20260426T063346
CREATED:20240531T202530Z
LAST-MODIFIED:20241022T115122Z
UID:10000187-1731700800-1731704400@bergkerkdeventer.nl
SUMMARY:"Bachconcert" - Evan Bogerd (orgel) & Jaap Eilander (vleugel)
DESCRIPTION:€ 19\,50 / Klik hier voor ticketverkoop\n\n\n\n \n\n\n\nBach met Jaap Eilander & Evan Bogerd. \n\n\n\nWie een toetsinstrument speelt\, zoals een piano\, keyboard of orgel en ook van Bach houdt\, heeft geluk. Bach was ook een toetsenist. Hij heeft een immense hoeveelheid muziekstukken geschreven voor klavierinstrumenten. Veel daarvan is geschreven voor klavecimbel of orgel. Sommige muziek is later bewerkt door verschillende componisten om geschikt te maken voor de instrumenten die wij nu hebben zoals de piano. \n\n\n\nTijdens deze twee unieke Bachconcerten ga je dit allemaal horen. Je zult merken hoe muziek van Bach nog steeds prachtig klinkt op orgel maar ook op het relatief moderne instrument\, de piano. \n\n\n\nDe vraag ‘Hoe zou Bach het hebben gedaan’ is interessant maar deze avonden staat de interpretatie van Evan Bogerd op het orgel en Jaap Eilander op de piano centraal. Laat je verrassen door hun subtiele en soms robuuste aanpak van deze muziek op prachtige instrumenten. \n\n\n\nIn Deventer zal Evan Bogerd spelen op het Holtgräve-orgel. Jaap Eilander zal voor deze gelegenheid op zijn eigen Steinway-vleugel spelen. Het concert wordt 2 weken later\, met een kleine programma-wijziging herhaald. In Amsterdam klinkt het beroemde Müller-orgel en de pianoklanken komen deze keer uit de Bösendorfer concertvleugel.
URL:https://bergkerkdeventer.nl/evenement/kaarslichtconcert-iv/
CATEGORIES:Kaarslichtconcert
ATTACH;FMTTYPE=image/png:/wp-content/uploads/2024/05/TegelAmsterdamDeventerZonderTekst1080.png
END:VEVENT
BEGIN:VEVENT
DTSTART;TZID=Europe/Amsterdam:20250926T200000
DTEND;TZID=Europe/Amsterdam:20250926T210000
DTSTAMP:20260426T063346
CREATED:20250626T203448Z
LAST-MODIFIED:20250626T203935Z
UID:10000260-1758916800-1758920400@bergkerkdeventer.nl
SUMMARY:Maurits Bunt - Orgelconcert
DESCRIPTION:Entree € 10 (tot 21 jaar gratis) ||  Klik hier voor ticketverkoop\n\n\n\n \n\n\n\nOrgelconcert door Maurits Bunt\, titulair-organist van de Bergkerk in Deventer en stadsbeiaardier Martinikerk Groningen en Grote Kerk Epe. \n\n\n\nProgramma informatie volgt.
URL:https://bergkerkdeventer.nl/evenement/maurits-bunt-orgelconcert-2/
CATEGORIES:Kaarslichtconcert
ATTACH;FMTTYPE=image/jpeg:/wp-content/uploads/2025/06/1I2A6489-scaled.jpg
ORGANIZER;CN="Kaarslichtconcerten Bergkerk | Events Deventer":MAILTO:bergkerk@eventsdeventer.nl
END:VEVENT
BEGIN:VEVENT
DTSTART;TZID=Europe/Amsterdam:20251010T200000
DTEND;TZID=Europe/Amsterdam:20251010T210000
DTSTAMP:20260426T063346
CREATED:20250626T204211Z
LAST-MODIFIED:20250828T115818Z
UID:10000261-1760126400-1760130000@bergkerkdeventer.nl
SUMMARY:Bernhard Winsemius - Orgelconcert
DESCRIPTION:Entree € 10 (tot 21 jaar gratis) ||  Klik hier voor ticketverkoop\n\n\n\n \n\n\n\nOrgelconcert door Bernhard Winsemius\, organist van de Nieuwe Kerk te Amsterdam \n\n\n\nProgramma \n\n\n\nJohann Rosenmüller (1619 – 1684) \n\n\n\n\nPaduan (a 5) uit “Studentenmusik”)\n\n\n\n\nJohann Kaspar Kerll (1627 – 1693) \n\n\n\n\nCapriccio “Cucu”\n\n\n\nToccata in d\n\n\n\n\nAbraham van de Kerckhoven (1618 – 1702) \n\n\n\n\nFantasia in c\n\n\n\n\nLouis Couperin (1626 – 1661) \n\n\n\n\nPrélude in d\n\n\n\nFantasie in d\n\n\n\nDuo in g\n\n\n\n\nJohann Ernst Eberlin (1702 -1762) \n\n\n\n\nToccata en Fuga nr. 3 in a\n\n\n\n\nAlessandro Marcello (1684 – 1750) \n\n\n\n\nHoboconcert\, door Bach voor klavier bewerkt\, BWV 974\n\n\n\n(Andante – Adagio – Presto)\n\n\n\n\nJohann Sebastian Bach (1685 – 1750) \n\n\n\n\nPresto\n\n\n\nSonate I voor vioolsolo\, BWV 1001 (bew.: Bernard Winsemius)\n\n\n\nAdagio\n\n\n\nFuga (door Bach zelf bewerkt voor orgel)\n\n\n\nSiciliano
URL:https://bergkerkdeventer.nl/evenement/bernhard-winsemius-orgelconcert/
CATEGORIES:Kaarslichtconcert
ATTACH;FMTTYPE=image/jpeg:/wp-content/uploads/2025/06/Screenshot_20250624_162428_YouTube-1.jpg
END:VEVENT
BEGIN:VEVENT
DTSTART;TZID=Europe/Amsterdam:20251024T200000
DTEND;TZID=Europe/Amsterdam:20251024T210000
DTSTAMP:20260426T063346
CREATED:20250626T204438Z
LAST-MODIFIED:20251010T222510Z
UID:10000262-1761336000-1761339600@bergkerkdeventer.nl
SUMMARY:Léon Berben - Orgelconcert
DESCRIPTION:Entree € 10 (tot 21 jaar gratis) ||  Klik hier voor ticketverkoop\n\n\n\n \n\n\n\nOrgelconcert door Léon Berben\, organist van de Pieterskerk te Leiden en de Andreaskirche Ostönnen (D). Als klavecinist en organist kan Léon Berben worden beschouwd als meester in zijn vak. Zijn omvangrijke kennis van muziekgeschiedenis en historische uitvoeringspraktijken maken hem tot één van de leidende figuren onder de musici die tot zijn generatie van specialisten in oude muziek worden gerekend. Zijn repertoire omvat met name klaviermuziek gecomponeerd tussen 1550 en 1790. Hij is coauteur van artikelen voor Die Musik in Geschichte und Gegenwart en schrijft ook geregeld voor andere vaktijdschriften. Zijn interpretaties worden gevoed door intensieve bronnenstudies en ander diepgravend onderzoek. De solo cd-opnamen van Léon Berben werden door de internationale pers lovend ontvangen en met grote regelmaat bekroond\, onder andere met de Diapason d’Or\, Monde de la Musique’s “Choc” alsook de Duitse Vierteljahrespreis der Deutschen Schallplattenkritik. \n\n\n\nLéon Berben studeerde orgel en klavecimbel aan de conservatoria van Amsterdam en Den Haag bij onder andere Rienk Jiskoot\, als laatste leerling van Gustav Leonhardt\, Ton Koopman en Tini Mathot en behaalde het diploma Uitvoerend Musicus voor zowel orgel als klavecimbel. Hij was vanaf het jaar 2000 klavecinist van het door Reinhard Goebel geleide Musica Antiqua Köln\, waarmee hij concerteerde over de hele wereld en voor onder meer Deutsche Grammophon / Archiv Produktion opnam. Sinds de opheffing van het ensemble eind 2006 richt hij zich volledig op zijn solocarrière\, die hem voert naar vele internationaal gerenommeerde muziekfestivals. Als titulair-organist is hij verbonden aan het historische orgel van de St. Andreaskerk in Ostönnen\, waar een van de in oorsprong\, oudst bespeelbare orgels ter wereld staat (c. 1425/1586/1721). Hij is in deze funktie ook mede verantwoordelijk voor de concertserie. Hij is senior-organist-in-residence aan de Pieterskerk Leiden (NL) met het van Hagerbeerorgel uit 1643. \n\n\n\nPROGRAMMA \n\n\n\n \n\n\n\nJ. S. Bach (1685 – 1750) – Fantasia in a\, BWV 904\,1 \n\n\n\nC. Ph. E. Bach (1714 – 1788) -Andante con Tenerezza (uit Sonata A gr.t.\, Wq 65/32) \n\n\n\nJ. S.Bach – Fuge in a\, BWV 904\,2 \n\n\n\nH. Scheidemann (c. 1595 – 1663) – Alleluja Laudem dicite Deo nostro\, 2 clavier/pedal (naar H. L. Hassler: Sacri concentus\, 1601) \n\n\n\nJoseph Haydn (1732 – 1809) – Sonata in g-moll\, Hob. XVI:44-Moderato-Allegretto \n\n\n\nH. Scheidemann \n\n\n\n-Pavana Lachrymae (naar J. Dowland)-Mio cor\, se vera sei salamandra\, naar Felice Anerio\, 1643 \n\n\n\nJ. S. Bach \n\n\n\n-Erbarm dich mein\, o Herre Gott\, manualiter\, BWV 721-Aria\, Ich ruf zu dir\, Herr Jesu Christ\, BWV deest-Toccata in e\, BWV 914
URL:https://bergkerkdeventer.nl/evenement/leon-berben-orgelconcert/
CATEGORIES:Kaarslichtconcert
ATTACH;FMTTYPE=image/jpeg:/wp-content/uploads/2025/06/berben.jpg
ORGANIZER;CN="Kaarslichtconcerten Bergkerk | Events Deventer":MAILTO:bergkerk@eventsdeventer.nl
END:VEVENT
BEGIN:VEVENT
DTSTART;TZID=Europe/Amsterdam:20251107T200000
DTEND;TZID=Europe/Amsterdam:20251107T210000
DTSTAMP:20260426T063346
CREATED:20250626T204626Z
LAST-MODIFIED:20251105T101024Z
UID:10000263-1762545600-1762549200@bergkerkdeventer.nl
SUMMARY:John Challenger - Orgelconcert
DESCRIPTION:Entree € 10 (tot 21 jaar gratis) ||  Klik hier voor ticketverkoop\n\n\n\n \n\n\n\nOrgelconcert door John Challenger\, organist van Salisbury Cathedral (UK) \n\n\n\nFantasia and Fugue in C minor (BWV 537)                      J. S. Bach 1685–1750 \n\n\n\nPavan and Galliard (The Earle of Salisbury)                     William Byrd c1540–1623 \n\n\n\nMaster Tallis’s Testament                                                   Herbert Howells 1892–1983 \n\n\n\nPétit Canon and Improvisation                                           Nadia Boulanger 1887–1979 \n\n\n\nA Fancy for Double Organ                                                 Orlando Gibbons 1583–1625 \n\n\n\nPrelude on Song 24 (Orlando Gibbons)                            Charles Villiers Stanford 1852–1924 \n\n\n\nPrelude on ‘Conditor alme siderum’                                   Matthew Martin b1976 \n\n\n\nVenus\, the Bringer of Peace                                              Gustav Holst 1874–1934 / arr. JC \n\n\n\nPaean                                                                                 Herbert Howells 1892–1983 \n\n\n\nJohn Challenger is assistent-muziekdirecteur van de Salisbury Cathedral (Verenigd Koninkrijk)\, assistent-dirigent van de Salisbury Musical Society en freelance concertorganist. Naast zijn dagelijkse werkzaamheden in de Salisbury Cathedral heeft hij dit jaar tot nu toe opgetreden als organist in het Verenigd Koninkrijk\, Nederland en de Verenigde Staten\, was hij festivalorganist voor het Southern Cathedrals Festival 2025\, speelde hij continuo bij concerten van Henry Purcell en Bachs Johannes Passion\, dirigeerde hij de Salisbury Musical Society in Mozarts Requiem en Bachs Magnificat en werkte hij samen met lokale scholen aan een muzikaal project met vogelzang en de muziek van Olivier Messiaen. \n\n\n\nJohn is Fellow van het Royal College of Organists (VK) en voormalig orgelleerling van Frédéric Blanc\, David Briggs\, Jeremy Filsell en wijlen David Sanger. Hij wordt steeds meer gevraagd als concertorganist en wordt regelmatig uitgenodigd om in Europa op te treden. Zijn grote interesse in het breder verspreiden van kathedraalmuziek omvatte zijn recente werk in Salisbury\, waaronder de oprichting van de jaarlijkse Organ Prom (die dit jaar 1100 toeschouwers trok) en een audioalbum waarmee hij geld inzamelde voor de Britse National Health Service. \n\n\n\nIn 2023 begon John aan het Planets Project\, waarbij hij Gustav Holsts ‘The Planets’ arrangeerde voor het beroemde Father Willis-orgel in Salisbury\, ter ondersteuning van muziekeducatie in het bisdom Salisbury. Johns bewerking van ‘The Planets’ werd in The Telegraph (VK) omschreven als ‘een verbluffend staaltje virtuositeit’\, en in september 2024 verscheen een gefilmde uitvoering van de bewerking\, getiteld ‘The Planets – Out of Darkness’. Tot op heden is de film meer dan 75.000 keer bekeken op YouTube en heeft hij talloze enthousiaste recensies ontvangen.
URL:https://bergkerkdeventer.nl/evenement/john-challenger-orgelconcert/
CATEGORIES:Kaarslichtconcert
ATTACH;FMTTYPE=image/jpeg:/wp-content/uploads/2025/06/download.jpeg
ORGANIZER;CN="Kaarslichtconcerten Bergkerk | Events Deventer":MAILTO:bergkerk@eventsdeventer.nl
END:VEVENT
END:VCALENDAR