BEGIN:VCALENDAR
VERSION:2.0
PRODID:-//Bergkerk Deventer - ECPv6.15.11//NONSGML v1.0//EN
CALSCALE:GREGORIAN
METHOD:PUBLISH
X-ORIGINAL-URL:https://bergkerkdeventer.nl
X-WR-CALDESC:Evenementen voor Bergkerk Deventer
REFRESH-INTERVAL;VALUE=DURATION:PT1H
X-Robots-Tag:noindex
X-PUBLISHED-TTL:PT1H
BEGIN:VTIMEZONE
TZID:Europe/Amsterdam
BEGIN:DAYLIGHT
TZOFFSETFROM:+0100
TZOFFSETTO:+0200
TZNAME:CEST
DTSTART:20240331T010000
END:DAYLIGHT
BEGIN:STANDARD
TZOFFSETFROM:+0200
TZOFFSETTO:+0100
TZNAME:CET
DTSTART:20241027T010000
END:STANDARD
BEGIN:DAYLIGHT
TZOFFSETFROM:+0100
TZOFFSETTO:+0200
TZNAME:CEST
DTSTART:20250330T010000
END:DAYLIGHT
BEGIN:STANDARD
TZOFFSETFROM:+0200
TZOFFSETTO:+0100
TZNAME:CET
DTSTART:20251026T010000
END:STANDARD
BEGIN:DAYLIGHT
TZOFFSETFROM:+0100
TZOFFSETTO:+0200
TZNAME:CEST
DTSTART:20260329T010000
END:DAYLIGHT
BEGIN:STANDARD
TZOFFSETFROM:+0200
TZOFFSETTO:+0100
TZNAME:CET
DTSTART:20261025T010000
END:STANDARD
END:VTIMEZONE
BEGIN:VEVENT
DTSTART;TZID=Europe/Amsterdam:20251224T200000
DTEND;TZID=Europe/Amsterdam:20251224T213000
DTSTAMP:20260425T173352
CREATED:20250701T130430Z
LAST-MODIFIED:20251220T215443Z
UID:10000268-1766606400-1766611800@bergkerkdeventer.nl
SUMMARY:Kerstavondconcert met The Gents
DESCRIPTION:DEUREN OPEN VANAF 19.00 uur\, DEUR SLUIT OM 19.45 uur dus komt u a.u.b. op tijd! \n\n\n\nIn een wereld vol kerst-hectiek en internationale spanningen\, bieden The Gents momenten van rust en vreugde. Een uur om te ontsnappen aan de chaos en te denken aan hoop\, vrede en liefde. We nemen u mee op een reis langs oude kerstliederen in een nieuw jasje\, u wordt ondergedompeld in de sereniteit van Baltische koormuziek en de klanken van eeuwige wouden. Het publiek mag ook een beroemd kerstlied meezingen.  \n\n\n\nBiografie The Gents\n\n\n\nIn 1999 legden enkele zangers uit het Roder Jongenskoor de basis voor een nieuw mannenensemble. Onder leiding van dirigent Peter Dijkstra bestormden The Gents succesvol de nationale en internationale muziekpodia. Zo maakten zij diverse tournees naar onder andere Japan\, Canada\, Zweden\, Duitsland\, Engeland en Spanje. Ook namen The Gents enkele goed ontvangen cd’s op. Na zijn vertrek in 2008 bleef Dijkstra als vaste gastdirigent verbonden aan het ensemble. Daarna stonden The Gents achtereenvolgens onder leiding van Maria van Nieuwkerken\, Béni Csillag\, Krista Audere en Annemiek van der Ven. Sinds begin 2024 staat Patrick Pranger bij The Gents aan het roer. \n\n\n\nProgramma
URL:https://bergkerkdeventer.nl/evenement/kerstavondconcert-the-gents/
CATEGORIES:Kerstavondconcert
ATTACH;FMTTYPE=image/png:/wp-content/uploads/2025/07/gents.png
ORGANIZER;CN="Stichting Zaterdagmiddagconcerten Deventer":MAILTO:info@zaterdagmiddagconcertendeventer.nl
END:VEVENT
END:VCALENDAR