BEGIN:VCALENDAR
VERSION:2.0
PRODID:-//Bergkerk Deventer - ECPv6.15.11//NONSGML v1.0//EN
CALSCALE:GREGORIAN
METHOD:PUBLISH
X-ORIGINAL-URL:https://bergkerkdeventer.nl
X-WR-CALDESC:Evenementen voor Bergkerk Deventer
REFRESH-INTERVAL;VALUE=DURATION:PT1H
X-Robots-Tag:noindex
X-PUBLISHED-TTL:PT1H
BEGIN:VTIMEZONE
TZID:Europe/Amsterdam
BEGIN:DAYLIGHT
TZOFFSETFROM:+0100
TZOFFSETTO:+0200
TZNAME:CEST
DTSTART:20230326T010000
END:DAYLIGHT
BEGIN:STANDARD
TZOFFSETFROM:+0200
TZOFFSETTO:+0100
TZNAME:CET
DTSTART:20231029T010000
END:STANDARD
BEGIN:DAYLIGHT
TZOFFSETFROM:+0100
TZOFFSETTO:+0200
TZNAME:CEST
DTSTART:20240331T010000
END:DAYLIGHT
BEGIN:STANDARD
TZOFFSETFROM:+0200
TZOFFSETTO:+0100
TZNAME:CET
DTSTART:20241027T010000
END:STANDARD
BEGIN:DAYLIGHT
TZOFFSETFROM:+0100
TZOFFSETTO:+0200
TZNAME:CEST
DTSTART:20250330T010000
END:DAYLIGHT
BEGIN:STANDARD
TZOFFSETFROM:+0200
TZOFFSETTO:+0100
TZNAME:CET
DTSTART:20251026T010000
END:STANDARD
END:VTIMEZONE
BEGIN:VEVENT
DTSTART;TZID=Europe/Amsterdam:20241220T200000
DTEND;TZID=Europe/Amsterdam:20241220T210000
DTSTAMP:20260426T034719
CREATED:20241102T193930Z
LAST-MODIFIED:20241207T164905Z
UID:10000210-1734724800-1734728400@bergkerkdeventer.nl
SUMMARY:"Kerst in de 17e eeuwse stijl" - Geistliches Consort
DESCRIPTION:20 december – kerstconcert in 17e eeuwse stijl door Geistliches Consort – Bergkerk Deventer \n\n\n\nHet Geistliches Consort\, dat zich richt op het uitvoeren van ‘oude muziek’ werkt in dit concert samen met ensemble Piacevole uit Gouda. \n\n\n\nSamen bestaat het combi-ensemble voor 20 december uit 10 professionele zangers\, continuo\, cornetto\, baroktrombone en hoofdorgel. \n\n\n\nWe brengen een programma ten gehore met kerstmuziek uit de 16e en 17e eeuw van o.m. Heinrich Schütz (1585-1672) en Michaël Praetorius (1571-1621). \n\n\n\nOok wordt u zelf van harte uitgenodigd mee te zingen bij de kersthymnen uit Lutherse traditie\, wat dit concert extra bijzonder maakt! \n\n\n\nKaarten alleen verkrijgbaar aan de zaal \n\n\n\n€20 volwassenen  \n\n\n\n€10 tot en met 25 jaar \n\n\n\n€5 tot en met 17 jaar
URL:https://bergkerkdeventer.nl/evenement/geistliches-consort-kerstconcert-oude-muziek/
CATEGORIES:Kerstconcert barokmuziek
ATTACH;FMTTYPE=image/jpeg:/wp-content/uploads/2024/11/geistliches-scaled.jpg
ORGANIZER;CN="Events dEVENTer | Bergkerk":MAILTO:bergkerk@eventsdeventer.nl
END:VEVENT
END:VCALENDAR