BEGIN:VCALENDAR
VERSION:2.0
PRODID:-//Bergkerk Deventer - ECPv6.15.11//NONSGML v1.0//EN
CALSCALE:GREGORIAN
METHOD:PUBLISH
X-WR-CALNAME:Bergkerk Deventer
X-ORIGINAL-URL:https://bergkerkdeventer.nl
X-WR-CALDESC:Evenementen voor Bergkerk Deventer
REFRESH-INTERVAL;VALUE=DURATION:PT1H
X-Robots-Tag:noindex
X-PUBLISHED-TTL:PT1H
BEGIN:VTIMEZONE
TZID:Europe/Amsterdam
BEGIN:DAYLIGHT
TZOFFSETFROM:+0100
TZOFFSETTO:+0200
TZNAME:CEST
DTSTART:20230326T010000
END:DAYLIGHT
BEGIN:STANDARD
TZOFFSETFROM:+0200
TZOFFSETTO:+0100
TZNAME:CET
DTSTART:20231029T010000
END:STANDARD
BEGIN:DAYLIGHT
TZOFFSETFROM:+0100
TZOFFSETTO:+0200
TZNAME:CEST
DTSTART:20240331T010000
END:DAYLIGHT
BEGIN:STANDARD
TZOFFSETFROM:+0200
TZOFFSETTO:+0100
TZNAME:CET
DTSTART:20241027T010000
END:STANDARD
BEGIN:DAYLIGHT
TZOFFSETFROM:+0100
TZOFFSETTO:+0200
TZNAME:CEST
DTSTART:20250330T010000
END:DAYLIGHT
BEGIN:STANDARD
TZOFFSETFROM:+0200
TZOFFSETTO:+0100
TZNAME:CET
DTSTART:20251026T010000
END:STANDARD
BEGIN:DAYLIGHT
TZOFFSETFROM:+0100
TZOFFSETTO:+0200
TZNAME:CEST
DTSTART:20260329T010000
END:DAYLIGHT
BEGIN:STANDARD
TZOFFSETFROM:+0200
TZOFFSETTO:+0100
TZNAME:CET
DTSTART:20261025T010000
END:STANDARD
END:VTIMEZONE
BEGIN:VEVENT
DTSTART;TZID=Europe/Amsterdam:20241222T153000
DTEND;TZID=Europe/Amsterdam:20241222T170000
DTSTAMP:20260426T012054
CREATED:20240531T195017Z
LAST-MODIFIED:20241204T125337Z
UID:10000184-1734881400-1734886800@bergkerkdeventer.nl
SUMMARY:"Kerst anno 1640" - Margaretha Consort
DESCRIPTION:€ 25 jongeren tot 18 € 5 / Klik hier voor ticketverkoop\n\n\n\n \n\n\n\n \n\n\n\nN.B. in de Dickenskrant staat abusievelijk vermeld dat dit concert om 20.00 uur begint en gratis toegankelijk is\, dit is echter niet juist\, de aanvangstijd is ’s middags om 15.30 uur en de toegangsprijs bedraagt € 25\,00 (jongeren tot 18 € 5\,00) \n\n\n\nDe kersttour 2024 van het Margaretha Consort brengt ons naar Den Haag\, Havelte\, Vries en Deventer dit jaar. Het is een indrukwekkende gebeurtenis: een Kerstnachtdienst zoals die rond 1640 plaats had kunnen vinden…. Het Margaretha Consort nodigt u van harte uit om deze avond bij te wonen en zo samen op weg te gaan naar Kerst! \n\n\n\nHet Margaretha Consort neemt u als bezoeker mee terug in de tijd. De inspirerende muzikale leiding is in handen van Marit Broekroelofs\, celliste en gambiste. Zij weet met haar ensemble altijd de harten van het publiek te raken – en daaraan zal de prachtige klank van het kerkorgel\, dat een prominente rol heeft in dit programma\, meewerken. \n\n\n\nTijdens het kerstconcert klinken bekende advents- en kerstliederen zoals Nun komm der Heiden Heiland\, er is een roos ontloken\, in dulci Jubilo en anderen. Koormuziek wordt afgewisseld met instrumentale delen\, solisten\, prachtige orgel-solo’s en … u kunt zelf ook mee doen!  Het publiek wordt namelijk van harte uitgenodigd om sommige liederen mee te zingen\, in het programmaboekje wordt dat duidelijk aangeven. Zo bent u niet allen toehoorder maar ook onderdeel van het geheel. \n\n\n\nMARGARETHA CONSORTSopraan | Hanne Marit Mordal IversenSopraan | Margreet RietveldSopraan | Marjon StrijkAlt | Helena PoczykowskaTenor | Kevin SkeltonBariton | Gunther VandevenBas | David Mc Cune \n\n\n\nViola da gamba | Marit BroekroelofsViola da gamba | Maaike BoekholtViola da gamba | Ricardo Rodríguez MirandaViolone | Marike TuinKistorgel | Jorge López-EscribanoKerkorgel | Gerrit Hoving \n\n\n\nMeer informatie en (vanaf augustus) kaartverkoop op: www.margarethaconsort.nl. \n\n\n\nZie ook :   https://youtu.be/MYhR-sjCg7g
URL:https://bergkerkdeventer.nl/evenement/a-german-christmas-margaretha-consort/
CATEGORIES:Kerstconcert
ATTACH;FMTTYPE=image/png:/wp-content/uploads/2024/05/kerst1640.png
END:VEVENT
BEGIN:VEVENT
DTSTART;TZID=Europe/Amsterdam:20241224T200000
DTEND;TZID=Europe/Amsterdam:20241224T210000
DTSTAMP:20260426T012054
CREATED:20240710T215505Z
LAST-MODIFIED:20241119T120433Z
UID:10000190-1735070400-1735074000@bergkerkdeventer.nl
SUMMARY:Kerstavondconcert "Messe de Minuit" - Deventer Vocaal Ensemble
DESCRIPTION:Op kerstavond (dinsdag 24 december) geeft het Deventer Vocaal Ensemble in de Bergkerk te Deventer een sfeervol kerstconcert: “Messe de Minuit – Kerstavondconcert met samenzang”. In dit concert zal het DVE de prachtige Messe de Minuit pour Noël (middernachtsmis voor Kerst) van Marc-Antoine Charpentier uitvoeren. Charpentier schreef dit werk in 1694\, waarbij hij zich baseerde op de melodieën van tien Franse kerstliedjes. Ook zal DVE verschillende delen laten horen van O Magnum Mysterium\, waarin het mysterie van de geboorte van Christus wordt bezongen. Het publiek wordt uitgenodigd een paar bekende kerstliederen mee te zingen\, onder begeleiding van het kerkorgel. \n\n\n\nHet concert wordt op authentieke instrumenten begeleid door het professionele Margaretha Consort en het geheel staat onder leiding van dirigente Elske te Lindert. Het Deventer Vocaal Ensemble is een koor dat bekend staat om z’n klassieke en moderne concerten van hoge kwaliteit en is in Deventer o.a. ook bekend vanwege de jaarlijkse Matthäus Passion in de Bergkerk. \n\n\n\nIedereen is welkom! Het maakt niet uit of u gelovig bent of niet en u hoeft ook niet goed te kunnen zingen. Muzikaal gezien is er voor iedereen wat te genieten: luisteren naar oude muziek die de toets der tijd heeft doorstaan en naar moderne klassiekers én om samen te zingen met onder andere “Komt allen tezamen”. Kortom een prachtige manier om de kerstdagen in te luiden! \n\n\n\nDe toegang tot dit kerstconcert is gratis\, wel wordt er na afloop om een noodzakelijke vrije gift ter dekking van de kosten gevraagd! Het concert begint om 20:00 uur\, de kerk gaat open om 19:00 uur. Bij de ingang van de kerk ontvangt elke bezoeker een programmaboekje met een toelichting en de teksten van de kerstliederen. Dit concert wordt georganiseerd door de Stichting Zaterdagmiddag Concerten Deventer in nauwe samenwerking met het DVE\, voor meer info zie www.zmcd.nl of www.deventervocaalensemble.nl
URL:https://bergkerkdeventer.nl/evenement/kerstavondconcert/
CATEGORIES:Kerstconcert
ATTACH;FMTTYPE=image/png:/wp-content/uploads/2024/07/DVE_wit.png
END:VEVENT
BEGIN:VEVENT
DTSTART;TZID=Europe/Amsterdam:20251219T200000
DTEND;TZID=Europe/Amsterdam:20251219T213000
DTSTAMP:20260426T012054
CREATED:20250701T133530Z
LAST-MODIFIED:20251020T082702Z
UID:10000270-1766174400-1766179800@bergkerkdeventer.nl
SUMMARY:Geistliches Consort - Kerstconcert
DESCRIPTION:Kerstconcert met oude muziek uit Renaissance en Barok\, met samenzang. \n\n\n\nKaartverkoop uitsluitend aan de zaal\, reserveren is niet mogelijk maar er is genoeg plaats. Deuren gaan open om 19.30 uur.
URL:https://bergkerkdeventer.nl/evenement/geistliches-consort-kerstconcert/
CATEGORIES:Kerstconcert
ATTACH;FMTTYPE=image/png:/wp-content/uploads/2025/07/geistlichesconsort.png
ORGANIZER;CN="Geistliches Consort":MAILTO:info@mauritsbunt.nl
END:VEVENT
BEGIN:VEVENT
DTSTART;TZID=Europe/Amsterdam:20251220T200000
DTEND;TZID=Europe/Amsterdam:20251220T213000
DTSTAMP:20260426T012054
CREATED:20250701T132900Z
LAST-MODIFIED:20250701T132901Z
UID:10000269-1766260800-1766266200@bergkerkdeventer.nl
SUMMARY:Deventer Vocaal Ensemble - 'A festival of lessons and carols'
DESCRIPTION:Een (Festival of) Nine Lessons and Carols is een dienst die traditioneel rond Kerst plaatsvindt\, met name in Engeland. In een dergelijke viering wordt het verhaal van de zondeval\, de belofte van de Messias en de geboorte van Jezus verteld aan de hand van negen korte lezingen\, de lessons\, afgewisseld met het zingen van carols\, hymnen en koormuziek. \n\n\n\nDe eerste liturgie voor Nine Lessons and Carols is samengesteld door Edward Benson\, bisschop van Truro (Cornwall) in 1880. Sindsdien vindt de kerkdienst er jaarlijks plaats. Al snel namen andere kerken de viering over en bewerkten de liturgie voor eigen gebruik. Tegenwoordig vinden dit soort vieringen overal ter wereld plaats.
URL:https://bergkerkdeventer.nl/evenement/deventer-vocaal-ensemble-a-festival-of-lessons-and-carols-2/
CATEGORIES:Kerstconcert
ATTACH;FMTTYPE=image/png:/wp-content/uploads/2025/07/dve.png
ORGANIZER;CN="Deventer Vocaal Ensemble":MAILTO:info@deventervocaalensemble.nl
END:VEVENT
END:VCALENDAR