BEGIN:VCALENDAR
VERSION:2.0
PRODID:-//Bergkerk Deventer - ECPv6.15.11//NONSGML v1.0//EN
CALSCALE:GREGORIAN
METHOD:PUBLISH
X-ORIGINAL-URL:https://bergkerkdeventer.nl
X-WR-CALDESC:Evenementen voor Bergkerk Deventer
REFRESH-INTERVAL;VALUE=DURATION:PT1H
X-Robots-Tag:noindex
X-PUBLISHED-TTL:PT1H
BEGIN:VTIMEZONE
TZID:Europe/Amsterdam
BEGIN:DAYLIGHT
TZOFFSETFROM:+0100
TZOFFSETTO:+0200
TZNAME:CEST
DTSTART:20240331T010000
END:DAYLIGHT
BEGIN:STANDARD
TZOFFSETFROM:+0200
TZOFFSETTO:+0100
TZNAME:CET
DTSTART:20241027T010000
END:STANDARD
BEGIN:DAYLIGHT
TZOFFSETFROM:+0100
TZOFFSETTO:+0200
TZNAME:CEST
DTSTART:20250330T010000
END:DAYLIGHT
BEGIN:STANDARD
TZOFFSETFROM:+0200
TZOFFSETTO:+0100
TZNAME:CET
DTSTART:20251026T010000
END:STANDARD
BEGIN:DAYLIGHT
TZOFFSETFROM:+0100
TZOFFSETTO:+0200
TZNAME:CEST
DTSTART:20260329T010000
END:DAYLIGHT
BEGIN:STANDARD
TZOFFSETFROM:+0200
TZOFFSETTO:+0100
TZNAME:CET
DTSTART:20261025T010000
END:STANDARD
END:VTIMEZONE
BEGIN:VEVENT
DTSTART;TZID=Europe/Amsterdam:20250617T190000
DTEND;TZID=Europe/Amsterdam:20250617T210000
DTSTAMP:20260425T175940
CREATED:20250316T215341Z
LAST-MODIFIED:20250325T200556Z
UID:10000237-1750186800-1750194000@bergkerkdeventer.nl
SUMMARY:Mana Rituals - 'Midsummer Soundhealing'
DESCRIPTION:Entree € 27\,80 //  Klik hier voor ticketverkoop\n\n\n\n \n\n\n\nKlankbad met fantastische akoestiek in de prachtige Bergkerk.Je wordt meegevoerd op een innerlijke reis met bijzondere klanken\, geuren en meditatie. De trillingen van de klanken hebben een helende werking en ze brengen je in een staat van meditatief bewustzijn. Mantras en medicijnliederen worden gezongen met een rustgevende stem. Verschillende instrumenten zullen je inspireren en verrassen. Klankschalen\, handpan\, shamanendrum\, fluit\, rainsticks\, ratels en meer.Neem zelf een yogamatje\, deken en kussen mee zodat je ontspannen kunt liggen bij deze klankhealing.
URL:https://bergkerkdeventer.nl/evenement/midsummer-soundhealing/
CATEGORIES:Klankbad
ATTACH;FMTTYPE=image/png:/wp-content/uploads/2025/03/cleacam.png
ORGANIZER;CN="Mana Rituals":MAILTO:cleacam@yahoo.com
END:VEVENT
END:VCALENDAR