BEGIN:VCALENDAR
VERSION:2.0
PRODID:-//Bergkerk Deventer - ECPv6.15.11//NONSGML v1.0//EN
CALSCALE:GREGORIAN
METHOD:PUBLISH
X-WR-CALNAME:Bergkerk Deventer
X-ORIGINAL-URL:https://bergkerkdeventer.nl
X-WR-CALDESC:Evenementen voor Bergkerk Deventer
REFRESH-INTERVAL;VALUE=DURATION:PT1H
X-Robots-Tag:noindex
X-PUBLISHED-TTL:PT1H
BEGIN:VTIMEZONE
TZID:Europe/Amsterdam
BEGIN:DAYLIGHT
TZOFFSETFROM:+0100
TZOFFSETTO:+0200
TZNAME:CEST
DTSTART:20250330T010000
END:DAYLIGHT
BEGIN:STANDARD
TZOFFSETFROM:+0200
TZOFFSETTO:+0100
TZNAME:CET
DTSTART:20251026T010000
END:STANDARD
BEGIN:DAYLIGHT
TZOFFSETFROM:+0100
TZOFFSETTO:+0200
TZNAME:CEST
DTSTART:20260329T010000
END:DAYLIGHT
BEGIN:STANDARD
TZOFFSETFROM:+0200
TZOFFSETTO:+0100
TZNAME:CET
DTSTART:20261025T010000
END:STANDARD
BEGIN:DAYLIGHT
TZOFFSETFROM:+0100
TZOFFSETTO:+0200
TZNAME:CEST
DTSTART:20270328T010000
END:DAYLIGHT
BEGIN:STANDARD
TZOFFSETFROM:+0200
TZOFFSETTO:+0100
TZNAME:CET
DTSTART:20271031T010000
END:STANDARD
END:VTIMEZONE
BEGIN:VEVENT
DTSTART;TZID=Europe/Amsterdam:20260512T190000
DTEND;TZID=Europe/Amsterdam:20260512T210000
DTSTAMP:20260425T164107
CREATED:20251209T202257Z
LAST-MODIFIED:20251209T202523Z
UID:10000300-1778612400-1778619600@bergkerkdeventer.nl
SUMMARY:Mana Rituals - 'Spring Soundscapes'
DESCRIPTION:Entree € 27\,80  ||  Klik hier voor ticketverkoop\n\n\n\n \n\n\n\nDe lente is een tijd van groei\, gebruik deze energie om een nieuw begin te maken. Laat je meevoeren met de geluidsgolven op een innerlijke reis. De trillingen brengen helende energie\, de klanken en geuren geven je inspiratie onderweg. Wij verzorgen een bijzonder klanklandschap met behulp van veel verschillende instrumenten en zang. Sjamanendrums\, Kristallen en metalen klankschalen\, handpans\, ratels\, didgeridoos\, fluiten en nog veel meer zal je horen en voelen.De prachtige locatie Bergkerk in Deventer helpt ook mee met het klankkleur beleven.Het is een ligconcert\, neem zelf alsjeblieft een matras\, deken en kussen mee. Zorg ook dat je warme\, losse en comfortabele kleding draagt. Wij zorgen voor een kopje thee met wat lekkers daarna.
URL:https://bergkerkdeventer.nl/evenement/mana-rituals-spring-soundscapes/
CATEGORIES:Klankreis - Soundbath
ATTACH;FMTTYPE=image/png:/wp-content/uploads/2025/12/Schermafbeelding-2025-12-09-212222.png
ORGANIZER;CN="Mana Rituals":MAILTO:cleacam@yahoo.com
END:VEVENT
BEGIN:VEVENT
DTSTART;TZID=Europe/Amsterdam:20260623T190000
DTEND;TZID=Europe/Amsterdam:20260623T210000
DTSTAMP:20260425T164107
CREATED:20251209T202843Z
LAST-MODIFIED:20251209T202945Z
UID:10000301-1782241200-1782248400@bergkerkdeventer.nl
SUMMARY:Mana Rituals - 'Midsummer Soundhealing'
DESCRIPTION:Entree € 27\,80  ||  Klik hier voor ticketverkoop\n\n\n\n \n\n\n\nSummer Vibes 🎶Ervaar de kracht van klank en het hoogtepunt van de zomer.Je wordt meegevoerd op een innerlijke reis met bijzondere klanken\, geuren en meditatie. De trillingen van de klanken hebben een helende werking en ze brengen je in een staat van meditatief bewustzijn. Mantras en medicijnliederen worden gezongen met een rustgevende stem. Verschillende instrumenten zullen je inspireren en verrassen. Klankschalen\, handpan\, shamanendrum\, fluit\, rainsticks\, ratels en veel meer.Klankbad met fantastische akoestiek in de prachtige Bergkerk\, Deventer.Neem alsjeblieft zelf een yogamatje\, deken en kussen mee zodat je ontspannen kunt liggen bij deze klankhealing. Trek bij voorkeur comfortabele\, losse kleding aan.Wij zorgen voor een kopje thee en wat lekkers na afloop.
URL:https://bergkerkdeventer.nl/evenement/mana-rituals-midsummer-soundhealing/
CATEGORIES:Klankreis - Soundbath
ATTACH;FMTTYPE=image/png:/wp-content/uploads/2025/12/Schermafbeelding-2025-12-09-212609.png
ORGANIZER;CN="Mana Rituals":MAILTO:cleacam@yahoo.com
END:VEVENT
END:VCALENDAR