BEGIN:VCALENDAR
VERSION:2.0
PRODID:-//Bergkerk Deventer - ECPv6.15.11//NONSGML v1.0//EN
CALSCALE:GREGORIAN
METHOD:PUBLISH
X-ORIGINAL-URL:https://bergkerkdeventer.nl
X-WR-CALDESC:Evenementen voor Bergkerk Deventer
REFRESH-INTERVAL;VALUE=DURATION:PT1H
X-Robots-Tag:noindex
X-PUBLISHED-TTL:PT1H
BEGIN:VTIMEZONE
TZID:Europe/Amsterdam
BEGIN:DAYLIGHT
TZOFFSETFROM:+0100
TZOFFSETTO:+0200
TZNAME:CEST
DTSTART:20210328T010000
END:DAYLIGHT
BEGIN:STANDARD
TZOFFSETFROM:+0200
TZOFFSETTO:+0100
TZNAME:CET
DTSTART:20211031T010000
END:STANDARD
BEGIN:DAYLIGHT
TZOFFSETFROM:+0100
TZOFFSETTO:+0200
TZNAME:CEST
DTSTART:20220327T010000
END:DAYLIGHT
BEGIN:STANDARD
TZOFFSETFROM:+0200
TZOFFSETTO:+0100
TZNAME:CET
DTSTART:20221030T010000
END:STANDARD
BEGIN:DAYLIGHT
TZOFFSETFROM:+0100
TZOFFSETTO:+0200
TZNAME:CEST
DTSTART:20230326T010000
END:DAYLIGHT
BEGIN:STANDARD
TZOFFSETFROM:+0200
TZOFFSETTO:+0100
TZNAME:CET
DTSTART:20231029T010000
END:STANDARD
END:VTIMEZONE
BEGIN:VEVENT
DTSTART;TZID=Europe/Amsterdam:20221218T193000
DTEND;TZID=Europe/Amsterdam:20221218T210000
DTSTAMP:20260425T015410
CREATED:20221101T145242Z
LAST-MODIFIED:20221103T120331Z
UID:10000042-1671391800-1671397200@bergkerkdeventer.nl
SUMMARY:Deventer Vocaal Ensemble - "A festival of lessons and carols."
DESCRIPTION:Op 18 december zal het Deventer Vocaal Ensemble in de Bergkerk een sfeervol kerstconcert geven: “A Festival of Lessons and Carols”. In dit concert zullen verschillende Engelse kerstliederen te horen zijn\, afgewisseld met Engelse voordrachten. Bij een aantal liederen wordt u uitgenodigd mee te zingen. De toegang is gratis\, na afloop van het concert kunt u een vrije gift geven om ons te helpen de kosten van het concert te dragen. Een (eveneens gratis) programmaboekje wordt bij de ingang van de kerk uitgedeeld. Het concert begint om 19:30 uur\, de kerk gaat om 19:00 uur open.
URL:https://bergkerkdeventer.nl/evenement/deventer-vocaal-ensemble-a-festival-of-lessons-and-carols/
LOCATION:Bergkerk\, Bergkerkplein 14\, 7411 EN Deventer\, Deventer\, Netherlands
CATEGORIES:Klassiek
ATTACH;FMTTYPE=image/jpeg:/wp-content/uploads/2022/11/dve.jpg
ORGANIZER;CN="Deventer Vocaal Ensemble":MAILTO:info@deventervocaalensemble.nl
END:VEVENT
BEGIN:VEVENT
DTSTART;TZID=Europe/Amsterdam:20221126T150000
DTEND;TZID=Europe/Amsterdam:20221126T163000
DTSTAMP:20260425T015410
CREATED:20221101T144451Z
LAST-MODIFIED:20221103T120214Z
UID:10000043-1669474800-1669480200@bergkerkdeventer.nl
SUMMARY:Beethoven Jubileumconcert - Deventer Symphonisch Orkest
DESCRIPTION:Beethovenconcert door Deventer Symphonisch Orkest m.m.v. Atlantic Trio \nProgramma : \nEgmont ouverture \nTriple concert \n1e Symphonie
URL:https://bergkerkdeventer.nl/evenement/beethoven-jubileumconcert-deventer-symphonisch-orkest/
LOCATION:Bergkerk\, Bergkerkplein 14\, 7411 EN Deventer\, Deventer\, Netherlands
CATEGORIES:Klassiek
ATTACH;FMTTYPE=image/jpeg:/wp-content/uploads/2022/11/dso.jpg
ORGANIZER;CN="Deventer Symphonisch Orkest":MAILTO:info@dso-deventer.nl
END:VEVENT
BEGIN:VEVENT
DTSTART;TZID=Europe/Amsterdam:20221120T201500
DTEND;TZID=Europe/Amsterdam:20221121T213000
DTSTAMP:20260425T015410
CREATED:20221101T143803Z
LAST-MODIFIED:20221121T175957Z
UID:10000044-1668975300-1669066200@bergkerkdeventer.nl
SUMMARY:Concert Bach - Händel
DESCRIPTION:Bach Ensemble Arnhem geeft een concert op 19 november in Deventer in de Bergkerk.\nOp het programma staan o.a. twee Bachcantates (BWV 33 & 150). Daarnaast voeren we twee werken van Händel uit: een concerto grosso (voor orkest) en de anthem ‘Nisi Dominus’. \nHet koor en orkest staan afwisselend onder leiding van Thea of Pieter Endedijk.\nDe solisten zijn: Lonneke Meerwaldt (sopraan)\, Mariska Wessel (alt)\, Jurgen de Jong (tenor) en Rob Hazenberg (bas).
URL:https://bergkerkdeventer.nl/evenement/concert-bach-handel/2022-11-20/
LOCATION:Bergkerk\, Bergkerkplein 14\, 7411 EN Deventer\, Deventer\, Netherlands
CATEGORIES:Klassiek
ATTACH;FMTTYPE=image/jpeg:/wp-content/uploads/2022/11/bach.jpg
ORGANIZER;CN="Bach Ensemble Arnhem":MAILTO:info@bachensemblearnhem.nl
END:VEVENT
BEGIN:VEVENT
DTSTART;TZID=Europe/Amsterdam:20220429T200000
DTEND;TZID=Europe/Amsterdam:20220429T210000
DTSTAMP:20260425T015410
CREATED:20220531T094228Z
LAST-MODIFIED:20220531T104403Z
UID:10000048-1651262400-1651266000@bergkerkdeventer.nl
SUMMARY:Hera Vrouwenkoor
DESCRIPTION:Het vierde concert van 2022 in de serie Bergkerkconcerten vindt plaats op vrijdag 29 april a.s. en zal verzorgd worden door Vrouwenkamerkoor Hera olv Raghna Wissink\, in samenwerking met Emma Berentsen\, Hans Tijssen en Gerrit Schaafsma. Het is mogelijk om dit concert live bij te wonen. Daarnaast is het concert zoals gewoonlijk ook via een livestream gratis online te volgen. \nOnder de noemer Bespiegeling geeft Vrouwenkamerkoor Hera dit voorjaar een unieke concertreeks in het oosten van Nederland (en Hoorn!). Een concertreeks waarin ruimte is voor prachtige muziek en voor ontmoeting\, bezinning en bespiegeling. Reflecterend op de bijzondere en soms bijzonder eenzame coronaperiode en passend bij de ingetogen sfeer van de passietijd.\nHet programma bestaat uit koormuziek van Scandinavische\, Nederlandse en Vlaamse componisten\, ondersteund door teksten die Gerrit Schaafsma schreef tijdens de coronalockdown van 2020-2021. Hans Tijssen verzorgt op zijn beurt de verbindende compositie tussen tekst en muziek\, terwijl theatermaakster Emma Berentsen het concept ‘ontmoeten’ en het regie-advies voor haar rekening neemt. De 15 geschoolde zangeressen van Hera zijn\, onder leiding van dirigent en artistiek leider Raghna Wissink\, verantwoordelijk voor de vocale en muzikale kwaliteit van deze bijzondere reeks optredens. \nU kunt kaarten reserveren via bergkerk@eventsdeventer.nl\, kaarten kosten € 10 per stuk\, houders van een CJP en jongeren tot 27 jaar betalen € 5. Toegang is alleen mogelijk met een geldig coronatoegangsbewijs. \nDeur open 19.30 | Aanvang concert 20.00 | Speelduur +/- 60 min.\nAdres: Bergkerkplein 1\, 7411 EN Deventer \nHet concert zal ook via livestream gratis te bekijken zijn op vrijdagavond 29 april vanaf 20.00 uu
URL:https://bergkerkdeventer.nl/evenement/hera-vrouwenkoor/
LOCATION:Bergkerk\, Bergkerkplein 14\, 7411 EN Deventer\, Deventer\, Netherlands
CATEGORIES:Klassiek
ATTACH;FMTTYPE=image/jpeg:/wp-content/uploads/2022/05/Foto-2019-Hera-2.0-klein.jpg
ORGANIZER;CN="Events dEVENTer | Bergkerkconcerten":MAILTO:bergkerk@eventsdeventer.nl
END:VEVENT
END:VCALENDAR