BEGIN:VCALENDAR
VERSION:2.0
PRODID:-//Bergkerk Deventer - ECPv6.15.11//NONSGML v1.0//EN
CALSCALE:GREGORIAN
METHOD:PUBLISH
X-WR-CALNAME:Bergkerk Deventer
X-ORIGINAL-URL:https://bergkerkdeventer.nl
X-WR-CALDESC:Evenementen voor Bergkerk Deventer
REFRESH-INTERVAL;VALUE=DURATION:PT1H
X-Robots-Tag:noindex
X-PUBLISHED-TTL:PT1H
BEGIN:VTIMEZONE
TZID:Europe/Amsterdam
BEGIN:DAYLIGHT
TZOFFSETFROM:+0100
TZOFFSETTO:+0200
TZNAME:CEST
DTSTART:20220327T010000
END:DAYLIGHT
BEGIN:STANDARD
TZOFFSETFROM:+0200
TZOFFSETTO:+0100
TZNAME:CET
DTSTART:20221030T010000
END:STANDARD
BEGIN:DAYLIGHT
TZOFFSETFROM:+0100
TZOFFSETTO:+0200
TZNAME:CEST
DTSTART:20230326T010000
END:DAYLIGHT
BEGIN:STANDARD
TZOFFSETFROM:+0200
TZOFFSETTO:+0100
TZNAME:CET
DTSTART:20231029T010000
END:STANDARD
BEGIN:DAYLIGHT
TZOFFSETFROM:+0100
TZOFFSETTO:+0200
TZNAME:CEST
DTSTART:20240331T010000
END:DAYLIGHT
BEGIN:STANDARD
TZOFFSETFROM:+0200
TZOFFSETTO:+0100
TZNAME:CET
DTSTART:20241027T010000
END:STANDARD
END:VTIMEZONE
BEGIN:VEVENT
DTSTART;TZID=Europe/Amsterdam:20230317T170000
DTEND;TZID=Europe/Amsterdam:20230317T213000
DTSTAMP:20260425T044216
CREATED:20230316T133810Z
LAST-MODIFIED:20230316T133903Z
UID:10000097-1679072400-1679088600@bergkerkdeventer.nl
SUMMARY:Neovisionair Arti-Markt
DESCRIPTION:De kunstenaars van de Neo Visionair expositie en kunstzinnige achterban stellen deze avond eigen werk en unieke curiosa beschikbaar voor thuis. In kleine stands verkopen wij o.a prints\, kleinere schilderijen\, ingelijste foto’s en gehaakte bloempotjes. \n\n\n\nMaar onze vrienden komen ook!Denk hierbij aan andere makers\, muzikanten\, kunstenaars\, dansorganisaties en platenlabels die ook verschillende merchandise zullen aanbieden. \n\n\n\nJe vind werk van: Esc-Rec\, Studio Wonder\, Corkville\, Jessica Kaasschieter\, Isabelle Renate Le Poutré\, Niek Doup\, NachtparlementBrievenbuskunst\, The League Extraordinaire\, Brut\, De Sluwe Vos\, Cantastic\, Wantigga\, WildAcre records\, Cantastic\, GodzijdrankCapslock gallery\, ThamTham\, Subrow
URL:https://bergkerkdeventer.nl/evenement/neovisionair-arti-markt/
CATEGORIES:Kunstmarkt
ATTACH;FMTTYPE=image/png:/wp-content/uploads/2023/03/Schermafbeelding-2023-03-08-om-21.46.41.png
END:VEVENT
END:VCALENDAR