BEGIN:VCALENDAR
VERSION:2.0
PRODID:-//Bergkerk Deventer - ECPv6.15.11//NONSGML v1.0//EN
CALSCALE:GREGORIAN
METHOD:PUBLISH
X-WR-CALNAME:Bergkerk Deventer
X-ORIGINAL-URL:https://bergkerkdeventer.nl
X-WR-CALDESC:Evenementen voor Bergkerk Deventer
REFRESH-INTERVAL;VALUE=DURATION:PT1H
X-Robots-Tag:noindex
X-PUBLISHED-TTL:PT1H
BEGIN:VTIMEZONE
TZID:Europe/Amsterdam
BEGIN:DAYLIGHT
TZOFFSETFROM:+0100
TZOFFSETTO:+0200
TZNAME:CEST
DTSTART:20240331T010000
END:DAYLIGHT
BEGIN:STANDARD
TZOFFSETFROM:+0200
TZOFFSETTO:+0100
TZNAME:CET
DTSTART:20241027T010000
END:STANDARD
BEGIN:DAYLIGHT
TZOFFSETFROM:+0100
TZOFFSETTO:+0200
TZNAME:CEST
DTSTART:20250330T010000
END:DAYLIGHT
BEGIN:STANDARD
TZOFFSETFROM:+0200
TZOFFSETTO:+0100
TZNAME:CET
DTSTART:20251026T010000
END:STANDARD
BEGIN:DAYLIGHT
TZOFFSETFROM:+0100
TZOFFSETTO:+0200
TZNAME:CEST
DTSTART:20260329T010000
END:DAYLIGHT
BEGIN:STANDARD
TZOFFSETFROM:+0200
TZOFFSETTO:+0100
TZNAME:CET
DTSTART:20261025T010000
END:STANDARD
END:VTIMEZONE
BEGIN:VEVENT
DTSTART;TZID=Europe/Amsterdam:20250112T150000
DTEND;TZID=Europe/Amsterdam:20250112T170000
DTSTAMP:20260426T060041
CREATED:20241102T203607Z
LAST-MODIFIED:20241102T203940Z
UID:10000211-1736694000-1736701200@bergkerkdeventer.nl
SUMMARY:Nieuwsjaars(lig)concert - "Sound Healing Bath"
DESCRIPTION:Tickets € 35 / Klik hier voor ticketverkoop\n\n\n\n \n\n\n\n \n\n\n\nWe gaan ons verbinden met onze dromen\, onze diepste wensen\, ons lichaam en onze ziel. Het wordt een heling op vele lagen voor het nieuwe jaar\, voor zowel mannen als vrouwen. \n\n\n\nSamen met 100-150 gelijkgestemden krachtige en prachtige zielen neemt Binkie je mee op een meditatieve & sjamanistische reis naar licht en kracht. Het wordt een gongbad\, met klankschalen\, handpannen\, kristallen harp\, sjamanistische sounds en hartverwarmende songs. Met zo nu en dan een meditatie of visualisatie om jouw droom of wens (nog meer) waar te maken. \n\n\n\nJe kunt het zien als een klankmassage die jouw wezen van binnenuit uitlijnt en activeert. Jij hoeft hier niets voor te doen\, alleen maar aanwezig te zijn in het moment.De Bergkerk heeft vloerverwarming\, dus kom relaxed liggen op een yogamatje o.d. en maak het jezelf comfortabel met een fijne sjaal\, een deken\, warme sokken en andere dingen die jou helpen om gedurende anderhalf uur een ontspannen reis te maken in overgave. \n\n\n\nZELF MEENEMEN:Waterfles o.d.Eigen matje\, meditatie stoeltje of kussen\, schapenvachtjeEen warm dekentje\, warme sokken of sloffenPs. mocht je toch liever willen zitten\, dan kan dat. Tijdens het kopen van jouw ticket\, kun je dit onder kopje ‘bericht’ vermelden. \n\n\n\nOver Binkie:Binkie leeft vanuit haar hart. Deelt datgene wat haar blij maakt\, muziek\, meditatie\, ceremonie met velen. Als geen ander weet ze feilloos aan te voelen wat de ruimte nodig heeft en zal ze intuïtief in-tappen op de frequentie en welke sound\, meditatie of lied er nodig is om jou mee te nemen op reis naar jouw hart. Haar achtergrond is sjamanisme\, Tibetaanse heling\, sounds & silence.
URL:https://bergkerkdeventer.nl/evenement/nieuwsjaarsligconcert-sound-healing-bath/
CATEGORIES:Ligconcert meditatieve muziek
ATTACH;FMTTYPE=image/jpeg:/wp-content/uploads/2023/10/bewustzijnstheater.jpg
END:VEVENT
BEGIN:VEVENT
DTSTART;TZID=Europe/Amsterdam:20250524T200000
DTEND;TZID=Europe/Amsterdam:20250524T220000
DTSTAMP:20260426T060041
CREATED:20241218T105506Z
LAST-MODIFIED:20250325T200811Z
UID:10000216-1748116800-1748124000@bergkerkdeventer.nl
SUMMARY:Crystal Glow - 'Close in Fluïd Ligconcert'
DESCRIPTION:Entree € 25  //  Klik hier voor ticketverkoop\n\n\n\n \n\n\n\nMEDITATIEVE KLANKREIS & SUBTIELE SOUNDSCAPES (LIGCONCERT) – CRYSTAL GLOW \n\n\n\nDe fluweelzachte klanken van flügelhorn en de rijke boventonen van gongs\, kristallen en metalen klankschalen\, klankbuizen\, chimes en gongdrum vloeien samen en vertragen je beleving van tijd. Je wordt uitgenodigd het denken los te laten en de ruimte en gevoelslagen van je binnenwereld in te gaan. Een intieme klankreis in samenwerking met jouw bewustzijn-frequentie. \n\n\n\n“Jullie muziek zingt-ratelt-strijkt-ademt en klotst nog in me door. Dank je wel. \n\n\n\nHet was een uitnodiging tot puurheid. Wat luisterden jullie de klanken tevoorschijn. \n\n\n\nWat luisterde ik.”  – Peter – \n\n\n\nDiepe ontspanning \n\n\n\n‘Onze klanken transformeren je hersengolven\, van een actieve Beta- staat naar een meer ontspannen Alpha- of zelfs Theta-staat\, waardoor je een diepe ontspanning kunt ervaren.Kun je ‘aandachtig en wakker’ blijven in dat gebied dan zul je de mogelijkheid ervaren te reizen in tijd en ruimte. \n\n\n\n“Elke keer als het stil wordt wil ik niet dat het al afgelopen is. \n\n\n\nEn toen het werkelijk stil werd ging de klank verder in mij.”  – Kalinke – \n\n\n\nLigconcert \n\n\n\nGeef jezelf voldoende tijd om jouw plekje voor aanvang van het concert helemaal naar je zin te hebben ingericht. Zorg ervoor dat je lekker warm en comfortabel kunt liggen. Neem je eigen mat\, deken\, kussen en misschien een extra paar lekker warme sokken mee. Er zijn geen materialen aanwezig op de locatie. \n\n\n\nNa afloop is er thee. Als de laatste klanken wegebben is er ruim tijd om na te voelen \n\n\n\nOver alida \n\n\n\nUitnodigend draagt ze zorg voor een warme omarmende ruimte waar samenwerking en eenheid kan ontstaan. De klanken van haar flügelhorn en haar ontroerende zanggedichten in haar moedertaal geven haar eigen intieme binnenwereld openhartig prijs; ‘hier heb je mijn dagboek\, lees het maar even’. De draaggolf is haar krachtige kennis van de frequentie van gevoelslagen en hoe deze te vertalen naar klank. Haar muzikaliteit uit zich ook in de klanken van taal (gesproken woord). Haar inleidende woorden en de bekrachtigende meditatie als opening van elke bijeenkomst nodigen je telkens weer uit terug te gaan naar binnen\, naar het verbindende nulpunt. \n\n\n\nalida studeerde flügelhorn) en orkestdirectie aan het conservatorium Alkmaar\, was concertmeester bij het Noordhollands Fanfare Orkest\, en dirigeerde jarenlang talloze blaasorkesten in Noord-Holland. Ze startte een praktijk en een holistisch centrum\, Wakker bewust zijn in Alkmaar\, geeft individuele sessies\, workshops en trainingen met als kern; bewust zijn en bewustzijnswetenschappen.Sinds een aantal jaren is ze met haar instrument een andere weg ingeslagen. Een vrije\, niet aan akkoorden of bladmuziek gebonden vorm van musiceren die de mogelijkheid geeft spontaan en in het moment af te stemmen op sfeer\, gemoedstoestand en emotie. De klanken die daar uit voortvloeien vertragen je beleving van tijd en ruimte. \n\n\n\nalidaholwerda.nl \n\n\n\nOver Siem \n\n\n\nBelangeloos\, dienend\, ondersteunend en anticiperend op wat dragend is\, roept hij de stilte op. juist door zijn klanken wordt de verstilling tastbaar. In zijn binnenste voorstellingsvermogen is hij in contact met vele dimensies\, van 3D naar een volledig universum waar het Weten zich in gevoelslagen toont. Woorden zijn het laatste communicatiemiddel om dat naar buiten te brengen\, Siem communiceert volledig in klank en frequentie\, daar kun je hem in Ont-Moeten en Verstaan. \n\n\n\nSiem is multipercussionist en autodidact. Hij speelt vanaf zijn vroege jeugd op alles wat een trilling en klank kan voortbrengen. Hij werkte aan grote en kleine projecten\, CD-opnames en liveoptredens op uiteenlopende podia\, met verschillende musici waaronder Ton Snijders\, Atzko Kohazhi\, Jyoti Verhoeff\, Ute Kreidler\, Norma Brooks\, Aura Bouw\, Mike del Ferro\, Emiel Scholsberg en Eddy Koopman.cliqfrequency.nl \n\n\n\nOver Crystal Glow \n\n\n\nIntieme soundjourneys (Close in Fluïd) en samenklankconcerten (Cosmic Cathedral) zijn de visitekaartjes van de musici van Crystal Glow. \n\n\n\nZe werken samen met de bewustzijn-frequenties van alle aanwezigen\, geven bijeenkomsten in binnen- en buitenland en tonen hun grote kennis van klank\, gevoelsvelden\, frequentie en het ervaren van je bewustzijn via klank\, en dragen deze vol passie uit. \n\n\n\nPraktischDatum: zaterdag 24 meiTijd: 20.00 – 22.00 (deur open half uur van tevoren)Locatie: Bergkerk\, Bergkerkplein 1\,  DeventerInvestering: €25\,-
URL:https://bergkerkdeventer.nl/evenement/close-in-fluid-ligconcert-crystal-glow/
CATEGORIES:Ligconcert meditatieve muziek
ATTACH;FMTTYPE=image/jpeg:/wp-content/uploads/2024/12/wakker-1.jpg
ORGANIZER;CN="Crystal Glow":MAILTO:contact@alidaholwerda.nl
END:VEVENT
END:VCALENDAR