BEGIN:VCALENDAR
VERSION:2.0
PRODID:-//Bergkerk Deventer - ECPv6.15.11//NONSGML v1.0//EN
CALSCALE:GREGORIAN
METHOD:PUBLISH
X-WR-CALNAME:Bergkerk Deventer
X-ORIGINAL-URL:https://bergkerkdeventer.nl
X-WR-CALDESC:Evenementen voor Bergkerk Deventer
REFRESH-INTERVAL;VALUE=DURATION:PT1H
X-Robots-Tag:noindex
X-PUBLISHED-TTL:PT1H
BEGIN:VTIMEZONE
TZID:Europe/Amsterdam
BEGIN:DAYLIGHT
TZOFFSETFROM:+0100
TZOFFSETTO:+0200
TZNAME:CEST
DTSTART:20240331T010000
END:DAYLIGHT
BEGIN:STANDARD
TZOFFSETFROM:+0200
TZOFFSETTO:+0100
TZNAME:CET
DTSTART:20241027T010000
END:STANDARD
BEGIN:DAYLIGHT
TZOFFSETFROM:+0100
TZOFFSETTO:+0200
TZNAME:CEST
DTSTART:20250330T010000
END:DAYLIGHT
BEGIN:STANDARD
TZOFFSETFROM:+0200
TZOFFSETTO:+0100
TZNAME:CET
DTSTART:20251026T010000
END:STANDARD
BEGIN:DAYLIGHT
TZOFFSETFROM:+0100
TZOFFSETTO:+0200
TZNAME:CEST
DTSTART:20260329T010000
END:DAYLIGHT
BEGIN:STANDARD
TZOFFSETFROM:+0200
TZOFFSETTO:+0100
TZNAME:CET
DTSTART:20261025T010000
END:STANDARD
END:VTIMEZONE
BEGIN:VEVENT
DTSTART;TZID=Europe/Amsterdam:20250108T153000
DTEND;TZID=Europe/Amsterdam:20250108T190000
DTSTAMP:20260426T051748
CREATED:20241218T185022Z
LAST-MODIFIED:20250102T211136Z
UID:10000217-1736350200-1736362800@bergkerkdeventer.nl
SUMMARY:"Connecting cultures\, empowering futures"
DESCRIPTION:Start het nieuwe jaar met een bijzondere ervaring én steun een goed doel! \n\n\n\nBezoek de prachtige Bergkerk in Deventer op 8 januari en draag bij aan een betere toekomst. \n\n\n\nWat voor ons vanzelfsprekend is – naar school gaan – is in Gambia vaak alleen toegankelijk voor de top van de samenleving. Wij zetten ons in voor de Bymyra Bilingual School\, die gratis onderwijs biedt aan kinderen in Gambia\, De school wil een tailoring lokaal realiseren\, waar leerlingen worden opgeleid tot kledingmakers. Om dit lokaal te bouwen en in te richten\, hebben we uw steun nodig! \n\n\n\nTijdens het evenement wordt een veiling gehouden met prachtige items\, waaronder authentieke Gambiaanse broekpakken\, een gitaar en nog veel meer unieke stukken. De volledige opbrengst gaat naar het goede doel.  \n\n\n\nNaast de veiling kunt u genieten van muziek\, rondneuzen op de kledingmarkt\, en krijgt u de kans om meer te leren over de kinderen van de Bymyra Bilingual School. \n\n\n\nMeer informatie kunt u vinden via de Instagram: @fashionrootsgambia (https://www.instagram.com/fashionrootsgambia/) \n\n\n\nU kunt u aanmelden via deze link: https://docs.google.com/forms/d/1i7uq1_LptNh5o3G-LHOgLU8ulpV1VrGVqKFkMLKN8cA/edit \n\n\n\nWilt u alvast doneren? Dat kan via deze link: https://www.doneeractie.nl/klaslokaal-in-gambia/-99048 \n\n\n\nHet evenement is tussen 15.30u-20.00u\, en er zullen hapjes geserveerd worden. \n\n\n\nKom bieden op een mooi product\, rondneuzen op de markt of genieten van mooie muziek!
URL:https://bergkerkdeventer.nl/evenement/connecting-cultures-empowering-futures/
CATEGORIES:Markt & veiling voor het goede doel
ATTACH;FMTTYPE=image/jpeg:/wp-content/uploads/2024/12/connecting.jpg
END:VEVENT
END:VCALENDAR