BEGIN:VCALENDAR
VERSION:2.0
PRODID:-//Bergkerk Deventer - ECPv6.15.11//NONSGML v1.0//EN
CALSCALE:GREGORIAN
METHOD:PUBLISH
X-ORIGINAL-URL:https://bergkerkdeventer.nl
X-WR-CALDESC:Evenementen voor Bergkerk Deventer
REFRESH-INTERVAL;VALUE=DURATION:PT1H
X-Robots-Tag:noindex
X-PUBLISHED-TTL:PT1H
BEGIN:VTIMEZONE
TZID:Europe/Amsterdam
BEGIN:DAYLIGHT
TZOFFSETFROM:+0100
TZOFFSETTO:+0200
TZNAME:CEST
DTSTART:20240331T010000
END:DAYLIGHT
BEGIN:STANDARD
TZOFFSETFROM:+0200
TZOFFSETTO:+0100
TZNAME:CET
DTSTART:20241027T010000
END:STANDARD
BEGIN:DAYLIGHT
TZOFFSETFROM:+0100
TZOFFSETTO:+0200
TZNAME:CEST
DTSTART:20250330T010000
END:DAYLIGHT
BEGIN:STANDARD
TZOFFSETFROM:+0200
TZOFFSETTO:+0100
TZNAME:CET
DTSTART:20251026T010000
END:STANDARD
BEGIN:DAYLIGHT
TZOFFSETFROM:+0100
TZOFFSETTO:+0200
TZNAME:CEST
DTSTART:20260329T010000
END:DAYLIGHT
BEGIN:STANDARD
TZOFFSETFROM:+0200
TZOFFSETTO:+0100
TZNAME:CET
DTSTART:20261025T010000
END:STANDARD
END:VTIMEZONE
BEGIN:VEVENT
DTSTART;TZID=Europe/Amsterdam:20250503T200000
DTEND;TZID=Europe/Amsterdam:20250503T213000
DTSTAMP:20260425T044225
CREATED:20241210T215237Z
LAST-MODIFIED:20250325T200922Z
UID:10000215-1746302400-1746307800@bergkerkdeventer.nl
SUMMARY:Kamerkoor Stampij - 'Annelies'
DESCRIPTION:Entree € 27\,50 jongeren € 15 //  Klik hier voor ticketverkoop\n\n\n\n \n\n\n\nAnnelies is een modern oratorium over het leven en droevige lot van Anne (Annelies Marie) Frank.Annelies was een 13-jarige Nederlandse Jodin die een dagboek bijhield\, net voor en tijdens de twee jaar dat zij\, haar ouders en zuster\, samen met vier anderen\, ondergedoken zaten voor de nazi’s tijdens de bezetting van Amsterdam in de Tweede Wereldoorlog.Melanie Challenger stelde het libretto voor Annelies samen uit het dagboek van Anne\, dat in 1947 werd gepubliceerd in de originele Nederlandse versie van Anne’s vader\, Otto Frank\, en in 1952 in Engelse vertaling gepubliceerd als Anne Frank: het dagboek van een jong meisje.De koorzetting van Whitbourn in Annelies biedt een getrouwere interpretatie van het dagboek. Hij doet dit door de persoon Anne – geportretteerd door de sopraan-soliste – centraal te stellen in het werk. Zij geeft invulling – muzikale uitdrukking – aan de gedachten die de buitenwereld bij Anne opwekken.De Engelse componist James Whitbourn kreeg als eerste componist van het Anne Frank Fonds toestemming om teksten uit het dagboek op muziek te zetten. Melanie Challenger stelde het libretto samen met krachtige passages uit ”Anne Frank\, the Diary of a Young Girl”. De sopraansoliste zingt Anne’s woorden\, het koor geeft commentaar op de gebeurtenissen om haar heen. In de begeleiding klinken instrumenten uit haar traditie – klarinet\, viool\, cello en piano.Het werk is toegankelijk\, groots en meeslepend. Het bevat allerlei muzikale citaten – een koraal dat Anne gekend zal hebben\, een Duits kinderliedje\, Klezmer\, een hit van Vera Lynn\, orthodoxe klaagzang\, fragmenten die aan musicals doen denken en verwijzingen naar de klanken van Amsterdam – met name naar de klokken van de Westertoren die Anne zo troostten.De muziek en de teksten brengen op indringende wijze iets over van de vreugde en het verdriet\, de angst en de hoop die Anne gevoeld moet hebben. Annelies heeft alles in zich om een klassiek stuk te worden.
URL:https://bergkerkdeventer.nl/evenement/annelies-kamerkoor-stampij/
CATEGORIES:Klezmer,Modern oratorium
ATTACH;FMTTYPE=image/png:/wp-content/uploads/2024/12/annefrank.png
END:VEVENT
END:VCALENDAR