BEGIN:VCALENDAR
VERSION:2.0
PRODID:-//Bergkerk Deventer - ECPv6.15.11//NONSGML v1.0//EN
CALSCALE:GREGORIAN
METHOD:PUBLISH
X-ORIGINAL-URL:https://bergkerkdeventer.nl
X-WR-CALDESC:Evenementen voor Bergkerk Deventer
REFRESH-INTERVAL;VALUE=DURATION:PT1H
X-Robots-Tag:noindex
X-PUBLISHED-TTL:PT1H
BEGIN:VTIMEZONE
TZID:Europe/Amsterdam
BEGIN:DAYLIGHT
TZOFFSETFROM:+0100
TZOFFSETTO:+0200
TZNAME:CEST
DTSTART:20230326T010000
END:DAYLIGHT
BEGIN:STANDARD
TZOFFSETFROM:+0200
TZOFFSETTO:+0100
TZNAME:CET
DTSTART:20231029T010000
END:STANDARD
BEGIN:DAYLIGHT
TZOFFSETFROM:+0100
TZOFFSETTO:+0200
TZNAME:CEST
DTSTART:20240331T010000
END:DAYLIGHT
BEGIN:STANDARD
TZOFFSETFROM:+0200
TZOFFSETTO:+0100
TZNAME:CET
DTSTART:20241027T010000
END:STANDARD
BEGIN:DAYLIGHT
TZOFFSETFROM:+0100
TZOFFSETTO:+0200
TZNAME:CEST
DTSTART:20250330T010000
END:DAYLIGHT
BEGIN:STANDARD
TZOFFSETFROM:+0200
TZOFFSETTO:+0100
TZNAME:CET
DTSTART:20251026T010000
END:STANDARD
END:VTIMEZONE
BEGIN:VEVENT
DTSTART;TZID=Europe/Amsterdam:20240107T140000
DTEND;TZID=Europe/Amsterdam:20240107T160000
DTSTAMP:20260419T234244
CREATED:20231215T220601Z
LAST-MODIFIED:20231215T221259Z
UID:10000155-1704636000-1704643200@bergkerkdeventer.nl
SUMMARY:Filosofisch gesprek George Meertens & Gerard Visser
DESCRIPTION:Op zondag 7 januari wordt in de Bergkerk in Deventer de expositie “The Hermit’s Handshake” geopend van George Meertens. Hij gaat die middag in gesprek met de filosoof Gerard Visser en belangstellenden. U wordt van harte uitgenodigd hierbij aanwezig te zijn. Aanvang: 14.00 uur. Meer informatie over de expositie vindt u elders in deze agenda.
URL:https://bergkerkdeventer.nl/evenement/filosofisch-gesprek-the-hermites-handshake/
CATEGORIES:Opening expositie
ATTACH;FMTTYPE=image/png:/wp-content/uploads/2023/11/meertens2.png
ORGANIZER;CN="Events dEVENTer | Bergkerk":MAILTO:bergkerk@eventsdeventer.nl
END:VEVENT
END:VCALENDAR