BEGIN:VCALENDAR
VERSION:2.0
PRODID:-//Bergkerk Deventer - ECPv6.15.11//NONSGML v1.0//EN
CALSCALE:GREGORIAN
METHOD:PUBLISH
X-WR-CALNAME:Bergkerk Deventer
X-ORIGINAL-URL:https://bergkerkdeventer.nl
X-WR-CALDESC:Evenementen voor Bergkerk Deventer
REFRESH-INTERVAL;VALUE=DURATION:PT1H
X-Robots-Tag:noindex
X-PUBLISHED-TTL:PT1H
BEGIN:VTIMEZONE
TZID:Europe/Amsterdam
BEGIN:DAYLIGHT
TZOFFSETFROM:+0100
TZOFFSETTO:+0200
TZNAME:CEST
DTSTART:20220327T010000
END:DAYLIGHT
BEGIN:STANDARD
TZOFFSETFROM:+0200
TZOFFSETTO:+0100
TZNAME:CET
DTSTART:20221030T010000
END:STANDARD
BEGIN:DAYLIGHT
TZOFFSETFROM:+0100
TZOFFSETTO:+0200
TZNAME:CEST
DTSTART:20230326T010000
END:DAYLIGHT
BEGIN:STANDARD
TZOFFSETFROM:+0200
TZOFFSETTO:+0100
TZNAME:CET
DTSTART:20231029T010000
END:STANDARD
BEGIN:DAYLIGHT
TZOFFSETFROM:+0100
TZOFFSETTO:+0200
TZNAME:CEST
DTSTART:20240331T010000
END:DAYLIGHT
BEGIN:STANDARD
TZOFFSETFROM:+0200
TZOFFSETTO:+0100
TZNAME:CET
DTSTART:20241027T010000
END:STANDARD
END:VTIMEZONE
BEGIN:VEVENT
DTSTART;TZID=Europe/Amsterdam:20230909T110000
DTEND;TZID=Europe/Amsterdam:20230910T170000
DTSTAMP:20260425T031640
CREATED:20230905T104134Z
LAST-MODIFIED:20230905T104557Z
UID:10000128-1694257200-1694365200@bergkerkdeventer.nl
SUMMARY:Open Monumentenweekend
DESCRIPTION:Tijdens het Open Monumentenweekend op zaterdag 9 en zondag 10 september is de Bergkerk (gedeeltelijk) GRATIS te bezichtigen\, de zomertentoonstelling “THE FLY” is op zaterdag en zondag overdag van 11.00 tot 17.00 uur tegen het gereduceerde tarief van € 3\,00 (volwassenen vanaf 16 jaar\, kinderen gratis) te bezoeken.  \n\n\n\n \n\n\n\nEntree € 3\,00 volwassenen vanaf 16 jaar / Klik hier voor kaartverkoop
URL:https://bergkerkdeventer.nl/evenement/open-monumentenweekend/
CATEGORIES:Openstelling
ATTACH;FMTTYPE=image/jpeg:/wp-content/uploads/2023/09/Bergkerk-scaled.jpg
ORGANIZER;CN="Events dEVENTer | Bergkerk":MAILTO:bergkerk@eventsdeventer.nl
END:VEVENT
END:VCALENDAR