BEGIN:VCALENDAR
VERSION:2.0
PRODID:-//Bergkerk Deventer - ECPv6.15.11//NONSGML v1.0//EN
CALSCALE:GREGORIAN
METHOD:PUBLISH
X-ORIGINAL-URL:https://bergkerkdeventer.nl
X-WR-CALDESC:Evenementen voor Bergkerk Deventer
REFRESH-INTERVAL;VALUE=DURATION:PT1H
X-Robots-Tag:noindex
X-PUBLISHED-TTL:PT1H
BEGIN:VTIMEZONE
TZID:Europe/Amsterdam
BEGIN:DAYLIGHT
TZOFFSETFROM:+0100
TZOFFSETTO:+0200
TZNAME:CEST
DTSTART:20240331T010000
END:DAYLIGHT
BEGIN:STANDARD
TZOFFSETFROM:+0200
TZOFFSETTO:+0100
TZNAME:CET
DTSTART:20241027T010000
END:STANDARD
BEGIN:DAYLIGHT
TZOFFSETFROM:+0100
TZOFFSETTO:+0200
TZNAME:CEST
DTSTART:20250330T010000
END:DAYLIGHT
BEGIN:STANDARD
TZOFFSETFROM:+0200
TZOFFSETTO:+0100
TZNAME:CET
DTSTART:20251026T010000
END:STANDARD
BEGIN:DAYLIGHT
TZOFFSETFROM:+0100
TZOFFSETTO:+0200
TZNAME:CEST
DTSTART:20260329T010000
END:DAYLIGHT
BEGIN:STANDARD
TZOFFSETFROM:+0200
TZOFFSETTO:+0100
TZNAME:CET
DTSTART:20261025T010000
END:STANDARD
END:VTIMEZONE
BEGIN:VEVENT
DTSTART;TZID=Europe/Amsterdam:20250614T120000
DTEND;TZID=Europe/Amsterdam:20250614T123000
DTSTAMP:20260425T173935
CREATED:20250410T191911Z
LAST-MODIFIED:20250509T222110Z
UID:10000246-1749902400-1749904200@bergkerkdeventer.nl
SUMMARY:Maurits Bunt m.m.v. Lisa Bunt\, mezzosopraan
DESCRIPTION:Orgelconcert door Maurits Bunt\, titulair organist van de Bergkerk m.m.v. Lisa Bunt\, mezzosopraan.Entree vrij\, uw gift wordt gewaardeerd! \n\n\n\nLET OP : aanvang 12.00 uur i.p.v. 15.00 uur!
URL:https://bergkerkdeventer.nl/evenement/orgelconcert-maurits-bunt-m-m-v-lisa-bunt-mezzosopraan/
CATEGORIES:Orgelconcert
ATTACH;FMTTYPE=image/png:/wp-content/uploads/2024/02/mauritslr1.png
ORGANIZER;CN="Events dEVENTer | Bergkerk":MAILTO:bergkerk@eventsdeventer.nl
END:VEVENT
END:VCALENDAR