BEGIN:VCALENDAR
VERSION:2.0
PRODID:-//Bergkerk Deventer - ECPv6.15.11//NONSGML v1.0//EN
CALSCALE:GREGORIAN
METHOD:PUBLISH
X-ORIGINAL-URL:https://bergkerkdeventer.nl
X-WR-CALDESC:Evenementen voor Bergkerk Deventer
REFRESH-INTERVAL;VALUE=DURATION:PT1H
X-Robots-Tag:noindex
X-PUBLISHED-TTL:PT1H
BEGIN:VTIMEZONE
TZID:Europe/Amsterdam
BEGIN:DAYLIGHT
TZOFFSETFROM:+0100
TZOFFSETTO:+0200
TZNAME:CEST
DTSTART:20230326T010000
END:DAYLIGHT
BEGIN:STANDARD
TZOFFSETFROM:+0200
TZOFFSETTO:+0100
TZNAME:CET
DTSTART:20231029T010000
END:STANDARD
BEGIN:DAYLIGHT
TZOFFSETFROM:+0100
TZOFFSETTO:+0200
TZNAME:CEST
DTSTART:20240331T010000
END:DAYLIGHT
BEGIN:STANDARD
TZOFFSETFROM:+0200
TZOFFSETTO:+0100
TZNAME:CET
DTSTART:20241027T010000
END:STANDARD
BEGIN:DAYLIGHT
TZOFFSETFROM:+0100
TZOFFSETTO:+0200
TZNAME:CEST
DTSTART:20250330T010000
END:DAYLIGHT
BEGIN:STANDARD
TZOFFSETFROM:+0200
TZOFFSETTO:+0100
TZNAME:CET
DTSTART:20251026T010000
END:STANDARD
END:VTIMEZONE
BEGIN:VEVENT
DTSTART;TZID=Europe/Amsterdam:20240404T200000
DTEND;TZID=Europe/Amsterdam:20240404T210000
DTSTAMP:20260425T060034
CREATED:20240229T123006Z
LAST-MODIFIED:20240229T123549Z
UID:10000166-1712260800-1712264400@bergkerkdeventer.nl
SUMMARY:Presentatieconcert titulair-organist Maurits Bunt
DESCRIPTION:“Presentatieconcert kersverse titulair-organist Bergkerk Deventer. \n\n\n\nVanaf februari 2024 heeft de Bergkerk weer een vaste organist\, Maurits Bunt. \n\n\n\nDaarmee geven we een impuls aan reguliere orgelcultuur in de binnenstad\, zoals dat vele eeuwen gebeurde in de stadskerken in de Nederlanden. \n\n\n\nOm deze benoeming feestelijk te markeren organiseren we een presentatieconcert waarin de ’titularis’ van zich laat horen en we dit moment samen kunnen vieren. \n\n\n\nWe nodigen u van harte uit om hierbij aanwezig te zijn. \n\n\n\nDatum: 4 april 2024 – 20.00 uur \n\n\n\nBergkerk Deventer \n\n\n\nCollecte ten bate van de activiteiten rondom het Bergkerkorgel”
URL:https://bergkerkdeventer.nl/evenement/presentatieconcert-titulair-organist-maurits-bunt/
CATEGORIES:Orgelmuziek
ATTACH;FMTTYPE=image/png:/wp-content/uploads/2024/02/mauritslr1.png
END:VEVENT
END:VCALENDAR