BEGIN:VCALENDAR
VERSION:2.0
PRODID:-//Bergkerk Deventer - ECPv6.15.11//NONSGML v1.0//EN
CALSCALE:GREGORIAN
METHOD:PUBLISH
X-WR-CALNAME:Bergkerk Deventer
X-ORIGINAL-URL:https://bergkerkdeventer.nl
X-WR-CALDESC:Evenementen voor Bergkerk Deventer
REFRESH-INTERVAL;VALUE=DURATION:PT1H
X-Robots-Tag:noindex
X-PUBLISHED-TTL:PT1H
BEGIN:VTIMEZONE
TZID:Europe/Amsterdam
BEGIN:DAYLIGHT
TZOFFSETFROM:+0100
TZOFFSETTO:+0200
TZNAME:CEST
DTSTART:20240331T010000
END:DAYLIGHT
BEGIN:STANDARD
TZOFFSETFROM:+0200
TZOFFSETTO:+0100
TZNAME:CET
DTSTART:20241027T010000
END:STANDARD
BEGIN:DAYLIGHT
TZOFFSETFROM:+0100
TZOFFSETTO:+0200
TZNAME:CEST
DTSTART:20250330T010000
END:DAYLIGHT
BEGIN:STANDARD
TZOFFSETFROM:+0200
TZOFFSETTO:+0100
TZNAME:CET
DTSTART:20251026T010000
END:STANDARD
BEGIN:DAYLIGHT
TZOFFSETFROM:+0100
TZOFFSETTO:+0200
TZNAME:CEST
DTSTART:20260329T010000
END:DAYLIGHT
BEGIN:STANDARD
TZOFFSETFROM:+0200
TZOFFSETTO:+0100
TZNAME:CET
DTSTART:20261025T010000
END:STANDARD
END:VTIMEZONE
BEGIN:VEVENT
DTSTART;TZID=Europe/Amsterdam:20250402T200000
DTEND;TZID=Europe/Amsterdam:20250402T211500
DTSTAMP:20260426T012134
CREATED:20241210T175342Z
LAST-MODIFIED:20250322T090347Z
UID:10000214-1743624000-1743628500@bergkerkdeventer.nl
SUMMARY:Bastiaan Brink - 'From Dusk till Dark ~ Reduced Musical Landscapes'
DESCRIPTION:Entree € 22  //  Klik hier voor ticketverkoop\n\n\n\n \n\n\n\n\n\n\n\n \n\n\n\nIn de overgang van schemer naar duister speelt pianist/componist Bastiaan Brink gedurende vijf avonden het pianorecital ‘From Dusk till Dark – Reduced Musical Landscapes’. \n\n\n\nHet concert verklankt de verschillende stadia van een lijdensweg en wedergeboorte en kenmerkt zich door eenvoud en verstilling. \n\n\n\nVan de oertonen bij Pärt tot de hartslag van het leven bij Ravel\, van de zoekende bewegingen in het werk van Eisenga\, Debussy en Ten Holt tot de melancholische klanken van Beethoven\, van een afdaling in de duisternis bij Ustvolskaya tot de terugkeer naar het licht bij Bach. \n\n\n\nTijdens het recital zit het publiek in een bijzondere\, ovale opstelling waardoor iedere bezoeker een onbelemmerd zicht heeft op de vleugel en het dynamische schouwspel van schemer- en blauwtinten achter de hoge kerkramen. \n\n\n\nBrink sluit af met een nieuwe compositie\, gespeeld in duisternis\, enkel verlicht door kaarsen. \n\n\n\nDit concert is speciaal samengesteld voor de ruimtelijke akoestiek van de Bergkerk en daarmee een ode aan zowel de grootsheid als de intimiteit van deze locatie. \n\n\n\nU bent van harte uitgenodigd een van deze avonden bij te wonen. Wilt u een indruk opdoen\, klik dan op onderstaande link – een live registratie van het concert uit 2023 (oortjes aanbevolen): \n\n\n\nLive-registratie februari 2023 – Youtube\n\n\n\n \n\n\n\nProgramma: \n\n\n\n– Arvo Pärt – Für Alina– Maurice Ravel – Le Gibet– Douwe Eisenga – For Mattia– Bastiaan Brink – Prologue– Simeon Ten Holt – Aforisme II– Claude Debussy – Des pas sur la neige– Ludwig van Beethoven – Mondscheinsonata / Part 1– Galina Ustvolskaya – Sonata Nr. 5 / Part 9– Johann Sebastian Bach – Air \n\n\n\n– (korte pauze ~ ontsteken kaarsen) \n\n\n\n– Bastiaan Brink – Solo Piano Part 1– Douwe Eisenga – Searching– Wolfgang Amadeus Mozart – L’ho perduta\, me mechima \n\n\n\nVoor meer informatie zie: \n\n\n\nWebsite musicus Bastiaan Brink\n\n\n\n \n\n\n\n\n\n\n\n© Jürgen Wieser
URL:https://bergkerkdeventer.nl/evenement/from-dusk-till-dark-bastiaan-brink/
CATEGORIES:Pianorecital
ATTACH;FMTTYPE=image/png:/wp-content/uploads/2024/12/bastiaan1.png
END:VEVENT
BEGIN:VEVENT
DTSTART;TZID=Europe/Amsterdam:20250403T200000
DTEND;TZID=Europe/Amsterdam:20250403T211500
DTSTAMP:20260426T012134
CREATED:20250107T160523Z
LAST-MODIFIED:20250322T090255Z
UID:10000219-1743710400-1743714900@bergkerkdeventer.nl
SUMMARY:Bastiaan Brink - 'From Dusk till Dark ~ Reduced Musical Landscapes'
DESCRIPTION:Entree € 22  //  Klik hier voor ticketverkoop\n\n\n\n \n\n\n\n\n\n\n\n \n\n\n\nIn de overgang van schemer naar duister speelt pianist/componist Bastiaan Brink gedurende vijf avonden het pianorecital ‘From Dusk till Dark – Reduced Musical Landscapes’. \n\n\n\nHet concert verklankt de verschillende stadia van een lijdensweg en wedergeboorte en kenmerkt zich door eenvoud en verstilling. \n\n\n\nVan de oertonen bij Pärt tot de hartslag van het leven bij Ravel\, van de zoekende bewegingen in het werk van Eisenga\, Debussy en Ten Holt tot de melancholische klanken van Beethoven\, van een afdaling in de duisternis bij Ustvolskaya tot de terugkeer naar het licht bij Bach. \n\n\n\nTijdens het recital zit het publiek in een bijzondere\, ovale opstelling waardoor iedere bezoeker een onbelemmerd zicht heeft op de vleugel en het dynamische schouwspel van schemer- en blauwtinten achter de hoge kerkramen. \n\n\n\nBrink sluit af met een nieuwe compositie\, gespeeld in duisternis\, enkel verlicht door kaarsen. \n\n\n\nDit concert is speciaal samengesteld voor de ruimtelijke akoestiek van de Bergkerk en daarmee een ode aan zowel de grootsheid als de intimiteit van deze locatie. \n\n\n\nU bent van harte uitgenodigd een van deze avonden bij te wonen. Wilt u een indruk opdoen\, klik dan op onderstaande link – een live registratie van het concert uit 2023 (oortjes aanbevolen): \n\n\n\nLive-registratie februari 2023 – Youtube\n\n\n\n \n\n\n\nProgramma: \n\n\n\n– Arvo Pärt – Für Alina– Maurice Ravel – Le Gibet– Douwe Eisenga – For Mattia– Bastiaan Brink – Prologue– Simeon Ten Holt – Aforisme II– Claude Debussy – Des pas sur la neige– Ludwig van Beethoven – Mondscheinsonata / Part 1– Galina Ustvolskaya – Sonata Nr. 5 / Part 9– Johann Sebastian Bach – Air \n\n\n\n– (korte pauze ~ ontsteken kaarsen) \n\n\n\n– Bastiaan Brink – Solo Piano Part 1– Douwe Eisenga – Searching– Wolfgang Amadeus Mozart – L’ho perduta\, me mechima \n\n\n\nVoor meer informatie zie: \n\n\n\nWebsite musicus Bastiaan Brink\n\n\n\n \n\n\n\n\n\n\n\n© Jürgen Wieser
URL:https://bergkerkdeventer.nl/evenement/bastiaan-brink-from-dusk-till-dark-reduced-musical-landscapes/
CATEGORIES:Pianorecital
ATTACH;FMTTYPE=image/png:/wp-content/uploads/2024/12/bastiaan1.png
END:VEVENT
BEGIN:VEVENT
DTSTART;TZID=Europe/Amsterdam:20250404T200000
DTEND;TZID=Europe/Amsterdam:20250404T211500
DTSTAMP:20260426T012134
CREATED:20250107T160043Z
LAST-MODIFIED:20250322T090224Z
UID:10000220-1743796800-1743801300@bergkerkdeventer.nl
SUMMARY:Bastiaan Brink - 'From Dusk till Dark ~ Reduced Musical Landscapes'
DESCRIPTION:Entree € 22  //  Klik hier voor ticketverkoop\n\n\n\n \n\n\n\n\n\n\n\n \n\n\n\nIn de overgang van schemer naar duister speelt pianist/componist Bastiaan Brink gedurende vijf avonden het pianorecital ‘From Dusk till Dark – Reduced Musical Landscapes’. \n\n\n\nHet concert verklankt de verschillende stadia van een lijdensweg en wedergeboorte en kenmerkt zich door eenvoud en verstilling. \n\n\n\nVan de oertonen bij Pärt tot de hartslag van het leven bij Ravel\, van de zoekende bewegingen in het werk van Eisenga\, Debussy en Ten Holt tot de melancholische klanken van Beethoven\, van een afdaling in de duisternis bij Ustvolskaya tot de terugkeer naar het licht bij Bach. \n\n\n\nTijdens het recital zit het publiek in een bijzondere\, ovale opstelling waardoor iedere bezoeker een onbelemmerd zicht heeft op de vleugel en het dynamische schouwspel van schemer- en blauwtinten achter de hoge kerkramen. \n\n\n\nBrink sluit af met een nieuwe compositie\, gespeeld in duisternis\, enkel verlicht door kaarsen. \n\n\n\nDit concert is speciaal samengesteld voor de ruimtelijke akoestiek van de Bergkerk en daarmee een ode aan zowel de grootsheid als de intimiteit van deze locatie. \n\n\n\nU bent van harte uitgenodigd een van deze avonden bij te wonen. Wilt u een indruk opdoen\, klik dan op onderstaande link – een live registratie van het concert uit 2023 (oortjes aanbevolen): \n\n\n\nLive-registratie februari 2023 – Youtube\n\n\n\n \n\n\n\nProgramma: \n\n\n\n– Arvo Pärt – Für Alina– Maurice Ravel – Le Gibet– Douwe Eisenga – For Mattia– Bastiaan Brink – Prologue– Simeon Ten Holt – Aforisme II– Claude Debussy – Des pas sur la neige– Ludwig van Beethoven – Mondscheinsonata / Part 1– Galina Ustvolskaya – Sonata Nr. 5 / Part 9– Johann Sebastian Bach – Air \n\n\n\n– (korte pauze ~ ontsteken kaarsen) \n\n\n\n– Bastiaan Brink – Solo Piano Part 1– Douwe Eisenga – Searching– Wolfgang Amadeus Mozart – L’ho perduta\, me mechima \n\n\n\nVoor meer informatie zie: \n\n\n\nWebsite musicus Bastiaan Brink\n\n\n\n \n\n\n\n\n\n\n\n© Jürgen Wieser
URL:https://bergkerkdeventer.nl/evenement/bastiaan-brink-from-dusk-till-dark-reduced-musical-landscapes-2/
CATEGORIES:Pianorecital
ATTACH;FMTTYPE=image/png:/wp-content/uploads/2024/12/bastiaan1.png
END:VEVENT
BEGIN:VEVENT
DTSTART;TZID=Europe/Amsterdam:20250405T200000
DTEND;TZID=Europe/Amsterdam:20250405T211500
DTSTAMP:20260426T012134
CREATED:20250107T160108Z
LAST-MODIFIED:20250322T090144Z
UID:10000221-1743883200-1743887700@bergkerkdeventer.nl
SUMMARY:Bastiaan Brink - 'From Dusk till Dark ~ Reduced Musical Landscapes'
DESCRIPTION:Entree € 22  //  Klik hier voor ticketverkoop\n\n\n\n \n\n\n\n\n\n\n\n \n\n\n\nIn de overgang van schemer naar duister speelt pianist/componist Bastiaan Brink gedurende vijf avonden het pianorecital ‘From Dusk till Dark – Reduced Musical Landscapes’. \n\n\n\nHet concert verklankt de verschillende stadia van een lijdensweg en wedergeboorte en kenmerkt zich door eenvoud en verstilling. \n\n\n\nVan de oertonen bij Pärt tot de hartslag van het leven bij Ravel\, van de zoekende bewegingen in het werk van Eisenga\, Debussy en Ten Holt tot de melancholische klanken van Beethoven\, van een afdaling in de duisternis bij Ustvolskaya tot de terugkeer naar het licht bij Bach. \n\n\n\nTijdens het recital zit het publiek in een bijzondere\, ovale opstelling waardoor iedere bezoeker een onbelemmerd zicht heeft op de vleugel en het dynamische schouwspel van schemer- en blauwtinten achter de hoge kerkramen. \n\n\n\nBrink sluit af met een nieuwe compositie\, gespeeld in duisternis\, enkel verlicht door kaarsen. \n\n\n\nDit concert is speciaal samengesteld voor de ruimtelijke akoestiek van de Bergkerk en daarmee een ode aan zowel de grootsheid als de intimiteit van deze locatie. \n\n\n\nU bent van harte uitgenodigd een van deze avonden bij te wonen. Wilt u een indruk opdoen\, klik dan op onderstaande link – een live registratie van het concert uit 2023 (oortjes aanbevolen): \n\n\n\nLive-registratie februari 2023 – Youtube\n\n\n\n \n\n\n\nProgramma: \n\n\n\n– Arvo Pärt – Für Alina– Maurice Ravel – Le Gibet– Douwe Eisenga – For Mattia– Bastiaan Brink – Prologue– Simeon Ten Holt – Aforisme II– Claude Debussy – Des pas sur la neige– Ludwig van Beethoven – Mondscheinsonata / Part 1– Galina Ustvolskaya – Sonata Nr. 5 / Part 9– Johann Sebastian Bach – Air \n\n\n\n– (korte pauze ~ ontsteken kaarsen) \n\n\n\n– Bastiaan Brink – Solo Piano Part 1– Douwe Eisenga – Searching– Wolfgang Amadeus Mozart – L’ho perduta\, me mechima \n\n\n\nVoor meer informatie zie: \n\n\n\nWebsite musicus Bastiaan Brink\n\n\n\n \n\n\n\n\n\n\n\n© Jürgen Wieser
URL:https://bergkerkdeventer.nl/evenement/bastiaan-brink-from-dusk-till-dark-reduced-musical-landscapes-3/
CATEGORIES:Pianorecital
ATTACH;FMTTYPE=image/png:/wp-content/uploads/2024/12/bastiaan1.png
END:VEVENT
BEGIN:VEVENT
DTSTART;TZID=Europe/Amsterdam:20250406T200000
DTEND;TZID=Europe/Amsterdam:20250406T211500
DTSTAMP:20260426T012134
CREATED:20250107T160128Z
LAST-MODIFIED:20250322T090058Z
UID:10000222-1743969600-1743974100@bergkerkdeventer.nl
SUMMARY:Bastiaan Brink - 'From Dusk till Dark ~ Reduced Musical Landscapes'
DESCRIPTION:Entree € 22  //  Klik hier voor ticketverkoop\n\n\n\n \n\n\n\n\n\n\n\n \n\n\n\nIn de overgang van schemer naar duister speelt pianist/componist Bastiaan Brink gedurende vijf avonden het pianorecital ‘From Dusk till Dark – Reduced Musical Landscapes’. \n\n\n\nHet concert verklankt de verschillende stadia van een lijdensweg en wedergeboorte en kenmerkt zich door eenvoud en verstilling. \n\n\n\nVan de oertonen bij Pärt tot de hartslag van het leven bij Ravel\, van de zoekende bewegingen in het werk van Eisenga\, Debussy en Ten Holt tot de melancholische klanken van Beethoven\, van een afdaling in de duisternis bij Ustvolskaya tot de terugkeer naar het licht bij Bach. \n\n\n\nTijdens het recital zit het publiek in een bijzondere\, ovale opstelling waardoor iedere bezoeker een onbelemmerd zicht heeft op de vleugel en het dynamische schouwspel van schemer- en blauwtinten achter de hoge kerkramen. \n\n\n\nBrink sluit af met een nieuwe compositie\, gespeeld in duisternis\, enkel verlicht door kaarsen. \n\n\n\nDit concert is speciaal samengesteld voor de ruimtelijke akoestiek van de Bergkerk en daarmee een ode aan zowel de grootsheid als de intimiteit van deze locatie. \n\n\n\nU bent van harte uitgenodigd een van deze avonden bij te wonen. Wilt u een indruk opdoen\, klik dan op onderstaande link – een live registratie van het concert uit 2023 (oortjes aanbevolen): \n\n\n\nLive-registratie februari 2023 – Youtube\n\n\n\n \n\n\n\nProgramma: \n\n\n\n– Arvo Pärt – Für Alina– Maurice Ravel – Le Gibet– Douwe Eisenga – For Mattia– Bastiaan Brink – Prologue– Simeon Ten Holt – Aforisme II– Claude Debussy – Des pas sur la neige– Ludwig van Beethoven – Mondscheinsonata / Part 1– Galina Ustvolskaya – Sonata Nr. 5 / Part 9– Johann Sebastian Bach – Air \n\n\n\n– (korte pauze ~ ontsteken kaarsen) \n\n\n\n– Bastiaan Brink – Solo Piano Part 1– Douwe Eisenga – Searching– Wolfgang Amadeus Mozart – L’ho perduta\, me mechima \n\n\n\nVoor meer informatie zie: \n\n\n\nWebsite musicus Bastiaan Brink\n\n\n\n \n\n\n\n\n\n\n\n© Jürgen Wieser
URL:https://bergkerkdeventer.nl/evenement/bastiaan-brink-from-dusk-till-dark-reduced-musical-landscapes-4/
CATEGORIES:Pianorecital
ATTACH;FMTTYPE=image/png:/wp-content/uploads/2024/12/bastiaan1.png
END:VEVENT
END:VCALENDAR