BEGIN:VCALENDAR
VERSION:2.0
PRODID:-//Bergkerk Deventer - ECPv6.15.11//NONSGML v1.0//EN
CALSCALE:GREGORIAN
METHOD:PUBLISH
X-ORIGINAL-URL:https://bergkerkdeventer.nl
X-WR-CALDESC:Evenementen voor Bergkerk Deventer
REFRESH-INTERVAL;VALUE=DURATION:PT1H
X-Robots-Tag:noindex
X-PUBLISHED-TTL:PT1H
BEGIN:VTIMEZONE
TZID:Europe/Amsterdam
BEGIN:DAYLIGHT
TZOFFSETFROM:+0100
TZOFFSETTO:+0200
TZNAME:CEST
DTSTART:20220327T010000
END:DAYLIGHT
BEGIN:STANDARD
TZOFFSETFROM:+0200
TZOFFSETTO:+0100
TZNAME:CET
DTSTART:20221030T010000
END:STANDARD
BEGIN:DAYLIGHT
TZOFFSETFROM:+0100
TZOFFSETTO:+0200
TZNAME:CEST
DTSTART:20230326T010000
END:DAYLIGHT
BEGIN:STANDARD
TZOFFSETFROM:+0200
TZOFFSETTO:+0100
TZNAME:CET
DTSTART:20231029T010000
END:STANDARD
BEGIN:DAYLIGHT
TZOFFSETFROM:+0100
TZOFFSETTO:+0200
TZNAME:CEST
DTSTART:20240331T010000
END:DAYLIGHT
BEGIN:STANDARD
TZOFFSETFROM:+0200
TZOFFSETTO:+0100
TZNAME:CET
DTSTART:20241027T010000
END:STANDARD
END:VTIMEZONE
BEGIN:VEVENT
DTSTART;TZID=Europe/Amsterdam:20231130T200000
DTEND;TZID=Europe/Amsterdam:20231130T210000
DTSTAMP:20260425T060116
CREATED:20231118T103848Z
LAST-MODIFIED:20231120T231404Z
UID:10000150-1701374400-1701378000@bergkerkdeventer.nl
SUMMARY:Rosanne Philippens
DESCRIPTION:Op deze avond speelt Rosanne Philippens een klein uur solo in de Bergkerk met muziek van Bach\, Loevendie en Ysaÿe. Tussendoor geeft ze mondeling toelichting op de stukken. Het concert vindt plaats in het kader van “De Amsterdam Salon”\, een concertserie met als doel om\, in welke ruimte dan ook\, een salon sfeer te creëren door middel van banken en fauteuils\, gezellige belichting\, uitleg bij de stukken en veel interactie tussen musici en publiek. Voor deze avond wordt de Bergkerk dus omgetoverd tot zo’n “salon”.  Tegelijkertijd is dit optreden bedoeld om de akoestiek uit te testen voor een mogelijk toekomstig salon-festival in Deventer…. Rosanne Philippens\, geboren en woonachtig in Amsterdam\, speelt als soliste binnen- en buitenland in zalen als het Concertgebouw\, de Philharmonie in Berlijn en de Elbphilharmonie in Hamburg. Ze won het Nationaal Vioolconcours “Oskar Back”\, het Internationale Wettbewerb van Freiburg en kreeg 5-sterren recensies voor haar opnames in de Volkskrant en BBC Magazine. Ze bespeelt de “Barrere” Stradivarius uit 1727 die zij in bruikleen heeft van het Elise Mathilde Fonds. \n\n\n\nDe entree is GRATIS\, maar uw VRIJE GIFT wordt zeer gewaardeerd!
URL:https://bergkerkdeventer.nl/evenement/rosanne-phillippens/
CATEGORIES:The Amsterdam Salon
ATTACH;FMTTYPE=image/png:/wp-content/uploads/2023/11/rosanne4.png
END:VEVENT
END:VCALENDAR