BEGIN:VCALENDAR
VERSION:2.0
PRODID:-//Bergkerk Deventer - ECPv6.15.11//NONSGML v1.0//EN
CALSCALE:GREGORIAN
METHOD:PUBLISH
X-WR-CALNAME:Bergkerk Deventer
X-ORIGINAL-URL:https://bergkerkdeventer.nl
X-WR-CALDESC:Evenementen voor Bergkerk Deventer
REFRESH-INTERVAL;VALUE=DURATION:PT1H
X-Robots-Tag:noindex
X-PUBLISHED-TTL:PT1H
BEGIN:VTIMEZONE
TZID:Europe/Amsterdam
BEGIN:DAYLIGHT
TZOFFSETFROM:+0100
TZOFFSETTO:+0200
TZNAME:CEST
DTSTART:20210328T010000
END:DAYLIGHT
BEGIN:STANDARD
TZOFFSETFROM:+0200
TZOFFSETTO:+0100
TZNAME:CET
DTSTART:20211031T010000
END:STANDARD
BEGIN:DAYLIGHT
TZOFFSETFROM:+0100
TZOFFSETTO:+0200
TZNAME:CEST
DTSTART:20220327T010000
END:DAYLIGHT
BEGIN:STANDARD
TZOFFSETFROM:+0200
TZOFFSETTO:+0100
TZNAME:CET
DTSTART:20221030T010000
END:STANDARD
BEGIN:DAYLIGHT
TZOFFSETFROM:+0100
TZOFFSETTO:+0200
TZNAME:CEST
DTSTART:20230326T010000
END:DAYLIGHT
BEGIN:STANDARD
TZOFFSETFROM:+0200
TZOFFSETTO:+0100
TZNAME:CET
DTSTART:20231029T010000
END:STANDARD
BEGIN:DAYLIGHT
TZOFFSETFROM:+0100
TZOFFSETTO:+0200
TZNAME:CEST
DTSTART:20240331T010000
END:DAYLIGHT
BEGIN:STANDARD
TZOFFSETFROM:+0200
TZOFFSETTO:+0100
TZNAME:CET
DTSTART:20241027T010000
END:STANDARD
BEGIN:DAYLIGHT
TZOFFSETFROM:+0100
TZOFFSETTO:+0200
TZNAME:CEST
DTSTART:20250330T010000
END:DAYLIGHT
BEGIN:STANDARD
TZOFFSETFROM:+0200
TZOFFSETTO:+0100
TZNAME:CET
DTSTART:20251026T010000
END:STANDARD
BEGIN:DAYLIGHT
TZOFFSETFROM:+0100
TZOFFSETTO:+0200
TZNAME:CEST
DTSTART:20260329T010000
END:DAYLIGHT
BEGIN:STANDARD
TZOFFSETFROM:+0200
TZOFFSETTO:+0100
TZNAME:CET
DTSTART:20261025T010000
END:STANDARD
BEGIN:DAYLIGHT
TZOFFSETFROM:+0100
TZOFFSETTO:+0200
TZNAME:CEST
DTSTART:20270328T010000
END:DAYLIGHT
BEGIN:STANDARD
TZOFFSETFROM:+0200
TZOFFSETTO:+0100
TZNAME:CET
DTSTART:20271031T010000
END:STANDARD
END:VTIMEZONE
BEGIN:VEVENT
DTSTART;TZID=Europe/Amsterdam:20260307T180000
DTEND;TZID=Europe/Amsterdam:20260307T203000
DTSTAMP:20260425T015325
CREATED:20240131T203136Z
LAST-MODIFIED:20251125T214544Z
UID:10000164-1772906400-1772915400@bergkerkdeventer.nl
SUMMARY:Kelderfest
DESCRIPTION:Kelderfest biedt een bijzonder en veelzijdig programma met muziek\, kunst en erfgoed dat zich letterlijk onder onze voeten afspeelt. Geniet van optredens van nationaal en internationaal talent op locaties die normaal gesproken niet toegankelijk zijn en verken de geschiedenis van deze bijzondere plekken. Kelderfest is een educatieve en culturele ervaring die geschikt is voor alle leeftijden en wordt gerealiseerd in samenwerking met een veelvoud aan culturele organisaties uit Deventer. \n\n\n\nKelderfest wordt georganiseerd door BRUT en Deventer Verhaal in samenwerking met Bibliotheek Deventer\, Burgerweeshuis De Perifeer\, Stichting Events dEVENTer\, Deventer Schouwburg\,  Kunstenlab\, MIMIK en Theaterschip en wordt mede mogelijk gemaakt door provincie Overijssel en gemeente Deventer.  \n\n\n\n \n\n\n\nKlik hier voor de website van Kelderfest
URL:https://bergkerkdeventer.nl/evenement/kelderfest-bastiaan-de-zwitser/
CATEGORIES:Theater
ATTACH;FMTTYPE=image/png:/wp-content/uploads/2023/10/kelderfest.png
END:VEVENT
BEGIN:VEVENT
DTSTART;TZID=Europe/Amsterdam:20250829T200000
DTEND;TZID=Europe/Amsterdam:20250829T213000
DTSTAMP:20260425T015325
CREATED:20250509T214701Z
LAST-MODIFIED:20250509T215037Z
UID:10000253-1756497600-1756503000@bergkerkdeventer.nl
SUMMARY:Theatermakers Achterhoek - 'De Heks van Almen'
DESCRIPTION:Entree € 30 / 35/ 40 ||  Klik hier voor ticketverkoop\n\n\n\n \n\n\n\nIn 1472 werd op het kerkplein in Almen een van de eerste slachtoffers van de heksenvervolgingen in Nederland levend verbrand. Theatermakers Achterhoek maakte een theatervoorstelling over deze onvoorstelbare gebeurtenis. \n\n\n\nAls Aleyda in haar eigen huis wordt opgepakt en meegesleurd naar een bedompte kerker in Zutphen heeft zij geen idee wat de reden van haar vasthouding is. Pas wanneer haar dochter Greetje haar komt opzoeken wordt het duidelijk: Aleyda\, de eigenzinnige vrouw die haar krachten en kennis van geneeskrachtige kruiden gebruikt bij haar werk als vroedvrouw\, wordt verdacht van hekserij. \n\n\n\nDe heksenverbrandingen hebben grote invloed gehad op de ontwikkeling van onze maatschappij en de positie van vrouwen daarin. Theatermakers Achterhoek zoekt naar het licht in dit gruwelijke verhaal door verleden en heden te mengen. Een must see voor iedereen met een vrije geest. 
URL:https://bergkerkdeventer.nl/evenement/theatermakers-achterhoek-de-heks-van-almen-2/
CATEGORIES:Theater
ATTACH;FMTTYPE=image/png:/wp-content/uploads/2025/04/heksvanalmen.png
END:VEVENT
BEGIN:VEVENT
DTSTART;TZID=Europe/Amsterdam:20240224T193000
DTEND;TZID=Europe/Amsterdam:20240224T210000
DTSTAMP:20260425T015325
CREATED:20240130T211056Z
LAST-MODIFIED:20240212T200625Z
UID:10000163-1708803000-1708808400@bergkerkdeventer.nl
SUMMARY:Kelderfest | "Boys won't be boys"
DESCRIPTION:€ 10 / klik hier voor ticketverkoop\n\n\n\n \n\n\n\nEen theatrale happening met echte mensen.Boys Won’t Be Boys geeft persoonlijke en eerlijke verhalen over mannelijkheid een podium\, en is een wervelende vrijplaats voor een steeds wisselende groep spelers met talent om mens te zijn.We verschillen\, nou en? Niemand past precies in een hokje\, en precies dat willen wij vieren. Door al die verschillende verhalen met elkaar te delen doorbreken we vooroordelen en stereotypen en komen we dichter bij elkaar. Boys Won’t Be Boys is een vrolijke aanklacht en ode aan het begrip man.De met killerheels gewapende host Rikkert van Huisstede speelt samen met een kleurrijke parade van spelers die vertellen\, zingen\, (g)rappen\, dansen\, kortom: we trekken deze avond alles uit de kast. En hokjes? Die zijn er om je in om te kleden tot wie je echt bent.Kan je niet wachten? Bel Allard voor een voorproefje van de voorstelling: 0642280481. \n\n\n\nBoys Won’t Be Boys speelt twee keer tijdens Kelderfest met een show om 19:00 uur en een show om 21:00 uur in de Bergkerk. Dit in samenwerking met MIMIK en Deventer Schouwburg.  \n\n\n\nOver Boys Won’t Be BoysInitiatiefnemer Rikkert van Huisstede (1993) zingt liefdevol en confronterend grenzen en hokjes omver. Hij heeft een vernieuwende kijk op thema’s als gender\, seksualiteit en liefde en een zangstem met een bereik van vier octaven. Op zijn zolderkamer ontstond de wens meer ruimte te creëren voor jongens en mannen om buiten het krappe ideaalbeeld van de man te stappen.Boys Won’t Be Boys groeide in no time uit tot een groot maatschappelijk theaterproject waar inmiddels meer dan 100 spelers en vele jongeren de ruimte krijgen om zich in vrijheid uit te spreken als mens en theatermaker.In de pers“Boys Won’t Be Boys breekt een lans voor mannen die niet aan het ideaalbeeld van de macho man voldoen.” AD \n\n\n\n“Een ode aan de kwetsbaarheid van mannen.“ AD“Openhartige en liefdevolle mannencollage.” Theaterkrant \n\n\n\nKlik hier voor de website van Boyswontbeboys\n\n\n\n \n\n\n\nKlik hier voor de website van Kelderfest
URL:https://bergkerkdeventer.nl/evenement/kelderfest-boys-wont-be-boys/
CATEGORIES:Theater
ATTACH;FMTTYPE=image/png:/wp-content/uploads/2024/01/bwbb-1.png
END:VEVENT
BEGIN:VEVENT
DTSTART;TZID=Europe/Amsterdam:20240224T170000
DTEND;TZID=Europe/Amsterdam:20240224T200000
DTSTAMP:20260425T015325
CREATED:20231013T111140Z
LAST-MODIFIED:20240212T200737Z
UID:10000145-1708794000-1708804800@bergkerkdeventer.nl
SUMMARY:Kelderfest | 'Acrobot'
DESCRIPTION:In Acrobot gaat Daniel Simu met zijn op maat gemaakte robotacrobaat ons begrip van de samenwerking tussen mens en machine herdefiniëren. Door middel van een spannende mix van jongleren en acrobatiek vertelt hij zijn persoonlijke verhaal over de ontdekking van de Acrobot en trekt hij onze band met machines en de toekomst van podiumkunsten in twijfel. Deze humoristische en acrobatische voorstelling is geschikt voor kinderen. Dit project is gecoproduceerd door V2_ Lab voor de instabiele media. Deze voorstelling is gratis toegankelijk. \n\n\n\n \n\n\n\nKlik hier voor de website van Kelderfest
URL:https://bergkerkdeventer.nl/evenement/kelderfest/
CATEGORIES:Theater
ATTACH;FMTTYPE=image/png:/wp-content/uploads/2023/10/acro.png
END:VEVENT
BEGIN:VEVENT
DTSTART;TZID=Europe/Amsterdam:20230211T160000
DTEND;TZID=Europe/Amsterdam:20230211T203000
DTSTAMP:20260425T015325
CREATED:20230126T212130Z
LAST-MODIFIED:20230126T212130Z
UID:10000085-1676131200-1676147400@bergkerkdeventer.nl
SUMMARY:RAAKVLAK - Performance Art Collectief
DESCRIPTION:RAAKVLAK is een performance-art collectief. Bestaande uit een huizenhoog dynamisch bewegend sculptuur\, een kunstenaar\, 3 musici en een choreograaf/danseres. \n\n\n\nOp 11 februari aanstaande willen wij u van harte uitnodigen om ons te komen bewonderen in de monumentale Bergkerk in Deventer. Na afloop is er een hapje en een drankje.We werken met een vrije gift. \n\n\n\nSPEELTIJDEN: \n\n\n\nTRY OUT:                 16:00 TOT 17:00 INLOOP VANAF 15:30 \n\n\n\nAVONDVOORSTELLING:       20:30 TOT 21:30 INLOOP VANAF 20:00 \n\n\n\nSpreek ons ook vooral aan na afloop! \n\n\n\nNeem gerust contact op voor vragen en mogelijkheden. \n\n\n\nVoor meer informatie en onze trailer: www.raak-vlak.nl \n\n\n\nGesponsord door Events dEVENTer  
URL:https://bergkerkdeventer.nl/evenement/raakvlak-performance-art-collectief/
CATEGORIES:Theater
ATTACH;FMTTYPE=image/jpeg:/wp-content/uploads/2023/01/image003.jpg
END:VEVENT
BEGIN:VEVENT
DTSTART;TZID=Europe/Amsterdam:20221208T190000
DTEND;TZID=Europe/Amsterdam:20221208T200000
DTSTAMP:20260425T015325
CREATED:20221128T093411Z
LAST-MODIFIED:20221128T093845Z
UID:10000064-1670526000-1670529600@bergkerkdeventer.nl
SUMMARY:"Alles is Dickens" - theatervoorstelling door Beumer en Drost
DESCRIPTION:ALLES IS DICKENS: HET VERHAAL\nHet Dickens Festijn Deventer viert dit jaar zijn 30ste editie. Ter ere van dit jubileum speelt het Deventer Toneelgezelschap Beumer & Drost van 9 t/m 19 december de vrolijke komedie ‘Alles is Dickens’ in de Bergkerk. \nSimon Frederik is de artistiek leider van het amateurtheatergezelschap The Huffington Players. Op de vooravond van de première van ‘Alles is Dickens’ krijgt Simon te horen dat zijn medespeler helaas verhinderd is. Dit maakt het doorgaan van de voorstelling zo goed als onmogelijk. Wat nu? Burgemeester en Wethouders zullen tijdens de première het Dickens Festijn openen! Een regelrechte afgang dreigt. \nMaar plots is daar\, vanuit het niets\, een mysterieuze verschijning. Een toneelspeler voor wie het werk van Charles Dickens geen geheimen lijkt te kennen. Hij komt Simon Frederik uit de brand helpen. Althans zo lijkt het. \n‘Alles is Dickens’ is een vrolijk makende voorstelling waarin alles Dickens ademt. U waant zich omringd door cartooneske Dickens-figuren in de sfeervolle Deventer Bergkerk. Welkom! \nMet: Paul Kooij en Maarten WansinkRegie: Michael HelmerhorstScript en artistieke leiding: Peter DrostDecor: Laura Josselin de JongKostuums: Emmy StrikTechniek: Sjef van de VenProductie\, PR & Marketing: Afke PrickerOrganisatie: stichting dEVENTer \n8 december  19.00 uur \n9 december  19.00 en 21.00 uur \n10 december 20.00 uur \n11 december 20.00 uur \n13 december 19.00 en 21.00 uur \n15 december 19.00 en 21.00 uur \n16 december 19.00 en 21.00 uur
URL:https://bergkerkdeventer.nl/evenement/alles-is-dickens-theatervoorstelling-door-beumer-en-drost/
LOCATION:Bergkerk\, Bergkerkplein 14\, 7411 EN Deventer\, Deventer\, Netherlands
CATEGORIES:Theater
ATTACH;FMTTYPE=image/jpeg:/wp-content/uploads/2022/11/alles.jpg
ORGANIZER;CN="Events dEVENTer | Deventer op Stelten":MAILTO:info@eventsdeventer.nl
END:VEVENT
END:VCALENDAR