BEGIN:VCALENDAR
VERSION:2.0
PRODID:-//Bergkerk Deventer - ECPv6.15.11//NONSGML v1.0//EN
CALSCALE:GREGORIAN
METHOD:PUBLISH
X-WR-CALNAME:Bergkerk Deventer
X-ORIGINAL-URL:https://bergkerkdeventer.nl
X-WR-CALDESC:Evenementen voor Bergkerk Deventer
REFRESH-INTERVAL;VALUE=DURATION:PT1H
X-Robots-Tag:noindex
X-PUBLISHED-TTL:PT1H
BEGIN:VTIMEZONE
TZID:Europe/Amsterdam
BEGIN:DAYLIGHT
TZOFFSETFROM:+0100
TZOFFSETTO:+0200
TZNAME:CEST
DTSTART:20250330T010000
END:DAYLIGHT
BEGIN:STANDARD
TZOFFSETFROM:+0200
TZOFFSETTO:+0100
TZNAME:CET
DTSTART:20251026T010000
END:STANDARD
BEGIN:DAYLIGHT
TZOFFSETFROM:+0100
TZOFFSETTO:+0200
TZNAME:CEST
DTSTART:20260329T010000
END:DAYLIGHT
BEGIN:STANDARD
TZOFFSETFROM:+0200
TZOFFSETTO:+0100
TZNAME:CET
DTSTART:20261025T010000
END:STANDARD
BEGIN:DAYLIGHT
TZOFFSETFROM:+0100
TZOFFSETTO:+0200
TZNAME:CEST
DTSTART:20270328T010000
END:DAYLIGHT
BEGIN:STANDARD
TZOFFSETFROM:+0200
TZOFFSETTO:+0100
TZNAME:CET
DTSTART:20271031T010000
END:STANDARD
END:VTIMEZONE
BEGIN:VEVENT
DTSTART;TZID=Europe/Amsterdam:20260531T150000
DTEND;TZID=Europe/Amsterdam:20260531T163000
DTSTAMP:20260425T001439
CREATED:20250409T083152Z
LAST-MODIFIED:20251210T161824Z
UID:10000245-1780239600-1780245000@bergkerkdeventer.nl
SUMMARY:Theatermakers Achterhoek - 'De Heks van Almen'
DESCRIPTION:Entree € 30 / 35/ 40 ||  Klik hier voor ticketverkoop\n\n\n\n \n\n\n\nIn 1472 werd op het kerkplein in Almen een van de eerste slachtoffers van de heksenvervolgingen in Nederland levend verbrand. Theatermakers Achterhoek maakte een theatervoorstelling over deze onvoorstelbare gebeurtenis. \n\n\n\nAls Aleyda in haar eigen huis wordt opgepakt en meegesleurd naar een bedompte kerker in Zutphen heeft zij geen idee wat de reden van haar vasthouding is. Pas wanneer haar dochter Greetje haar komt opzoeken wordt het duidelijk: Aleyda\, de eigenzinnige vrouw die haar krachten en kennis van geneeskrachtige kruiden gebruikt bij haar werk als vroedvrouw\, wordt verdacht van hekserij. \n\n\n\nDe heksenverbrandingen hebben grote invloed gehad op de ontwikkeling van onze maatschappij en de positie van vrouwen daarin. Theatermakers Achterhoek zoekt naar het licht in dit gruwelijke verhaal door verleden en heden te mengen. Een must see voor iedereen met een vrije geest. 
URL:https://bergkerkdeventer.nl/evenement/theatermakers-achterhoek-de-heks-van-almen/
CATEGORIES:Theater
ATTACH;FMTTYPE=image/png:/wp-content/uploads/2025/04/heksvanalmen.png
END:VEVENT
END:VCALENDAR