BEGIN:VCALENDAR
VERSION:2.0
PRODID:-//Bergkerk Deventer - ECPv6.15.11//NONSGML v1.0//EN
CALSCALE:GREGORIAN
METHOD:PUBLISH
X-WR-CALNAME:Bergkerk Deventer
X-ORIGINAL-URL:https://bergkerkdeventer.nl
X-WR-CALDESC:Evenementen voor Bergkerk Deventer
REFRESH-INTERVAL;VALUE=DURATION:PT1H
X-Robots-Tag:noindex
X-PUBLISHED-TTL:PT1H
BEGIN:VTIMEZONE
TZID:Europe/Amsterdam
BEGIN:DAYLIGHT
TZOFFSETFROM:+0100
TZOFFSETTO:+0200
TZNAME:CEST
DTSTART:20210328T010000
END:DAYLIGHT
BEGIN:STANDARD
TZOFFSETFROM:+0200
TZOFFSETTO:+0100
TZNAME:CET
DTSTART:20211031T010000
END:STANDARD
BEGIN:DAYLIGHT
TZOFFSETFROM:+0100
TZOFFSETTO:+0200
TZNAME:CEST
DTSTART:20220327T010000
END:DAYLIGHT
BEGIN:STANDARD
TZOFFSETFROM:+0200
TZOFFSETTO:+0100
TZNAME:CET
DTSTART:20221030T010000
END:STANDARD
BEGIN:DAYLIGHT
TZOFFSETFROM:+0100
TZOFFSETTO:+0200
TZNAME:CEST
DTSTART:20230326T010000
END:DAYLIGHT
BEGIN:STANDARD
TZOFFSETFROM:+0200
TZOFFSETTO:+0100
TZNAME:CET
DTSTART:20231029T010000
END:STANDARD
BEGIN:DAYLIGHT
TZOFFSETFROM:+0100
TZOFFSETTO:+0200
TZNAME:CEST
DTSTART:20240331T010000
END:DAYLIGHT
BEGIN:STANDARD
TZOFFSETFROM:+0200
TZOFFSETTO:+0100
TZNAME:CET
DTSTART:20241027T010000
END:STANDARD
END:VTIMEZONE
BEGIN:VEVENT
DTSTART;TZID=Europe/Amsterdam:20230319T153000
DTEND;TZID=Europe/Amsterdam:20230319T170000
DTSTAMP:20260425T031726
CREATED:20230126T220434Z
LAST-MODIFIED:20230217T230444Z
UID:10000086-1679239800-1679245200@bergkerkdeventer.nl
SUMMARY:"Via Crucis" - Huygens Vocaal Ensemble
DESCRIPTION:Op zondag 19 maart 15.30u zingt het Huygens Vocaal Ensemble het programma Via Crucis in de Bergkerk in Deventer. \n\n\n\nDe kruisweg (Via Crucis in het Latijn) is een onderdeel van de traditie van het christelijke Paasfeest. Het is een nabootsing in de vorm van schilderijen of beeldhouwwerken van de lijdensweg van Christus. Het Huygens vocaal Ensemble geeft in dit programma muzikale inhoud aan het lijdensverhaal van Christus. \n\n\n\nHVE volgt niet overal de officiële voorgeschreven gezangen en psalmen\, maar heeft gekozen voor een collectie motetten die goed bij de 14 kruisstatiën van de kruisweg passen. \n\n\n\nZij zingen koorwerken van Bach\, Bruckner\, Tijssen\, Kats-Chernin\, Poulenc\, Byrd en Gesualdo. Stuk voor stuk indrukwekkende composities die op de prachtige locaties schitterend zullen klinken. \n\n\n\nBijzonder in het programma is het werk ‘Mater’ van de Australische componiste Kats-Chernin. Een zes stemmige zetting van Stabat Mater. Voor zover bekend slechts eenmaal eerder uitgevoerd in Nederland. \n\n\n\nHet koor bestaat uit gedreven zangers\, die het beste uit zichzelf willen halen. Het koor heeft een transparante klank\, die goed tot zijn recht komt in de a-capella werken die het vaste bestanddeel van de programmering vormen. Het koor ziet zichzelf graag als ambassadeur voor de hedendaagse klassieke muziek maar put ook uit het traditionele repertoire. \n\n\n\nKaarten voor de concerten kosten € 15\,- (ex. Boekingskosten) in de voorverkoop en € 20\,- aan de kassa. Kaarten zijn te bestellen via de website van het koor: www.huygensmusic.nl
URL:https://bergkerkdeventer.nl/evenement/muziek-voor-de-passietijd-huygens-vocaal-ensemble/
CATEGORIES:Vocaal ensemble
ATTACH;FMTTYPE=image/jpeg:/wp-content/uploads/2023/01/HVE-Amsterdam-persfoto-klein.jpg
END:VEVENT
BEGIN:VEVENT
DTSTART;TZID=Europe/Amsterdam:20230217T200000
DTEND;TZID=Europe/Amsterdam:20230217T210000
DTSTAMP:20260425T031726
CREATED:20221031T102903Z
LAST-MODIFIED:20230126T135227Z
UID:10000046-1676664000-1676667600@bergkerkdeventer.nl
SUMMARY:Bergkerkconcert Wishful Singing - "In de gloria - 800 jaar spirituele muziek"
DESCRIPTION:  \n          \nhttps://eventix.shop/qty2qug4 \n800 jaar spirituele muziek! \nWishful Singing bestaat uit vijf klassiek geschoolde zangeressen met loepzuivere stemmen. Met grote passie en expressie zingen zij een brede waaier aan muziekstijlen\, uiteenlopend van werken uit de renaissance en de barok tot volksmuziek en close harmony. Ook voeren zij graag hedendaags repertoire uit van componisten als Kate Moore\, Joey Roukens en Steven Kamperman. \nDe afgelopen jaren betoverden de zangeressen van Wishful Singing hun publiek met met de tijdloze schoonheid van het gregoriaans. In samenwerking met Herman Finkers – een groot pleitbezorger van deze muziek – zong Wishful Singing de Missa en Vespers in Mysterium en bracht de cd In Mysterium uit. \nWishful Singing zingt contemplatieve en energieke kerkmuziek en verkent zo de wortels van de vroege meerstemmigheid\, die haar oorsprong vindt in het gregoriaanse gezang Ut queant laxis. Meer dan acht eeuwen muziek komen voorbij. Het programma beslaat een breed spectrum: van gregoriaanse en Byzantijnse gezangen uit de middeleeuwen tot close harmony en muziek van hedendaagse componisten als Ola Gjeilo en Duruflé. Naast kerkmuziek zingt het ensemble ook repertoire dat geïnspireerd is door de natuur. \nDit concert is mede mogelijk gemaakt door het Fonds Podiumkunsten. \nTickets verkrijgbaar via de Eventix webshop\, klik hiervoor op de link onderaan deze pagina.
URL:https://bergkerkdeventer.nl/evenement/bergkerkconcert-wishfull-singing-in-de-gloria-800-jaar-spirituele-muziek/
LOCATION:Bergkerk\, Bergkerkplein 14\, 7411 EN Deventer\, Deventer\, Netherlands
CATEGORIES:Vocaal ensemble
ATTACH;FMTTYPE=image/png:/wp-content/uploads/2022/10/Schermafbeelding-2022-11-30-om-18.41.46.png
ORGANIZER;CN="Events dEVENTer | Bergkerkconcerten":MAILTO:bergkerk@eventsdeventer.nl
END:VEVENT
BEGIN:VEVENT
DTSTART;TZID=Europe/Amsterdam:20221224T200000
DTEND;TZID=Europe/Amsterdam:20221224T210000
DTSTAMP:20260425T031726
CREATED:20221101T150421Z
LAST-MODIFIED:20221103T123339Z
UID:10000053-1671912000-1671915600@bergkerkdeventer.nl
SUMMARY:Kerstavondconcert - Coco Collectief
DESCRIPTION:De leden van het Coco Collectief vormen samen een hecht ensemble\, maar behouden binnen de groep hun solistische geluid. Zowel de zangeressen als de pianist hebben naast hun werk in het collectief een mooie carrière in binnen- en buitenland. \nHet Coco Collectief bestaat uit de zangeressen Kristina Bitenc\, Wendeline van Houten\, Merlijn Runia\, Jannelieke Schmidt\, Ellen Valkenburg en pianist Maurice Lammerts van Bueren. Inderdaad – vijf zangeressen en een pianist\, een hoogst ongebruikelijke combinatie: het Coco Collectief brengt klassiek lied in een nieuw jasje! Het collectief geeft regelmatig recitals en was onder meer te horen op het Internationaal Lied Festival Zeist\, Festival Classique en Wonderfeel\, en is met regelmaat te beluisteren op Radio 4.
URL:https://bergkerkdeventer.nl/evenement/kerstavondconcert-coco-collectief/
LOCATION:Bergkerk\, Bergkerkplein 14\, 7411 EN Deventer\, Deventer\, Netherlands
CATEGORIES:Vocaal ensemble
ATTACH;FMTTYPE=image/jpeg:/wp-content/uploads/2022/11/coco.jpg
ORGANIZER;CN="Stichting Zaterdagmiddagconcerten Deventer":MAILTO:info@zaterdagmiddagconcertendeventer.nl
END:VEVENT
BEGIN:VEVENT
DTSTART;TZID=Europe/Amsterdam:20221223T200000
DTEND;TZID=Europe/Amsterdam:20221223T210000
DTSTAMP:20260425T031726
CREATED:20221101T150112Z
LAST-MODIFIED:20221103T121855Z
UID:10000052-1671825600-1671829200@bergkerkdeventer.nl
SUMMARY:Bergkerkconcert "Kerst" - Geistliches Consort
DESCRIPTION:Nadere info volgt\, zie ook www.bergkerkconcerten.nl
URL:https://bergkerkdeventer.nl/evenement/bergkerkconcert-kerst-geistliches-consort/
LOCATION:Bergkerk\, Bergkerkplein 14\, 7411 EN Deventer\, Deventer\, Netherlands
CATEGORIES:Vocaal ensemble
ATTACH;FMTTYPE=image/jpeg:/wp-content/uploads/2022/11/geist.jpg
ORGANIZER;CN="Events dEVENTer | Bergkerkconcerten":MAILTO:bergkerk@eventsdeventer.nl
END:VEVENT
END:VCALENDAR