BEGIN:VCALENDAR
VERSION:2.0
PRODID:-//Bergkerk Deventer - ECPv6.15.11//NONSGML v1.0//EN
CALSCALE:GREGORIAN
METHOD:PUBLISH
X-ORIGINAL-URL:https://bergkerkdeventer.nl
X-WR-CALDESC:Evenementen voor Bergkerk Deventer
REFRESH-INTERVAL;VALUE=DURATION:PT1H
X-Robots-Tag:noindex
X-PUBLISHED-TTL:PT1H
BEGIN:VTIMEZONE
TZID:Europe/Amsterdam
BEGIN:DAYLIGHT
TZOFFSETFROM:+0100
TZOFFSETTO:+0200
TZNAME:CEST
DTSTART:20210328T010000
END:DAYLIGHT
BEGIN:STANDARD
TZOFFSETFROM:+0200
TZOFFSETTO:+0100
TZNAME:CET
DTSTART:20211031T010000
END:STANDARD
BEGIN:DAYLIGHT
TZOFFSETFROM:+0100
TZOFFSETTO:+0200
TZNAME:CEST
DTSTART:20220327T010000
END:DAYLIGHT
BEGIN:STANDARD
TZOFFSETFROM:+0200
TZOFFSETTO:+0100
TZNAME:CET
DTSTART:20221030T010000
END:STANDARD
BEGIN:DAYLIGHT
TZOFFSETFROM:+0100
TZOFFSETTO:+0200
TZNAME:CEST
DTSTART:20230326T010000
END:DAYLIGHT
BEGIN:STANDARD
TZOFFSETFROM:+0200
TZOFFSETTO:+0100
TZNAME:CET
DTSTART:20231029T010000
END:STANDARD
BEGIN:DAYLIGHT
TZOFFSETFROM:+0100
TZOFFSETTO:+0200
TZNAME:CEST
DTSTART:20240331T010000
END:DAYLIGHT
BEGIN:STANDARD
TZOFFSETFROM:+0200
TZOFFSETTO:+0100
TZNAME:CET
DTSTART:20241027T010000
END:STANDARD
BEGIN:DAYLIGHT
TZOFFSETFROM:+0100
TZOFFSETTO:+0200
TZNAME:CEST
DTSTART:20250330T010000
END:DAYLIGHT
BEGIN:STANDARD
TZOFFSETFROM:+0200
TZOFFSETTO:+0100
TZNAME:CET
DTSTART:20251026T010000
END:STANDARD
END:VTIMEZONE
BEGIN:VEVENT
DTSTART;TZID=Europe/Amsterdam:20240517T200000
DTEND;TZID=Europe/Amsterdam:20240517T213000
DTSTAMP:20260425T050221
CREATED:20240418T143612Z
LAST-MODIFIED:20240430T084453Z
UID:10000174-1715976000-1715981400@bergkerkdeventer.nl
SUMMARY:Ali Doğan Gönültaş
DESCRIPTION:Entree € 20.00 //  Klik hier voor ticketverkoop\n\n\n\nAli Doğan Gönültaş zingt en speelt tembur en akoestische gitaar. Hij werd geboren in Kiğı\, Oost-Anatolië\, in een gezin waar\, net als in de meeste alevitische families\, muziek een essentiële manier is om de geschiedenis van zijn volk over te dragen. Hij heeft meer dan tien jaar veldonderzoek gedaan en artistiek werk ontwikkeld om dan in 2022 het magnifieke debuutalbum “Kiğı” te produceren\, waarin hij pleit voor de talen en cultuur van tot zwijgen gebrachte minderheden in Turkije\, zoals de Koerden en Armeniërs. Gedurende 2023 trad hij op in meer dan 30 concerten in Spanje\, Frankrijk\, Portugal\, Zwitserland\, Zweden\, Duitsland en België\, naast optredens in Turkije\, op referentielocaties zoals Fundação Gulbenkian (Lissabon)\, Urkult Festival (Nasaker\, Zweden). )\, en Elbphilharmonie (Hamburg). In november 2023 erkenden de juryleden van de German Record Critics’ Award de productie als de Quarterly Critic’s Choice in de categorie Traditionele Etnische Muziek. Voor dit moedige werk ‘Kiğı’\, waarin hij pleit voor de talen en cultuur van tot zwijgen gebrachte minderheden in Turkije\, zoals de Koerden en Armeniërs\, werkte Ali Doğan tien jaar samen met de fascinerende band Ze Tîje. HIj werkte daarnaast in de archeologie in Anatolië en componeerde muziek voor film en werkte op televisie met een muzikaal thema. In het voorjaar van 2024 neemt Ali zijn tweede soloalbum op.
URL:https://bergkerkdeventer.nl/evenement/ali-dogan-gonultas/
CATEGORIES:Wereldmuziek
ATTACH;FMTTYPE=image/png:/wp-content/uploads/2024/04/ali2.png
END:VEVENT
BEGIN:VEVENT
DTSTART;TZID=Europe/Amsterdam:20221125T200000
DTEND;TZID=Europe/Amsterdam:20221125T210000
DTSTAMP:20260425T050221
CREATED:20221103T122315Z
LAST-MODIFIED:20221103T153718Z
UID:10000063-1669406400-1669410000@bergkerkdeventer.nl
SUMMARY:Bergkerkconcert Emrah Oguztürk Trio
DESCRIPTION:Het één-na-laatste Bergkerkconcert van het jaar op vrijdagavond 25 november 2022 zal worden verzorgd door Emrah Oguztürk Trio\, onder het motto ‘Snaren en blazen\, Emrah blaast briesjes uit Anatolië’.  \n Bij dit Bergkerkconcert zullen we weer worden meegenomen naar de sferen van het Nabije Oosten. Tijdens het concert zal traditionele muziek uit Anatolië\, Armenië en Koerdistan in de Bergkerk klinken. \nEmrah Oguztürk\, geboren in de regio en sinds 2011 woonachtig in Deventer\, bespeelt verschillende traditionele Oosterse blaasinstrumenten zoals de kaval\, duduk en de mey en wordt daarbij begeleid op diverse snaarinstrumenten door Orkun Ağır (bağlama\, tambur) en Devrim Demir (ud\, gitaar). Na zijn eerste concert in 2013 in de Bergkerk brengt Emrah Oğuztürk dit keer voornamelijk liederen van zijn eerst uitgebrachte solo album (november 2018) Roye Ma – Our Soul. \nTickets:\n€ 10 per stuk\, jongeren tot 27 jaar € 5\, vluchtelingen/bewoners AZC € 2\,50. \nHet concert zal ook via livestream gratis te bekijken zijn op vrijdagavond 25 november vanaf 20.00 uur op www.bergkerkconcerten.nl. \nDeur open 19.30 | Aanvang concert 20.00 | Speelduur +/- 60 min.
URL:https://bergkerkdeventer.nl/evenement/bergkerkconcert-emrah-oguzturk-trio/
CATEGORIES:Wereldmuziek
ATTACH;FMTTYPE=image/jpeg:/wp-content/uploads/2022/11/emrah_klein.jpg
ORGANIZER;CN="Events dEVENTer | Bergkerkconcerten":MAILTO:bergkerk@eventsdeventer.nl
END:VEVENT
END:VCALENDAR