BEGIN:VCALENDAR
VERSION:2.0
PRODID:-//Bergkerk Deventer - ECPv6.15.11//NONSGML v1.0//EN
CALSCALE:GREGORIAN
METHOD:PUBLISH
X-ORIGINAL-URL:https://bergkerkdeventer.nl
X-WR-CALDESC:Evenementen voor Bergkerk Deventer
REFRESH-INTERVAL;VALUE=DURATION:PT1H
X-Robots-Tag:noindex
X-PUBLISHED-TTL:PT1H
BEGIN:VTIMEZONE
TZID:Europe/Amsterdam
BEGIN:DAYLIGHT
TZOFFSETFROM:+0100
TZOFFSETTO:+0200
TZNAME:CEST
DTSTART:20240331T010000
END:DAYLIGHT
BEGIN:STANDARD
TZOFFSETFROM:+0200
TZOFFSETTO:+0100
TZNAME:CET
DTSTART:20241027T010000
END:STANDARD
BEGIN:DAYLIGHT
TZOFFSETFROM:+0100
TZOFFSETTO:+0200
TZNAME:CEST
DTSTART:20250330T010000
END:DAYLIGHT
BEGIN:STANDARD
TZOFFSETFROM:+0200
TZOFFSETTO:+0100
TZNAME:CET
DTSTART:20251026T010000
END:STANDARD
BEGIN:DAYLIGHT
TZOFFSETFROM:+0100
TZOFFSETTO:+0200
TZNAME:CEST
DTSTART:20260329T010000
END:DAYLIGHT
BEGIN:STANDARD
TZOFFSETFROM:+0200
TZOFFSETTO:+0100
TZNAME:CET
DTSTART:20261025T010000
END:STANDARD
END:VTIMEZONE
BEGIN:VEVENT
DTSTART;TZID=Europe/Amsterdam:20250308T190000
DTEND;TZID=Europe/Amsterdam:20250308T210000
DTSTAMP:20260425T175940
CREATED:20250121T111648Z
LAST-MODIFIED:20250124T193857Z
UID:10000227-1741460400-1741467600@bergkerkdeventer.nl
SUMMARY:Feminine rising! - Daniëlle Uriël & Melanie Gerbers
DESCRIPTION:€ 45 / Klik hier voor ticketverkoop\n\n\n\n \n\n\n\n– 8 MAART INTERNATIONALE VROUWENDAG – \n\n\n\nOm de vrouwelijke energie in jezelf aan te wakkeren\, let that feminine energy rise! \n\n\n\nEen bijzondere reis naar de kern van de Divine Feminine energie. We keren terug naar het vrouwelijke principe van zijn\, voelen en ontvangen. \n\n\n\nMet zoveel trots introduceer ik jullie een volgend Bergkerk Concert en dit keer volledig in het teken van de vrouw. Want met vrouwen samen komen\, dat is en blijft zo helend en zoiets bijzonders! \n\n\n\nDeze avond komen we samen om de kracht van de Divine Feminine te vieren en te versterken. Ons vrouw-zijn te vieren en te eren. \n\n\n\nZachte\, diepe Yin houdingen om je te verbinden met je lichaam en je vrouwelijke energie die zacht is\, vol overgave\, in combinatie met Womb Wellness Yoga elementen om diepe verbinding met onze sacred energy te voelen en de diepe kracht van je vrouwelijkheid te ervaren. \n\n\n\nDe magische klanken van Daniëlle’s harp zullen ons door deze reis heen begeleiden\, een helende muzikale ervaring die het hart opent en je diep in je ziel raakt! Haar muziek laat je voelen hoe betoverend en magisch je bent\, vol licht en liefde. \n\n\n\nNa de Yoga flowen we langzaam door naar een ligconcert waar je de helende klanken mag ervaren en je je mag laten raken!
URL:https://bergkerkdeventer.nl/evenement/feminine-rising/
CATEGORIES:Yogaconcert
ATTACH;FMTTYPE=image/jpeg:/wp-content/uploads/2025/01/femininerising-2.jpg
ORGANIZER;CN="Omikamistudio":MAILTO:info@omikamistudio.nl
END:VEVENT
END:VCALENDAR