BEGIN:VCALENDAR
VERSION:2.0
PRODID:-//Bergkerk Deventer - ECPv6.15.11//NONSGML v1.0//EN
CALSCALE:GREGORIAN
METHOD:PUBLISH
X-WR-CALNAME:Bergkerk Deventer
X-ORIGINAL-URL:https://bergkerkdeventer.nl
X-WR-CALDESC:Evenementen voor Bergkerk Deventer
REFRESH-INTERVAL;VALUE=DURATION:PT1H
X-Robots-Tag:noindex
X-PUBLISHED-TTL:PT1H
BEGIN:VTIMEZONE
TZID:Europe/Amsterdam
BEGIN:DAYLIGHT
TZOFFSETFROM:+0100
TZOFFSETTO:+0200
TZNAME:CEST
DTSTART:20240331T010000
END:DAYLIGHT
BEGIN:STANDARD
TZOFFSETFROM:+0200
TZOFFSETTO:+0100
TZNAME:CET
DTSTART:20241027T010000
END:STANDARD
BEGIN:DAYLIGHT
TZOFFSETFROM:+0100
TZOFFSETTO:+0200
TZNAME:CEST
DTSTART:20250330T010000
END:DAYLIGHT
BEGIN:STANDARD
TZOFFSETFROM:+0200
TZOFFSETTO:+0100
TZNAME:CET
DTSTART:20251026T010000
END:STANDARD
BEGIN:DAYLIGHT
TZOFFSETFROM:+0100
TZOFFSETTO:+0200
TZNAME:CEST
DTSTART:20260329T010000
END:DAYLIGHT
BEGIN:STANDARD
TZOFFSETFROM:+0200
TZOFFSETTO:+0100
TZNAME:CET
DTSTART:20261025T010000
END:STANDARD
BEGIN:DAYLIGHT
TZOFFSETFROM:+0100
TZOFFSETTO:+0200
TZNAME:CEST
DTSTART:20270328T010000
END:DAYLIGHT
BEGIN:STANDARD
TZOFFSETFROM:+0200
TZOFFSETTO:+0100
TZNAME:CET
DTSTART:20271031T010000
END:STANDARD
END:VTIMEZONE
BEGIN:VEVENT
DTSTART;TZID=Europe/Amsterdam:20251222T190000
DTEND;TZID=Europe/Amsterdam:20251222T210000
DTSTAMP:20260425T132010
CREATED:20250921T200708Z
LAST-MODIFIED:20251007T133754Z
UID:10000282-1766430000-1766437200@bergkerkdeventer.nl
SUMMARY:Daniëlle Uriël & Melanie Gerbers - 'Midwinter Magic ❄ Yin & Harp Concert'
DESCRIPTION:Entree € 45  ||  Klik hier voor ticketverkoop\n\n\n\n \n\n\n\nOhhhh wat heeerlijk dit 😍 \n\n\n\nDit jaar vieren we samen de winter\, een magische tijd… de Winter Solstice\, de langste nacht\, de donkerste dag\, maar tegelijkertijd ook de terugkeer van het licht! \n\n\n\nEn er is denk ik maar één plek waar we zo’n bijzondere avond samen kunnen beleven: de Bergkerk in Deventer. Iedere keer opnieuw verwondert deze locatie ons\, zo prachtig en sfeervol! \n\n\n\nNa meerdere Yoga Concerten samen met Daniëlle Uriël weten we inmiddels hoe bijzonder deze ervaring is. Daniëlle begeleidt de Yoga met haar harp en haar klanken nemen ons mee op een diepe reis naar binnen. Een avond van diepe ontspanning en verstilling. \n\n\n\nVerwacht een rustige en toegankelijke Yin yoga sessie waarbij iedereen mee kan doen. Yin werkt niet alleen op spieren en gewrichten\, maar ook op je energiebanen en brengt balans in je hele systeem. Het helpt je spanning los te laten en dieper te zakken in jezelf. \n\n\n\nEn terwijl jij lekker ontspant in zachte Yin houdingen\, zal Daniëlle met haar harp en zang een droom van licht en klank om je heen brengen. Muziek kan echt iets raken wat woorden niet kunnen\, een ervaring die je hart zal openen! \n\n\n\nJe bent altijd vrij om naar je eigen lichaam te luisteren en houdingen aan te passen of een andere optie te kiezen. Neem je eigen matje en dekentje mee. De Bergkerk heeft vloerverwarming\, maar een lekkere dikke trui is zeker fijn. Heb je geen matje\, dan kun je er een bij mij reserveren\, ik heb er vijftien klaarstaan. Stuur me daarvoor gewoon een berichtje of een mailtje. \n\n\n\nWe gaan er een hele mooie prachtige Winterse Editie van maken! \n\n\n\nKom samen met ons de Winter Solstice vieren ❄️💎✨️🪔
URL:https://bergkerkdeventer.nl/evenement/danielle-uriel-melanie-gerbers-midwinter-magic-%e2%9d%84-yin-harp-concert/
CATEGORIES:Yogaconcert
ATTACH;FMTTYPE=image/png:/wp-content/uploads/2025/09/winter.png
ORGANIZER;CN="Omikamistudio":MAILTO:info@omikamistudio.nl
END:VEVENT
BEGIN:VEVENT
DTSTART;TZID=Europe/Amsterdam:20260620T190000
DTEND;TZID=Europe/Amsterdam:20260620T210000
DTSTAMP:20260425T132010
CREATED:20260418T075502Z
LAST-MODIFIED:20260418T080208Z
UID:10000316-1781982000-1781989200@bergkerkdeventer.nl
SUMMARY:Yin & Sound - Aluna Omnium ♥︎ A Solstice of Heart Connection
DESCRIPTION:Entree € 49\,80  ||  Klik hier voor ticketverkoop\n\n\n\n \n\n\n\nMet trots introduceer ik weer een nieuw event in de Bergkerk. Dit keer vieren we de Zomer Zonnewende én Internationale Yogadag! Een bijzondere dag\, de dag met het meeste licht. Vanuit de TCM is dit de tijd van het Vuur-Element de tijd van het Hart! \n\n\n\nDe magic van deze avond ligt in de samenwerking tussen Yin Yoga en Sound Healing. Twee eeuwenoude practices: Yin Yoga nodigt je uit om diep te ontspannen in langdurige\, passieve houdingen die de diepere lagen van je lichaam raken. Het helpt fysieke spanning los te laten\, je gewrichten soepel te maken en ruimte te creëren in body\, mind & soul. \n\n\n\nMet diepe dankbaarheid begeleid ik deze avond samen met Aluna Omnium. Met haar Alchemy bowls\, Kristallen Waterharp en Eenheidsgong creëert zij een veld van puur licht en diepe resonantie. \n\n\n\nDe klanken werken als een kosmische ademhaling. Ze brengen vastgezette energie in beweging\, kalmeren het zenuwstelsel en nodigen je uit om terug te keren naar jouw pure bronenergie. \n\n\n\nWanneer Yin Yoga en Sound Healing samensmelten\, versterken ze elkaar. De passieve stretches openen je lichaam\, terwijl de trillingen van de klanken je hart en zenuwstelsel verzachten. Zo ontstaat een diepe\, betoverende ervaring die fysiek en energetisch resoneert. Een zachte maar krachtige uitnodiging om je hart te openen en te verbinden. \n\n\n\nHet gaat weer pure magie worden\, met het licht van buiten door de ramen van de Bergkerk. Steeds opnieuw is het weer zo’n ontroerende avond en ik kijk weer uit naar deze editie! Deze avond is alleen voor vrouwen en je hebt geen enkele ervaring nodig. Of je nu al vaker Yin Yoga hebt gedaan of dat het je aller eerste keer is iedereen is welkom. \n\n\n\nJe neemt naar dit event je eigen matje\, dekentje en eventueel kussentje mee. Het zal vast warm zijn in deze tijd maar een dekentje kan ervoor zorgen dat je nog meer kunt ontspannen.
URL:https://bergkerkdeventer.nl/evenement/yin-sound-aluna-omnium-%e2%99%a5%ef%b8%8e-a-solstice-of-heart-connection/
CATEGORIES:Yogaconcert
ATTACH;FMTTYPE=image/png:/wp-content/uploads/2026/04/Schermafbeelding-2026-04-18-100147.png
ORGANIZER;CN="Omikamistudio":MAILTO:info@omikamistudio.nl
END:VEVENT
END:VCALENDAR