BEGIN:VCALENDAR
VERSION:2.0
PRODID:-//Bergkerk Deventer - ECPv6.15.11//NONSGML v1.0//EN
CALSCALE:GREGORIAN
METHOD:PUBLISH
X-WR-CALNAME:Bergkerk Deventer
X-ORIGINAL-URL:https://bergkerkdeventer.nl
X-WR-CALDESC:Evenementen voor Bergkerk Deventer
REFRESH-INTERVAL;VALUE=DURATION:PT1H
X-Robots-Tag:noindex
X-PUBLISHED-TTL:PT1H
BEGIN:VTIMEZONE
TZID:Europe/Amsterdam
BEGIN:DAYLIGHT
TZOFFSETFROM:+0100
TZOFFSETTO:+0200
TZNAME:CEST
DTSTART:20240331T010000
END:DAYLIGHT
BEGIN:STANDARD
TZOFFSETFROM:+0200
TZOFFSETTO:+0100
TZNAME:CET
DTSTART:20241027T010000
END:STANDARD
BEGIN:DAYLIGHT
TZOFFSETFROM:+0100
TZOFFSETTO:+0200
TZNAME:CEST
DTSTART:20250330T010000
END:DAYLIGHT
BEGIN:STANDARD
TZOFFSETFROM:+0200
TZOFFSETTO:+0100
TZNAME:CET
DTSTART:20251026T010000
END:STANDARD
BEGIN:DAYLIGHT
TZOFFSETFROM:+0100
TZOFFSETTO:+0200
TZNAME:CEST
DTSTART:20260329T010000
END:DAYLIGHT
BEGIN:STANDARD
TZOFFSETFROM:+0200
TZOFFSETTO:+0100
TZNAME:CET
DTSTART:20261025T010000
END:STANDARD
END:VTIMEZONE
BEGIN:VEVENT
DTSTART;TZID=Europe/Amsterdam:20250111T150000
DTEND;TZID=Europe/Amsterdam:20250111T160000
DTSTAMP:20260425T220829
CREATED:20241102T182835Z
LAST-MODIFIED:20241102T182836Z
UID:10000204-1736607600-1736611200@bergkerkdeventer.nl
SUMMARY:Nieuwjaarsconcert - Domstad Blazers Ensemble
DESCRIPTION:Het Domstad Blazers Ensemble o.l.v. Leon Bosch \n\n\n\nProgramma: \n\n\n\n\nPavane pour une infante defunté -Maurice Ravel (arrangement Mark Popkin)\n\n\n\nEl Sombrero Trois Picos  -Manuel de Falla (arrangement Willem Luijt)\n\n\n\nTosca -Giacomo Puccini (arrangement Willem Luijt)\n\n\n\n\nHet Domstad Blazers Ensemble is  ruim 40 jaar geleden opgericht door enkele blazers uit de Utrechtse Studentenorkesten en het Nederlands Studenten Orkest. Het is uitgegroeid tot een professioneel werkend ensemble van gedreven amateur musici. Dirigent is Leon Bosch. \n\n\n\nHet Domstad Blazers Ensemble heeft een basisbezetting van hobo’s\, klarinetten\, hoorns en fagotten\, aangevuld met fluiten en een contrabas. Het repertoire bestrijkt zowel de muziek voor traditioneel blaasoctet\, zoals de serenades van Mozart\, Krommer en Beethoven\, als werken voor groter blazersensemble\, zoals bijvoorbeeld Symphonietta van Van Otterloo. Maar ook muziek met strijkers\, waaronder de beroemde Blazers Serenade van Dvorak\, behoort tot de aantrekkelijke muziek voor blazersensemble. Daarnaast waagt het zich aan grote orkestwerken in bewerking voor blazersensemble\, zoals de 1-ste en 7-de symfonie van Beethoven en de opera’s Tosca (Puccini)\, Carmen (Bizet) en de Die verkaufte Braut (Smetena). Ook voert het ensemble werken uit van eigen ensembleleden\, zoals de ‘Dolomieten Serenade’ van voormalig dirigent Bas Pollard\, en de ‘Vlaamse miniaturen’ van voormalig hoornist Arie van Hoek. \n\n\n\nProgramma details: \n\n\n\nPavane pour une infante defunté -Maurice Ravel.  Een langzame\, serieuze\, nostalgische dans opgedragen aan prinses de Polignac.  \n\n\n\nVan Manuel de Falla klinkt een suite uit het geliefde ballet El sombrero de tres picos. In de inleiding van nog geen anderhalve minuut horen we ook castagnetten en Olé geroep!  De Spaanse componist Falla vond inspiratie in Andalusische volksmuziek maar ook in Russen als Stravinsky en Rimski-Korsakov en een beetje Tsjaikovski. Verfijnde instrumentatie\, Spaanse klankkleur\, harmonische rijkdom en opzwepende ritmen kenmerken deze afwisselende en vervoerende muziek.  \n\n\n\nTosca- Giacomo Puccini.  Het beklemmende plot in combinatie met Puccini’s hartverscheurende en dramatische muziek maken ‘Tosca’ tot een van de meest geliefde opera’s ooit. Dirigent Leon Bosch\, klarinetsolist tijdens de uitvoering van Tosca bij de Nationale opera in 2022\, vertelt in het kort tussen de akte’s het spannende verhaal.
URL:https://bergkerkdeventer.nl/evenement/nieuwjaarsconcert-domstad-blazers-ensemble/
CATEGORIES:Zaterdagmiddagconcert
ATTACH;FMTTYPE=image/png:/wp-content/uploads/2024/11/dsb.png
ORGANIZER;CN="Stichting Zaterdagmiddagconcerten Deventer":MAILTO:info@zaterdagmiddagconcertendeventer.nl
END:VEVENT
END:VCALENDAR