BEGIN:VCALENDAR
VERSION:2.0
PRODID:-//Bergkerk Deventer - ECPv6.15.11//NONSGML v1.0//EN
CALSCALE:GREGORIAN
METHOD:PUBLISH
X-WR-CALNAME:Bergkerk Deventer
X-ORIGINAL-URL:https://bergkerkdeventer.nl
X-WR-CALDESC:Evenementen voor Bergkerk Deventer
REFRESH-INTERVAL;VALUE=DURATION:PT1H
X-Robots-Tag:noindex
X-PUBLISHED-TTL:PT1H
BEGIN:VTIMEZONE
TZID:Europe/Amsterdam
BEGIN:DAYLIGHT
TZOFFSETFROM:+0100
TZOFFSETTO:+0200
TZNAME:CEST
DTSTART:20250330T010000
END:DAYLIGHT
BEGIN:STANDARD
TZOFFSETFROM:+0200
TZOFFSETTO:+0100
TZNAME:CET
DTSTART:20251026T010000
END:STANDARD
BEGIN:DAYLIGHT
TZOFFSETFROM:+0100
TZOFFSETTO:+0200
TZNAME:CEST
DTSTART:20260329T010000
END:DAYLIGHT
BEGIN:STANDARD
TZOFFSETFROM:+0200
TZOFFSETTO:+0100
TZNAME:CET
DTSTART:20261025T010000
END:STANDARD
BEGIN:DAYLIGHT
TZOFFSETFROM:+0100
TZOFFSETTO:+0200
TZNAME:CEST
DTSTART:20270328T010000
END:DAYLIGHT
BEGIN:STANDARD
TZOFFSETFROM:+0200
TZOFFSETTO:+0100
TZNAME:CET
DTSTART:20271031T010000
END:STANDARD
END:VTIMEZONE
BEGIN:VEVENT
DTSTART;TZID=Europe/Amsterdam:20260110T150000
DTEND;TZID=Europe/Amsterdam:20260110T160000
DTSTAMP:20260425T033758
CREATED:20251107T144947Z
LAST-MODIFIED:20251107T165706Z
UID:10000289-1768057200-1768060800@bergkerkdeventer.nl
SUMMARY:Nieuwjaarsconcert met het Nymphéas Trombone Kwartet
DESCRIPTION:Aan het einde van zijn leven schilderde de Franse impressionist Claude Monet een aantal werken die samen de Nymphéas-serie (waterlelies) genoemd worden. De voorliefde voor het Franse impressionisme die de trombonisten van het Nymphéas Trombone Quartet delen\, zorgt ervoor dat zij deze naam met trots dragen. \n\n\n\nHet kwartet bestaat uit Niels Jacobs (1999)\, Wilco Kamminga (1998)\, Arjan Linker (2000) en Tim Ouwejan (2000)\, die elkaar in 2015 ontmoetten. Vanaf 2018 studeerden de vier gelijktijdig aan het Conservatorium van Amsterdam in de gerenommeerde tromboneklas van Jörgen van Rijen\, Pierre Volders\, Remko de Jager en Bart van Lier. Vanwege een sterke muzikale en vriendschappelijke connectie besloten ze kort daarna samen het Nymphéas Trombone Quartet te vormen. \n\n\n\nDit wordt niet een concert zoals u dat gewend bent. Nymphéas gebruikt geen van tevoren vastgesteld programma\, maar ze besluit op het podium wat ze gaan spelen\, samen met u!   \n\n\n\nOp het menu staat een groot scala aan muziek: van renaissance tot romantiek\, van impressionisme tot jazz\, en nog meer. Zij trekken alles wat ze hebben uit de kast om een concert in elkaar te zetten dat op maat gemaakt is voor de fijnproevers in de zaal. Dus ga lekker zitten en laat u  compleet verrassen. Het wordt in ieder geval een unieke ervaring! \n\n\n\nHet kwartet speelde onder andere op het Prinsengrachtconcert\, in het Concertgebouw\, op het Grachtenfestival en op nationale televisie bij Podium Witteman en het Lenteconcert van AVROTROS. Naast de vele optredens heeft het kwartet ook een cd opgenomen met Frans impressionistisch werk en Nederlandse nieuwe muziek met electronics: Orange\, Blue and Pink. De leden uit het trombonekwartet bekleden vaste posities in het Radio Filharmonisch Orkest en het Balletorkest. Daarnaast zijn ze regelmatig actief in onder meer het Koninklijk Concertgebouworkest\, het Rotterdams Philharmonisch Orkest\, het Nederlands Philharmonisch Orkest\, en het Nederlands Blazers Ensemble\, en ondernemen onafhankelijk van elkaar projecten met eigen ensembles en initiatieven zoals het Nachtlicht Ensemble en het Sweelinck Koperkwintet.
URL:https://bergkerkdeventer.nl/evenement/nieuwjaarsconcert-met-het-nympheas-trombone-kwartet/
CATEGORIES:Zaterdagmiddagconcert
ATTACH;FMTTYPE=image/png:/wp-content/uploads/2025/11/Schermafbeelding-2025-11-07-154617.png
ORGANIZER;CN="Stichting Zaterdagmiddagconcerten Deventer":MAILTO:info@zaterdagmiddagconcertendeventer.nl
END:VEVENT
END:VCALENDAR