BEGIN:VCALENDAR
VERSION:2.0
PRODID:-//Bergkerk Deventer - ECPv6.15.11//NONSGML v1.0//EN
CALSCALE:GREGORIAN
METHOD:PUBLISH
X-ORIGINAL-URL:https://bergkerkdeventer.nl
X-WR-CALDESC:Evenementen voor Bergkerk Deventer
REFRESH-INTERVAL;VALUE=DURATION:PT1H
X-Robots-Tag:noindex
X-PUBLISHED-TTL:PT1H
BEGIN:VTIMEZONE
TZID:Europe/Amsterdam
BEGIN:DAYLIGHT
TZOFFSETFROM:+0100
TZOFFSETTO:+0200
TZNAME:CEST
DTSTART:20250330T010000
END:DAYLIGHT
BEGIN:STANDARD
TZOFFSETFROM:+0200
TZOFFSETTO:+0100
TZNAME:CET
DTSTART:20251026T010000
END:STANDARD
BEGIN:DAYLIGHT
TZOFFSETFROM:+0100
TZOFFSETTO:+0200
TZNAME:CEST
DTSTART:20260329T010000
END:DAYLIGHT
BEGIN:STANDARD
TZOFFSETFROM:+0200
TZOFFSETTO:+0100
TZNAME:CET
DTSTART:20261025T010000
END:STANDARD
BEGIN:DAYLIGHT
TZOFFSETFROM:+0100
TZOFFSETTO:+0200
TZNAME:CEST
DTSTART:20270328T010000
END:DAYLIGHT
BEGIN:STANDARD
TZOFFSETFROM:+0200
TZOFFSETTO:+0100
TZNAME:CET
DTSTART:20271031T010000
END:STANDARD
END:VTIMEZONE
BEGIN:VEVENT
DTSTART;TZID=Europe/Amsterdam:20260321T150000
DTEND;TZID=Europe/Amsterdam:20260321T160000
DTSTAMP:20260425T002306
CREATED:20251107T150006Z
LAST-MODIFIED:20251125T204828Z
UID:10000291-1774105200-1774108800@bergkerkdeventer.nl
SUMMARY:Jan Kleinbussink & sopraan Johannette Zomer - Bach Orgelconcert
DESCRIPTION:Jaarlijks orgelconcert op het Holtgräve-orgel uit 1843 in de Bergkerk door Jan Kleinbussink ter herdenking van de geboortedag van J.S. Bach op 21 maart 1685 \n\n\n\nJan Kleinbussink studeerde orgel\, piano\, muziektheorie en koor- en orkestdirectie. In 1976 behaalde hij de de Prix d ‘excellence cum laude voor orgel\, met onderscheiding voor solospel en improvisatie. Daarna vervolgde hij zijn studie in Wenen bij Prof. Anton Heiller en studeerde hij klavecimbel bij Ton Koopman te Amsterdam. Ook deze studie werd met een einddiploma afgerond. Meer en meer volgde een specialisatie op het gebied van de muziektheorie en uitvoeringspraktijk van de renaissance- en barokmuziek. \n\n\n\nJan Kleinbussink werkte vanaf de oprichting gedurende 15 jaar als continuospeler bij het vermaarde Amsterdam Baroque Orchestra en Choir onder leiding van Ton Koopman. Als zodanig was hij intensief betrokken bij prestigieuze opname-project van alle Bach Cantates. \n\n\n\nHij is inmiddels aan de Academie der Kunsten/Universiteit Leiden verbonden voor het begeleiden van promovendi in het DocARTES-traject (doctoraal promotie in de Kunsten) en is zelf bezig met promoveren\, naast het voortzetten van zijn werkzaamheden als musicus – organist\, klavecinist en dirigent. Na 43 dienstjaren nam hij op 8 september 2013 afscheid als cantor-organist aan de Grote Kerk. \n\n\n\nNa eerst enige jaren als microbiologisch analiste te hebben gewerkt\, begon sopraan Johannette Zomer haar zangopleiding bij Charles van Tassel aan het Sweelinck Conservatorium te Amsterdam\, alwaar ze haar zij haar diploma Uitvoerend Musicus behaalde. Sindsdien ontving ze coaching van Diane Forlano (London) en Marlena Malas (New York). \n\n\n\nHaar operadebuut maakte zij bij de Nationale Reisopera in oktober 1996\, toen ze de page Tebaldo vertolkte in Guiseppe Verdi’s Don Carlo. Sindsdien stond zij meerdere malen op de operabühne in rollen als Belinda\, Pamina\, Euridice\, Dalinda en Ilia maar ook als Mélisande en Amanda (uit Ligeti’s ‘Le Grand Macabre’).
URL:https://bergkerkdeventer.nl/evenement/bach-orgelconcert-door-jan-klein-bussink-met-sopraan-johannette-zomer/
CATEGORIES:Zaterdagmiddagconcert
ATTACH;FMTTYPE=image/jpeg:/wp-content/uploads/2025/11/orgelrechtsuitsnede1.jpg
ORGANIZER;CN="Stichting Zaterdagmiddagconcerten Deventer":MAILTO:info@zaterdagmiddagconcertendeventer.nl
END:VEVENT
END:VCALENDAR